BEGIN:VCALENDAR
VERSION:2.0
PRODID:-//YouthWell - ECPv6.15.20//NONSGML v1.0//EN
CALSCALE:GREGORIAN
METHOD:PUBLISH
X-WR-CALNAME:YouthWell
X-ORIGINAL-URL:https://youthwell.org
X-WR-CALDESC:Events for YouthWell
REFRESH-INTERVAL;VALUE=DURATION:PT1H
X-Robots-Tag:noindex
X-PUBLISHED-TTL:PT1H
BEGIN:VTIMEZONE
TZID:America/Los_Angeles
BEGIN:DAYLIGHT
TZOFFSETFROM:-0800
TZOFFSETTO:-0700
TZNAME:PDT
DTSTART:20250309T100000
END:DAYLIGHT
BEGIN:STANDARD
TZOFFSETFROM:-0700
TZOFFSETTO:-0800
TZNAME:PST
DTSTART:20251102T090000
END:STANDARD
BEGIN:DAYLIGHT
TZOFFSETFROM:-0800
TZOFFSETTO:-0700
TZNAME:PDT
DTSTART:20260308T100000
END:DAYLIGHT
BEGIN:STANDARD
TZOFFSETFROM:-0700
TZOFFSETTO:-0800
TZNAME:PST
DTSTART:20261101T090000
END:STANDARD
BEGIN:DAYLIGHT
TZOFFSETFROM:-0800
TZOFFSETTO:-0700
TZNAME:PDT
DTSTART:20270314T100000
END:DAYLIGHT
BEGIN:STANDARD
TZOFFSETFROM:-0700
TZOFFSETTO:-0800
TZNAME:PST
DTSTART:20271107T090000
END:STANDARD
END:VTIMEZONE
BEGIN:VEVENT
DTSTART;TZID=America/Los_Angeles:20260130T090000
DTEND;TZID=America/Los_Angeles:20260130T150000
DTSTAMP:20260421T014216
CREATED:20260106T202530Z
LAST-MODIFIED:20260106T202530Z
UID:10027187-1769763600-1769785200@youthwell.org
SUMMARY:Clear Is Kind - Youth Linkages Network In-Person Retreat\, Lompoc
DESCRIPTION:In mental health work\, clarity is a form of kindness. This session introduces the Clear Is Kind framework – a practical\, compassionate approach to communication that helps working professionals protect their capacity\, set healthy boundaries\, and build trust in their work with clients\, colleagues\, and systems. \n\nWHEN: FRIDAY\, JANUARY 30th from 9:00-3:00pm\nWHERE: Dick DeWees Community Center\, 1120 W Ocean Ave\, Lompoc\, CA 93436\nREGISTRATION: REQUIRED > by Jan 22nd\nCOST: $20 (includes lunch\, materials\, speakers — pay using reg form)\nQUESTIONS: <programs@youthwell.org> OR 805.770.1239\nHOST: YouthWell\, SBC Behavioral Wellness\, SBC Education Office\n\nThis one-day\, in-person Youth Linkages Network Retreat will explore tools for navigating tough conversations\, listening in ways that build trust\, and using productivity strategies that help busy teams stay focused on what matters.
URL:https://youthwell.org/event/clear-is-kind-youth-linkages-network-in-person-retreat-lompoc/
LOCATION:Dick DeWees Center\, 1120 W Ocean Ave\, Lompoc\, 93436\, United States
CATEGORIES:Workshops, Trainings, Speakers,youthwell newsletter feature
ATTACH;FMTTYPE=image/png:https://youthwell.org/wp-content/uploads/2022/10/Logo_YouthWell.png
ORGANIZER;CN="YouthWell":MAILTO:outreach@youthwell.org
END:VEVENT
END:VCALENDAR