BEGIN:VCALENDAR
VERSION:2.0
PRODID:-//YouthWell - ECPv6.15.20//NONSGML v1.0//EN
CALSCALE:GREGORIAN
METHOD:PUBLISH
X-ORIGINAL-URL:https://youthwell.org
X-WR-CALDESC:Events for YouthWell
REFRESH-INTERVAL;VALUE=DURATION:PT1H
X-Robots-Tag:noindex
X-PUBLISHED-TTL:PT1H
BEGIN:VTIMEZONE
TZID:America/Los_Angeles
BEGIN:DAYLIGHT
TZOFFSETFROM:-0800
TZOFFSETTO:-0700
TZNAME:PDT
DTSTART:20240310T100000
END:DAYLIGHT
BEGIN:STANDARD
TZOFFSETFROM:-0700
TZOFFSETTO:-0800
TZNAME:PST
DTSTART:20241103T090000
END:STANDARD
BEGIN:DAYLIGHT
TZOFFSETFROM:-0800
TZOFFSETTO:-0700
TZNAME:PDT
DTSTART:20250309T100000
END:DAYLIGHT
BEGIN:STANDARD
TZOFFSETFROM:-0700
TZOFFSETTO:-0800
TZNAME:PST
DTSTART:20251102T090000
END:STANDARD
BEGIN:DAYLIGHT
TZOFFSETFROM:-0800
TZOFFSETTO:-0700
TZNAME:PDT
DTSTART:20260308T100000
END:DAYLIGHT
BEGIN:STANDARD
TZOFFSETFROM:-0700
TZOFFSETTO:-0800
TZNAME:PST
DTSTART:20261101T090000
END:STANDARD
END:VTIMEZONE
BEGIN:VEVENT
DTSTART;TZID=America/Los_Angeles:20250408T160000
DTEND;TZID=America/Los_Angeles:20250408T173000
DTSTAMP:20260420T154841
CREATED:20250108T003238Z
LAST-MODIFIED:20250124T193055Z
UID:10022829-1744128000-1744133400@youthwell.org
SUMMARY:AHA! ALLY After-School Group
DESCRIPTION:At Santa Barbara\, San Marcos\, and Dos Pueblos High Schools\, ALLY After-School groups inspire personal growth and build safer\, more welcoming campuses\, empowering teens to be allies and activists through discussions\, activities\, community service projects\, and social emotional/life skill building. \nWHEN: Tuesday’s\nWHERE: SBHS\, SMHS DPHS\n*For specific location address please contact Paulina!*\nTIME: 4:00PM – 5:30PM \nINTERESTED?\nStep 1: Apply at tinyurl.com/AHAspring2025 \nStep 2: Attend Enrollment Meeting\nWHEN: January 16th or 30th\nTIME: 5:30 – 6:30PM\nWHERE: AHA! office – 923 Olive St.\, Suite 5\, Santa Barbara\, CA\, 93101\nPlease contact Paulina to RSVP \n\nStep 3: Attend mandatory orientation\nWHEN: February 1st\nTIME: 10:00AM – 12PM\nWHERE: Parish Hall – 1535 Santa Barbara St\, Santa Barbara\, CA\, 93101 \nQUESTIONS? \nPaulina Romero | Enrollment Operations Specialist\n805-455-3456 | paulina@ahasb.org \n923 Olive Street\, Suite 5 Suite A Santa Barbara\, CA\, 93101
URL:https://youthwell.org/event/aha-ally-after-school-group/2025-04-08/
CATEGORIES:Activities/Classes,Support Groups - youth [10-18],youthwell newsletter feature
ATTACH;FMTTYPE=image/png:https://youthwell.org/wp-content/uploads/2022/10/AHA_logo-e1666629207283.png
END:VEVENT
BEGIN:VEVENT
DTSTART;TZID=America/Los_Angeles:20250408T090000
DTEND;TZID=America/Los_Angeles:20250408T100000
DTSTAMP:20260420T154841
CREATED:20240711T234638Z
LAST-MODIFIED:20241218T195220Z
UID:10022476-1744102800-1744106400@youthwell.org
SUMMARY:Family Advocate Services in Carpinteria
DESCRIPTION:Carp Connect’s Family Advocate Services Program: \nAll services are located at the CARP Connect Office: 941 Walnut Avenue on the ground floor of the Carp Veteran’s Building. Register at Carpinteria Health Clinic: 931 Walnut Avenue \nServices are walk-in or on demand within the hours of 9:00AM-10:00AM every Tuesday. \nFor more information\, contact 805-884-8440 or 805-262-7795
URL:https://youthwell.org/event/family-advocate-services-2/2025-04-08/
LOCATION:Carp Connect\, 941 Walnut Avenue\, Carpinteria\, 93103
CATEGORIES:Parent Education
END:VEVENT
END:VCALENDAR