BEGIN:VCALENDAR
VERSION:2.0
PRODID:-//YouthWell - ECPv6.15.20//NONSGML v1.0//EN
CALSCALE:GREGORIAN
METHOD:PUBLISH
X-WR-CALNAME:YouthWell
X-ORIGINAL-URL:https://youthwell.org
X-WR-CALDESC:Events for YouthWell
REFRESH-INTERVAL;VALUE=DURATION:PT1H
X-Robots-Tag:noindex
X-PUBLISHED-TTL:PT1H
BEGIN:VTIMEZONE
TZID:America/Los_Angeles
BEGIN:DAYLIGHT
TZOFFSETFROM:-0800
TZOFFSETTO:-0700
TZNAME:PDT
DTSTART:20240310T100000
END:DAYLIGHT
BEGIN:STANDARD
TZOFFSETFROM:-0700
TZOFFSETTO:-0800
TZNAME:PST
DTSTART:20241103T090000
END:STANDARD
BEGIN:DAYLIGHT
TZOFFSETFROM:-0800
TZOFFSETTO:-0700
TZNAME:PDT
DTSTART:20250309T100000
END:DAYLIGHT
BEGIN:STANDARD
TZOFFSETFROM:-0700
TZOFFSETTO:-0800
TZNAME:PST
DTSTART:20251102T090000
END:STANDARD
BEGIN:DAYLIGHT
TZOFFSETFROM:-0800
TZOFFSETTO:-0700
TZNAME:PDT
DTSTART:20260308T100000
END:DAYLIGHT
BEGIN:STANDARD
TZOFFSETFROM:-0700
TZOFFSETTO:-0800
TZNAME:PST
DTSTART:20261101T090000
END:STANDARD
END:VTIMEZONE
BEGIN:VEVENT
DTSTART;TZID=America/Los_Angeles:20250407T161500
DTEND;TZID=America/Los_Angeles:20250407T174500
DTSTAMP:20260419T223743
CREATED:20250108T002713Z
LAST-MODIFIED:20250408T162900Z
UID:10022816-1744042500-1744047900@youthwell.org
SUMMARY:AHA! Creative Group
DESCRIPTION:Youth practice self-awareness and creative expression through different mediums of art while learning to prize connection as the backbone of creativity. The group explores creative outlets like writing\, visual art\, music\, and theater\, all with the intention of overcoming the inner critic’s attempts to suppress our unique and joyful creative voices. No artistic skill or expertise required! \nWHEN: Monday’s\nWHERE: For location address please contact Paulina!\nTIME: 4:15PM – 5:45PM \nINTERESTED?\nStep 1: Apply at tinyurl.com/AHAspring2025 \nStep 2: Attend Enrollment Meeting\nWHEN: January 16th or 30th\nTIME: 5:30 – 6:30PM\nWHERE: AHA! office – 923 Olive St.\, Suite 5\, Santa Barbara\, CA\, 93101\nPlease contact Paulina to RSVP \n\nStep 3: Attend mandatory orientation\nWHEN: February 1st\nTIME: 10:00AM – 12PM\nWHERE: Parish Hall – 1535 Santa Barbara St\, Santa Barbara\, CA\, 93101 \nQUESTIONS? \nPaulina Romero | Enrollment Operations Specialist\n805-455-3456 | paulina@ahasb.org \n923 Olive Street\, Suite 5 Suite A Santa Barbara\, CA\, 93101
URL:https://youthwell.org/event/aha-creative-group/2025-04-07/
CATEGORIES:Activities/Classes,Support Groups - youth [10-18]
ATTACH;FMTTYPE=image/png:https://youthwell.org/wp-content/uploads/2022/10/AHA_logo-e1666629207283.png
ORGANIZER;CN="AHA!":MAILTO:perla.ahasb@gmail.com
END:VEVENT
END:VCALENDAR