BEGIN:VCALENDAR
VERSION:2.0
PRODID:-//YouthWell - ECPv6.15.20//NONSGML v1.0//EN
CALSCALE:GREGORIAN
METHOD:PUBLISH
X-WR-CALNAME:YouthWell
X-ORIGINAL-URL:https://youthwell.org
X-WR-CALDESC:Events for YouthWell
REFRESH-INTERVAL;VALUE=DURATION:PT1H
X-Robots-Tag:noindex
X-PUBLISHED-TTL:PT1H
BEGIN:VTIMEZONE
TZID:America/Los_Angeles
BEGIN:DAYLIGHT
TZOFFSETFROM:-0800
TZOFFSETTO:-0700
TZNAME:PDT
DTSTART:20240310T100000
END:DAYLIGHT
BEGIN:STANDARD
TZOFFSETFROM:-0700
TZOFFSETTO:-0800
TZNAME:PST
DTSTART:20241103T090000
END:STANDARD
BEGIN:DAYLIGHT
TZOFFSETFROM:-0800
TZOFFSETTO:-0700
TZNAME:PDT
DTSTART:20250309T100000
END:DAYLIGHT
BEGIN:STANDARD
TZOFFSETFROM:-0700
TZOFFSETTO:-0800
TZNAME:PST
DTSTART:20251102T090000
END:STANDARD
BEGIN:DAYLIGHT
TZOFFSETFROM:-0800
TZOFFSETTO:-0700
TZNAME:PDT
DTSTART:20260308T100000
END:DAYLIGHT
BEGIN:STANDARD
TZOFFSETFROM:-0700
TZOFFSETTO:-0800
TZNAME:PST
DTSTART:20261101T090000
END:STANDARD
END:VTIMEZONE
BEGIN:VEVENT
DTSTART;TZID=America/Los_Angeles:20250409T080000
DTEND;TZID=America/Los_Angeles:20250409T170000
DTSTAMP:20260419T185655
CREATED:20250206T003422Z
LAST-MODIFIED:20250324T201251Z
UID:10023220-1744185600-1744218000@youthwell.org
SUMMARY:LiFT - Connect With Your Teen About Values and Making Decisions
DESCRIPTION:LiFT (Linking Families and Teens) is a FREE 6-hour program that unites adolescents (ages 13-19) and their parental figure* to share family values\, strengthen family ties\, and talk about the difficult things – healthy relationships and sexual health. \n\nConnect with other parents and supportive adults within your community\nParticipants will receive supportive resources and meals!\n\n*You may join the LiFT program with a teenager\, grandchild\, nephew\, niece\, or other important teen in your life* \nLiFT program Overview Video\nInterested? Sign up! \n*Start date and times will be shared after sign up* \nProgramming provided in San Luis Obispo\, Santa Barbara\, and Ventura Counties in both ENGLISH and SPANISH \n  \n  \nLiFT (Linking Families and Teens) es un programa GRATUITO de 6 horas que une a adolescentes (de 13 a 19 años) y a su figura paterna* para compartir valores familiares\, reforzar los lazos familiares y hablar de las cosas difíciles – relaciones sanas y salud sexual. \n\nConéctate con otros padres y adultos de apoyo dentro de tu comunidad\n¡Los participantes recibirán recursos de apoyo y comidas!\n\n*Puedes unirte al programa LiFT con un adolescente\, nieto\, sobrino\, sobrina u otro adolescente importante en tu vida* \nLa fecha y hora de inicio del programa se confirmarán en el momento de la inscripción \nVídeo general del programa LiFT\n¿Interesado? ¡Inscríbase! \n*La fecha y el horario de inicio se comunicarán tras la inscripción* \nEl programa se ofrece en los condados de San Luis Obispo\, Santa Bárbara y Ventura\, tanto en ESPAÑOL como en INGLÉS.
URL:https://youthwell.org/event/lift-connect-with-your-teen-about-values-and-making-decisions/2025-04-09/
CATEGORIES:Activities/Classes,Parent Education,Support Groups - parents,Support Groups - youth [10-18],Support Groups - youth [18-25],Youth Classes [10-25],youthwell newsletter feature
END:VEVENT
BEGIN:VEVENT
DTSTART;VALUE=DATE:20250409
DTEND;VALUE=DATE:20250410
DTSTAMP:20260419T185655
CREATED:20241217T182602Z
LAST-MODIFIED:20241217T182602Z
UID:10022008-1744156800-1744243199@youthwell.org
SUMMARY:Neighborhood Navigation Center
DESCRIPTION:Neighborhood Navigation Centers (NNCs) serve as a neighborhood-based one-stop shop for services for those experiencing homelessness. \nThe services provided include case management\, food distribution\, healthcare\, hygiene and showers\, mental health support\, pet care\, and more. \nEach NNC site offers services on a different day of the week and at different times of the day\, selected based on the needs of the target population. \nNNC Sites… \n\nMondays 11am-2pm\nChrist Lutheran Church – 6595 Covington Way\, Goleta\nWednesdays 8am-10am\nSanta Barbara Rescue Mission – 535 E Yanonali St. SB
URL:https://youthwell.org/event/neighborhood-navigation-center/2025-04-09/
CATEGORIES:Food & Housing
ORGANIZER;CN="SBACT":MAILTO:info@sbact.org
END:VEVENT
BEGIN:VEVENT
DTSTART;TZID=America/Los_Angeles:20250408T180000
DTEND;TZID=America/Los_Angeles:20250408T200000
DTSTAMP:20260419T185655
CREATED:20250219T234041Z
LAST-MODIFIED:20250219T234041Z
UID:10023325-1744135200-1744142400@youthwell.org
SUMMARY:Dedicated Dads | Virtual in English
DESCRIPTION:Dedicated Dads is a FREE 12-session fatherhood education program that helps dads strengthen positive relationships with their children and their children’s partners\, promote economic stability and increase family well-being. This course will be held in English on Tuesday’s and Thursday’s\, March 11th – April 17th.  \nThroughout the program\, men examine their own fatherhood history\, learn five characteristics of fatherhood and other important skills to create an exciting father-child engagement and manage their family’s economic growth. \nFathers participate in online workshops from their own home and have the opportunity to meet other fathers. \nThis program includes: \n\nOne-on-one support\nWeekly raffles\nThere will be dinner at all workshops for in-person workshops or dinner gift cards will be provided during the program for virtual workshops\n\nWHEN: Tuesday and Thursday\nWHERE: Virtual via Zoom\n*Zoom link will be provided after registration*\nTIME: 6:00PM – 8:00PM \nREGISTRATION IS REQUIRED: Call (805) 403-0704 to register.
URL:https://youthwell.org/event/dedicated-dads-virtual-in-english/2025-04-08/
LOCATION:*VIRTUAL-ZOOM*\, ONLINE\, CA
CATEGORIES:Activities/Classes,Parent Education,Support Groups - parents,youthwell newsletter feature
ATTACH;FMTTYPE=image/png:https://youthwell.org/wp-content/uploads/2025/01/Screenshot-2025-01-09-at-3.32.59 PM-e1736465597905.png
END:VEVENT
BEGIN:VEVENT
DTSTART;TZID=America/Los_Angeles:20250408T180000
DTEND;TZID=America/Los_Angeles:20250408T200000
DTSTAMP:20260419T185655
CREATED:20250211T010143Z
LAST-MODIFIED:20250219T233407Z
UID:10023333-1744135200-1744142400@youthwell.org
SUMMARY:Dedicated Dads | En personsa Santa Maria en Español
DESCRIPTION:Papás Dedicados es un programa GRATUITO de educación para la paternidad de 12 sesiones que ayuda a los papás a fortalecer las relaciones positivas con sus hijos y pareja o mamás de sus hijos\, promover la estabilidad económica y aumentar el bienestar familiar. Este curso será en Español\, los martes y jueves\, 11 de marzo – 17 de abril.  \nA lo largo del programa\, los hombres examinan su propia historia de paternidad\, aprenden cinco características de la paternidad y otras habilidades importantes para crear un compromiso emocionante entre padre e hijo y administrar el crecimiento económico de su familia. \nLos padres participan en talleres en línea desde su propia casa y tienen la oportunidad de conocer a otros padres. \nEste programa incluye: \n\nApoyo individualizado\nRifas semanales\nHabrá cena en todos los talleres para los talleres en persona o se entregarán tarjetas de regalo para la cena durante el programa para los talleres virtuales\n\nCUANDO: Martes y jueves\nDONDE: Santa Maria – 105 N Lincoln St. Santa Maria\, CA 93458\nHORA: 6:00PM – 8:00PM \nSe REQUIERE registro: Llame al (805) 403-0704 para registrarse.
URL:https://youthwell.org/event/dedicated-dads-en-personsa-santa-maria-en-espanol/2025-04-08/
LOCATION:Santa Maria Youth and Family Center\, 105 N Lincoln St\, Santa Maria\, 93458\, United States
CATEGORIES:Activities/Classes,Clases en español,Parent Education,Support Groups - parents,youthwell newsletter feature
ATTACH;FMTTYPE=image/png:https://youthwell.org/wp-content/uploads/2025/01/Screenshot-2025-01-09-at-3.32.59 PM-e1736465597905.png
END:VEVENT
BEGIN:VEVENT
DTSTART;TZID=America/Los_Angeles:20250408T173000
DTEND;TZID=America/Los_Angeles:20250408T190000
DTSTAMP:20260419T185655
CREATED:20241217T214325Z
LAST-MODIFIED:20250128T221741Z
UID:10022412-1744133400-1744138800@youthwell.org
SUMMARY:Parenting Together - Hybrid Support Group
DESCRIPTION:Weekly group classes are designed to help parents navigate the challenges of raising adolescents. \nParticipants can join a group at any time and will receive support from the class facilitator and other parents facing similar challenges. Will cover a broad range of parenting topics\, including the philosophy of nurturing parenting\, teens and alcohol\, brain development and substance abuse\, discipline\, building empathy and self-worth\, and positive ways to deal with stress and anger. \nTuesdays in English\, offered [hybrid] in person AND on Zoom\, from 5:30 – 7:00pm \nTo enroll or for more information\, call (805) 456-1234\nOr e-mail: ParentingTogether@cadasb.org
URL:https://youthwell.org/event/parenting-together-support-group-2-2/2025-04-08/
LOCATION:Daniel Bryant Treatment Center\, 1111 Garden Street (1st Floor)\, Santa Barbara\, CA\, 93102\, United States
CATEGORIES:Parent Education,Support Groups - parents,youthwell newsletter feature
END:VEVENT
BEGIN:VEVENT
DTSTART;TZID=America/Los_Angeles:20250408T163000
DTEND;TZID=America/Los_Angeles:20250408T173000
DTSTAMP:20260419T185655
CREATED:20250325T000052Z
LAST-MODIFIED:20250325T000052Z
UID:10024342-1744129800-1744133400@youthwell.org
SUMMARY:Lompoc Library Adulting 101 Workshops
DESCRIPTION:The Lompoc Public Library is offering a series of FREE life skills workshops entitled “Adulting 101”. These workshops will cover the various topics that teens and young adults\, ages 14-25\, may find useful in navigating adulthood.  \nThere is no need to register and participants can attend as few or as many of the workshops as they choose. \nWith the help of community experts\, the library will be covering the following topics on these scheduled dates: \n\nApril 1st\, 4:30-5:30: Dress for Success\nApril 8th\, 4:30-5:30: Financial Stability\nApril 15th\, 4:30-5:30: Vehicle Safety and Maintenance\nApril 22nd\, 4:30-5:30: Physical\, Mental\, and Emotional Health\n\nLOCATION: Grossman Gallery\, Lompoc Public Library – 501 E. North Avenue Lompoc\, California 93436
URL:https://youthwell.org/event/lompoc-library-adulting-101-workshops/2025-04-08/
LOCATION:Lompoc Public Library\, 501 E. North Ave\, Lompoc\, 93436\, United States
CATEGORIES:Activities/Classes,Community Events,Workshops, Trainings, Speakers,Youth Classes [10-25],youthwell newsletter feature
END:VEVENT
BEGIN:VEVENT
DTSTART;TZID=America/Los_Angeles:20250408T160000
DTEND;TZID=America/Los_Angeles:20250408T173000
DTSTAMP:20260419T185655
CREATED:20250108T003238Z
LAST-MODIFIED:20250124T193055Z
UID:10022829-1744128000-1744133400@youthwell.org
SUMMARY:AHA! ALLY After-School Group
DESCRIPTION:At Santa Barbara\, San Marcos\, and Dos Pueblos High Schools\, ALLY After-School groups inspire personal growth and build safer\, more welcoming campuses\, empowering teens to be allies and activists through discussions\, activities\, community service projects\, and social emotional/life skill building. \nWHEN: Tuesday’s\nWHERE: SBHS\, SMHS DPHS\n*For specific location address please contact Paulina!*\nTIME: 4:00PM – 5:30PM \nINTERESTED?\nStep 1: Apply at tinyurl.com/AHAspring2025 \nStep 2: Attend Enrollment Meeting\nWHEN: January 16th or 30th\nTIME: 5:30 – 6:30PM\nWHERE: AHA! office – 923 Olive St.\, Suite 5\, Santa Barbara\, CA\, 93101\nPlease contact Paulina to RSVP \n\nStep 3: Attend mandatory orientation\nWHEN: February 1st\nTIME: 10:00AM – 12PM\nWHERE: Parish Hall – 1535 Santa Barbara St\, Santa Barbara\, CA\, 93101 \nQUESTIONS? \nPaulina Romero | Enrollment Operations Specialist\n805-455-3456 | paulina@ahasb.org \n923 Olive Street\, Suite 5 Suite A Santa Barbara\, CA\, 93101
URL:https://youthwell.org/event/aha-ally-after-school-group/2025-04-08/
CATEGORIES:Activities/Classes,Support Groups - youth [10-18],youthwell newsletter feature
ATTACH;FMTTYPE=image/png:https://youthwell.org/wp-content/uploads/2022/10/AHA_logo-e1666629207283.png
END:VEVENT
BEGIN:VEVENT
DTSTART;TZID=America/Los_Angeles:20250408T090000
DTEND;TZID=America/Los_Angeles:20250408T100000
DTSTAMP:20260419T185655
CREATED:20240711T234638Z
LAST-MODIFIED:20241218T195220Z
UID:10022476-1744102800-1744106400@youthwell.org
SUMMARY:Family Advocate Services in Carpinteria
DESCRIPTION:Carp Connect’s Family Advocate Services Program: \nAll services are located at the CARP Connect Office: 941 Walnut Avenue on the ground floor of the Carp Veteran’s Building. Register at Carpinteria Health Clinic: 931 Walnut Avenue \nServices are walk-in or on demand within the hours of 9:00AM-10:00AM every Tuesday. \nFor more information\, contact 805-884-8440 or 805-262-7795
URL:https://youthwell.org/event/family-advocate-services-2/2025-04-08/
LOCATION:Carp Connect\, 941 Walnut Avenue\, Carpinteria\, 93103
CATEGORIES:Parent Education
END:VEVENT
BEGIN:VEVENT
DTSTART;TZID=America/Los_Angeles:20250407T170000
DTEND;TZID=America/Los_Angeles:20250407T183000
DTSTAMP:20260419T185655
CREATED:20241028T235251Z
LAST-MODIFIED:20241028T235604Z
UID:10021762-1744045200-1744050600@youthwell.org
SUMMARY:Parent Allies - LGBTQIA+ Parent Support Group [hybrid]
DESCRIPTION:This group focuses on providing gender affirming and sex positive support\, while holding an affirming space for parents and care-givers. The group will provide psychoeducational topics about the LGBTQIA+ community and hold open group discussions\, plus Q&A\, for parents and caregivers who desire an open and empathic group for learning\, processing feelings\, thoughts and emotions about supporting youth in our community.  Registration is required >> \n\nPARTICIPANTS: parents/caregivers of youth\, ages 10-18 are invited to attend\nLANGUAGE: this is an English speaking group\nDATE/TIME: 1st MONDAY • 5PM • monthly • drop-in group\n\nGroups are FREE. Donations are encouraged and appreciated. \nLOCATION: Hybrid • attend in-person at YouthWell office\, 1528 Chapala St\, Suite 203 OR via Zoom\n**zoom link will be emailed to you after you register for the group** \nIf you have questions or comments\, please email GROUPS@youthwell.org or call 805.770.1930 ext 103
URL:https://youthwell.org/event/parent-allies-lgbtqia-parent-support-group-hybrid/2025-04-07/
CATEGORIES:Activities/Classes,Family & Community Groups,Parent Education,Support Groups - parents,Support Groups - teachers,Workshops, Trainings, Speakers,YouthWell Groups & Workshops,youthwell newsletter feature
ATTACH;FMTTYPE=image/png:https://youthwell.org/wp-content/uploads/2024/10/Screenshot-2024-10-28-at-3.52.10 PM.png
END:VEVENT
BEGIN:VEVENT
DTSTART;TZID=America/Los_Angeles:20250407T170000
DTEND;TZID=America/Los_Angeles:20250407T180000
DTSTAMP:20260419T185655
CREATED:20240910T190145Z
LAST-MODIFIED:20250128T225204Z
UID:10023164-1744045200-1744048800@youthwell.org
SUMMARY:Support Group for YOUTH of Addicted Family Members
DESCRIPTION:For Youth Ages 12 – 17.\nConducted in English and Spanish \nWhy Participate?\n1) Learn: Youth will receive education around substance use and the disease of addiction.\n2) Feel: Youth will develop positive feelings about themselves and how to cope with problems safely.\n3) Connection: Youth will realize they are not alone and learn about different support systems available. \nFor more information\, please contact: Diversion Programs Coordinator\, Diana Garcia\nPhone: (805)456-1229\nEmail: dgarcia@cadasb.org
URL:https://youthwell.org/event/support-group-supportive-education-for-children-of-addicted-family-members/2025-04-07/
LOCATION:Daniel Bryant Treatment Center\, 1111 Garden Street (1st Floor)\, Santa Barbara\, CA\, 93102\, United States
CATEGORIES:Clases en español,Support Groups - youth [10-18],youthwell newsletter feature
END:VEVENT
BEGIN:VEVENT
DTSTART;TZID=America/Los_Angeles:20250407T161500
DTEND;TZID=America/Los_Angeles:20250407T174500
DTSTAMP:20260419T185655
CREATED:20250108T002713Z
LAST-MODIFIED:20250408T162900Z
UID:10022816-1744042500-1744047900@youthwell.org
SUMMARY:AHA! Creative Group
DESCRIPTION:Youth practice self-awareness and creative expression through different mediums of art while learning to prize connection as the backbone of creativity. The group explores creative outlets like writing\, visual art\, music\, and theater\, all with the intention of overcoming the inner critic’s attempts to suppress our unique and joyful creative voices. No artistic skill or expertise required! \nWHEN: Monday’s\nWHERE: For location address please contact Paulina!\nTIME: 4:15PM – 5:45PM \nINTERESTED?\nStep 1: Apply at tinyurl.com/AHAspring2025 \nStep 2: Attend Enrollment Meeting\nWHEN: January 16th or 30th\nTIME: 5:30 – 6:30PM\nWHERE: AHA! office – 923 Olive St.\, Suite 5\, Santa Barbara\, CA\, 93101\nPlease contact Paulina to RSVP \n\nStep 3: Attend mandatory orientation\nWHEN: February 1st\nTIME: 10:00AM – 12PM\nWHERE: Parish Hall – 1535 Santa Barbara St\, Santa Barbara\, CA\, 93101 \nQUESTIONS? \nPaulina Romero | Enrollment Operations Specialist\n805-455-3456 | paulina@ahasb.org \n923 Olive Street\, Suite 5 Suite A Santa Barbara\, CA\, 93101
URL:https://youthwell.org/event/aha-creative-group/2025-04-07/
CATEGORIES:Activities/Classes,Support Groups - youth [10-18]
ATTACH;FMTTYPE=image/png:https://youthwell.org/wp-content/uploads/2022/10/AHA_logo-e1666629207283.png
ORGANIZER;CN="AHA!":MAILTO:perla.ahasb@gmail.com
END:VEVENT
BEGIN:VEVENT
DTSTART;TZID=America/Los_Angeles:20250407T120000
DTEND;TZID=America/Los_Angeles:20250407T130000
DTSTAMP:20260419T185655
CREATED:20241030T164558Z
LAST-MODIFIED:20250311T160502Z
UID:10022528-1744027200-1744030800@youthwell.org
SUMMARY:ParentConnect Support Groups [hybrid]
DESCRIPTION:ParentConnect is a weekly\, drop-in\, peer support group for parents and caregivers of a tween\, teen\, or young adult struggling with a mental health challenge. \nVisit our Support Group page for any updates\, and please register in advance.\nWe will follow up and provide you with the information needed to participate. \nGroups are held every Monday at the YouthWell office: 1528 Chapala Street\, Suite 203.For those who would like to attend virtually\, a zoom link will be sent to you after you register. \nGroups are FREE. Donations are encouraged and appreciated.
URL:https://youthwell.org/event/parentconnect-support-groups-hybrid/2025-04-07/
LOCATION:YouthWell\, 1528 Chapala Street\, Santa Barbara\, 93101\, United States
CATEGORIES:Parent Education,Support Groups - parents,YouthWell Groups & Workshops,youthwell newsletter feature
ORGANIZER;CN="YouthWell":MAILTO:outreach@youthwell.org
END:VEVENT
BEGIN:VEVENT
DTSTART;VALUE=DATE:20250407
DTEND;VALUE=DATE:20250408
DTSTAMP:20260419T185655
CREATED:20241217T182602Z
LAST-MODIFIED:20241217T182602Z
UID:10022007-1743984000-1744070399@youthwell.org
SUMMARY:Neighborhood Navigation Center
DESCRIPTION:Neighborhood Navigation Centers (NNCs) serve as a neighborhood-based one-stop shop for services for those experiencing homelessness. \nThe services provided include case management\, food distribution\, healthcare\, hygiene and showers\, mental health support\, pet care\, and more. \nEach NNC site offers services on a different day of the week and at different times of the day\, selected based on the needs of the target population. \nNNC Sites… \n\nMondays 11am-2pm\nChrist Lutheran Church – 6595 Covington Way\, Goleta\nWednesdays 8am-10am\nSanta Barbara Rescue Mission – 535 E Yanonali St. SB
URL:https://youthwell.org/event/neighborhood-navigation-center/2025-04-07/
CATEGORIES:Food & Housing
ORGANIZER;CN="SBACT":MAILTO:info@sbact.org
END:VEVENT
BEGIN:VEVENT
DTSTART;VALUE=DATE:20250406
DTEND;VALUE=DATE:20250407
DTSTAMP:20260419T185655
CREATED:20250226T221330Z
LAST-MODIFIED:20250401T200434Z
UID:10023457-1743957000-1743964200@youthwell.org
SUMMARY:TMHA Bowl-a-Thon
DESCRIPTION:Join us for the 2025 Strike Out Stigma Bowl-A-Thon! Gather yourself and four others—friends\, family\, coworkers\, or even strangers—and raise $600 by March 21st. When you register\, choose your bowling date and provide your team’s shirt sizes. After that\, it’s all about FUNdraising! \nYou can find more information on our website > or by contacting Clara Cobb at ccobb@t-mha.org or (805) 540-6564. \nREGISTRATION: REQUIRED by MARCH 1st > [choose date on form]
URL:https://youthwell.org/event/tmha-bowl-a-thon/2025-04-06/
CATEGORIES:Community Events
ATTACH;FMTTYPE=image/png:https://youthwell.org/wp-content/uploads/2025/01/TMHA-Logo.png
ORGANIZER;CN="Transitions-Mental Health Association":MAILTO:info@t-mha.org
END:VEVENT
END:VCALENDAR