BEGIN:VCALENDAR
VERSION:2.0
PRODID:-//YouthWell - ECPv6.15.20//NONSGML v1.0//EN
CALSCALE:GREGORIAN
METHOD:PUBLISH
X-ORIGINAL-URL:https://youthwell.org
X-WR-CALDESC:Events for YouthWell
REFRESH-INTERVAL;VALUE=DURATION:PT1H
X-Robots-Tag:noindex
X-PUBLISHED-TTL:PT1H
BEGIN:VTIMEZONE
TZID:America/Los_Angeles
BEGIN:DAYLIGHT
TZOFFSETFROM:-0800
TZOFFSETTO:-0700
TZNAME:PDT
DTSTART:20250309T100000
END:DAYLIGHT
BEGIN:STANDARD
TZOFFSETFROM:-0700
TZOFFSETTO:-0800
TZNAME:PST
DTSTART:20251102T090000
END:STANDARD
BEGIN:DAYLIGHT
TZOFFSETFROM:-0800
TZOFFSETTO:-0700
TZNAME:PDT
DTSTART:20260308T100000
END:DAYLIGHT
BEGIN:STANDARD
TZOFFSETFROM:-0700
TZOFFSETTO:-0800
TZNAME:PST
DTSTART:20261101T090000
END:STANDARD
BEGIN:DAYLIGHT
TZOFFSETFROM:-0800
TZOFFSETTO:-0700
TZNAME:PDT
DTSTART:20270314T100000
END:DAYLIGHT
BEGIN:STANDARD
TZOFFSETFROM:-0700
TZOFFSETTO:-0800
TZNAME:PST
DTSTART:20271107T090000
END:STANDARD
END:VTIMEZONE
BEGIN:VEVENT
DTSTART;TZID=America/Los_Angeles:20260324T120000
DTEND;TZID=America/Los_Angeles:20260324T133000
DTSTAMP:20260421T150719
CREATED:20260304T030700Z
LAST-MODIFIED:20260304T030700Z
UID:10028405-1774353600-1774359000@youthwell.org
SUMMARY:SAVE THE DATE: Psychiatric Grand Rounds - Bearing Witness
DESCRIPTION:Save the date for Psychiatric Grand Rounds hosted by Cottage Health Psychiatry and Addiction Medicine! This session will focus on immigration policy and the therapeutic relationship and will be presented by Debbie Allen\, LCSW\, DCSW\, and Mariela Marin\, LMFT. \n\nWHEN: Tuesday\, March 24th from 12:00pm-1:30pm\nCONTACT: Email fmckinne@sbch.org or call (805) 569-7471 ext. 57471
URL:https://youthwell.org/event/save-the-date-psychiatric-grand-rounds-bearing-witness/
CATEGORIES:Camps & Registration,Workshops, Trainings, Speakers
ORGANIZER;CN="Cottage Psychiatry and Addiction Medicine":MAILTO:fmckinne@sbch.org
END:VEVENT
BEGIN:VEVENT
DTSTART;TZID=America/Los_Angeles:20260325T093000
DTEND;TZID=America/Los_Angeles:20260325T133000
DTSTAMP:20260421T150719
CREATED:20260305T180827Z
LAST-MODIFIED:20260305T180827Z
UID:10028323-1774431000-1774445400@youthwell.org
SUMMARY:County-Wide Tobacco Prevention Summit - Registration Deadline (March 16th)
DESCRIPTION:You are invited to the Santa Barbara County\, Tobacco Prevention Summit! The summit is a space for school professionals\, community partners\, and parents to share best practices\, strengthen partnerships\, and expand a community of support dedicated to reducing tobacco use. \n\nWHEN: Wednesday\, March 25th from 9:30am-1:30pm\nWHERE: Lompoc Veteran’s Hall\, 100 E Locust Avenue\, Lompoc\nREGISTRATION: DUE BY MARCH 16th >>\nCOST: $0\n\nRegister by March 16th. Refreshments and lunch will be provided.
URL:https://youthwell.org/event/county-wide-tobacco-prevention-summit-registration-deadline-march-16th/
LOCATION:Lompoc Veterans Memorial Building\, 100 E Locust Avenue\, Lompoc\, 93436\, United States
CATEGORIES:Community Events,Parent Education,Volunteer & Internships,Workshops, Trainings, Speakers
END:VEVENT
BEGIN:VEVENT
DTSTART;TZID=America/Los_Angeles:20260328T090000
DTEND;TZID=America/Los_Angeles:20260328T150000
DTSTAMP:20260421T150719
CREATED:20260225T005955Z
LAST-MODIFIED:20260225T005955Z
UID:10028262-1774688400-1774710000@youthwell.org
SUMMARY:FREE YOUTH LEADERSHIP WORKSHOP - Visión y Compromiso
DESCRIPTION:The Promotores Institute in collaboration with the Network of Promotoras Central Coast Region are providing a free 8-week training that will help youth (ages 16-22) to enhance skills as community leaders interested in working toward a safer\, healthier\, and more equitable future. \n\nWHEN: Saturdays\, February 14th to April 11th from 9:00am-3:00pm\nWHERE: 2050 Alameda Padre Serra\, Suite 203\, Santa Barbara\nREGISTRATION: Register here >>\nCOST: $0\nCONTACT: email andreabarahona@visionycompromiso.org or call 213-522-9147\n\nThrough this training you will: \n\nIdentify and enhance your strengths and leadership skills\nLearn how to develop advocacy skills and create change\nUnderstand the power of media\, outreach\, and policy\nCreate your own community project plan\n\nBy attending all sessions\, you will receive certification as a community promoter/promotora.
URL:https://youthwell.org/event/free-youth-leadership-workshop-vision-y-compromiso/2026-03-28/
LOCATION:2050 Alameda Padre Serra\, Santa Barbara\, 2050 Alameda Padre Serra\, Santa Barbara\, United States
CATEGORIES:Activities/Classes,Workshops, Trainings, Speakers,Youth Classes [10-25]
ATTACH;FMTTYPE=image/png:https://youthwell.org/wp-content/uploads/2025/07/Screenshot-2025-07-29-at-7.36.18 AM.png
ORGANIZER;CN="Vision y Compromiso":MAILTO:claudia@visionycompromiso.org
END:VEVENT
END:VCALENDAR