BEGIN:VCALENDAR
VERSION:2.0
PRODID:-//YouthWell - ECPv6.15.20//NONSGML v1.0//EN
CALSCALE:GREGORIAN
METHOD:PUBLISH
X-WR-CALNAME:YouthWell
X-ORIGINAL-URL:https://youthwell.org
X-WR-CALDESC:Events for YouthWell
REFRESH-INTERVAL;VALUE=DURATION:PT1H
X-Robots-Tag:noindex
X-PUBLISHED-TTL:PT1H
BEGIN:VTIMEZONE
TZID:America/Los_Angeles
BEGIN:DAYLIGHT
TZOFFSETFROM:-0800
TZOFFSETTO:-0700
TZNAME:PDT
DTSTART:20240310T100000
END:DAYLIGHT
BEGIN:STANDARD
TZOFFSETFROM:-0700
TZOFFSETTO:-0800
TZNAME:PST
DTSTART:20241103T090000
END:STANDARD
BEGIN:DAYLIGHT
TZOFFSETFROM:-0800
TZOFFSETTO:-0700
TZNAME:PDT
DTSTART:20250309T100000
END:DAYLIGHT
BEGIN:STANDARD
TZOFFSETFROM:-0700
TZOFFSETTO:-0800
TZNAME:PST
DTSTART:20251102T090000
END:STANDARD
BEGIN:DAYLIGHT
TZOFFSETFROM:-0800
TZOFFSETTO:-0700
TZNAME:PDT
DTSTART:20260308T100000
END:DAYLIGHT
BEGIN:STANDARD
TZOFFSETFROM:-0700
TZOFFSETTO:-0800
TZNAME:PST
DTSTART:20261101T090000
END:STANDARD
END:VTIMEZONE
BEGIN:VEVENT
DTSTART;TZID=America/Los_Angeles:20251021T163000
DTEND;TZID=America/Los_Angeles:20251021T180000
DTSTAMP:20260421T014715
CREATED:20251006T223602Z
LAST-MODIFIED:20251006T223602Z
UID:10026486-1761064200-1761069600@youthwell.org
SUMMARY:4 Week Babysitting 101 Class - Lompoc Public Library
DESCRIPTION:The Lompoc Public Library is offering a new\, FREE program for teens interested in learning about babysitting. “Babysitting 101” is for youth ages 13-18. The course will cover the basics of starting a babysitting business\, tips on interacting with clients\, and activity ideas. \nDATES: TUESDAYS from 4:30-6:00pm — Oct 14\, 21\, 28\, Nov 4\nWHERE:  Lompoc Public Library  – 501 E North Ave\, Lompoc\, CA 93436\nREGISTRATION: Fill out Registration Form using link OR call the Lompoc Public Library: (805)-875-8775\nCOST: FREE 
URL:https://youthwell.org/event/4-week-babysitting-101-class-lompoc-public-library/2025-10-21/
LOCATION:Lompoc Public Library\, 501 E. North Ave\, Lompoc\, 93436\, United States
CATEGORIES:Activities/Classes,Parent Education,Workshops, Trainings, Speakers
ATTACH;FMTTYPE=image/png:https://youthwell.org/wp-content/uploads/2025/10/Calendar-Lompoc-Public-Library.png
END:VEVENT
BEGIN:VEVENT
DTSTART;TZID=America/Los_Angeles:20251023T173000
DTEND;TZID=America/Los_Angeles:20251023T190000
DTSTAMP:20260421T014715
CREATED:20251006T223848Z
LAST-MODIFIED:20251006T223848Z
UID:10026489-1761240600-1761246000@youthwell.org
SUMMARY:VIRTUAL WORKSHOP - The 90s Kid Playbook: Building Self-Worth Beyond Screens
DESCRIPTION:Join Casey Meinster M.S; LMFT\, as she explores how today’s youth can cultivate confidence and resilience in a digital world. Drawing inspiration from the creativity and balance of pre-digital childhoods\, she will highlight meaningful ways to support growth and self-worth offline. \nWHEN: THURSDAY\, October 23rd from 5:30-7:00pm\nWHERE: VIRTUAL – ZOOM\nREGISTRATION: RSVP HERE >>\nCOST: FREE 
URL:https://youthwell.org/event/virtual-workshop-the-90s-kid-playbook-building-self-worth-beyond-screens/
LOCATION:*VIRTUAL-ZOOM*\, ONLINE\, CA
CATEGORIES:Activities/Classes,Parent Education,Workshops, Trainings, Speakers
ATTACH;FMTTYPE=image/png:https://youthwell.org/wp-content/uploads/2025/09/Calendar-Fusion-2-2.png
END:VEVENT
BEGIN:VEVENT
DTSTART;VALUE=DATE:20251025
DTEND;VALUE=DATE:20251026
DTSTAMP:20260421T014715
CREATED:20251017T230431Z
LAST-MODIFIED:20251017T230431Z
UID:10026790-1761350400-1761436799@youthwell.org
SUMMARY:Youth Know Your Rights Training - One Community Action
DESCRIPTION:OCA is proud to announce that we are hosting our first Youth Know Your Rights training on Saturday\, October 25\, 2025. This opportunity is open to all current high school students in the Santa Maria Valley. This training will cover the typical ‘Know Your Rights’ training\, but through a youth lens\, as well as resources for more holistic support during these turbulent times.  \nParticipants must register to attend. Please share with your clients\, family\, and community. If you have any questions\, please contact our program supervisor: \nAraceli Fernandez \nEmail: afernandez@onecommunityaction.org  \nCell: 820-221-9986 \nOur community(all ages) Know Your Rights training is Monday 10/20/25 from 5:30-7:30pm\n\nOur Youth Know Your Rights training on Saturday 10/25/25 has 2 sessions:\nEnglish session: 9:30-11:00am\nSpanish session: 1:00-2:30pm\n\nQuerida Comunidad\, \nOCA se enorgullece de anunciar que estaremos llevando a cabo nuestro primer entrenamiento “Conoce Tus Derechos para Jóvenes” el sábado 25 de octubre de 2025. Esta oportunidad está abierta a todos los estudiantes de preparatoria del Valle de Santa María. Este entrenamiento cubrirá los temas tradicionales de “Conoce Tus Derechos”\, pero desde una perspectiva juvenil\, además de incluir recursos para un apoyo más integral durante estos tiempos difíciles. \nLa participación requiere registro previo. Les pedimos que por favor compartan esta información con sus clientes\, familiares y comunidad. \nSi tienen alguna pregunta\, pueden comunicarse con nuestra supervisora del programa: \nAraceli Fernández\nCorreo electrónico: afernandez@onecommunityaction.org\nCelular: 820-221-9986
URL:https://youthwell.org/event/youth-know-your-rights-training-one-community-action/
CATEGORIES:Workshops, Trainings, Speakers,Youth Classes [10-25]
END:VEVENT
END:VCALENDAR