BEGIN:VCALENDAR
VERSION:2.0
PRODID:-//YouthWell - ECPv6.15.20//NONSGML v1.0//EN
CALSCALE:GREGORIAN
METHOD:PUBLISH
X-WR-CALNAME:YouthWell
X-ORIGINAL-URL:https://youthwell.org
X-WR-CALDESC:Events for YouthWell
REFRESH-INTERVAL;VALUE=DURATION:PT1H
X-Robots-Tag:noindex
X-PUBLISHED-TTL:PT1H
BEGIN:VTIMEZONE
TZID:America/Los_Angeles
BEGIN:DAYLIGHT
TZOFFSETFROM:-0800
TZOFFSETTO:-0700
TZNAME:PDT
DTSTART:20240310T100000
END:DAYLIGHT
BEGIN:STANDARD
TZOFFSETFROM:-0700
TZOFFSETTO:-0800
TZNAME:PST
DTSTART:20241103T090000
END:STANDARD
BEGIN:DAYLIGHT
TZOFFSETFROM:-0800
TZOFFSETTO:-0700
TZNAME:PDT
DTSTART:20250309T100000
END:DAYLIGHT
BEGIN:STANDARD
TZOFFSETFROM:-0700
TZOFFSETTO:-0800
TZNAME:PST
DTSTART:20251102T090000
END:STANDARD
BEGIN:DAYLIGHT
TZOFFSETFROM:-0800
TZOFFSETTO:-0700
TZNAME:PDT
DTSTART:20260308T100000
END:DAYLIGHT
BEGIN:STANDARD
TZOFFSETFROM:-0700
TZOFFSETTO:-0800
TZNAME:PST
DTSTART:20261101T090000
END:STANDARD
END:VTIMEZONE
BEGIN:VEVENT
DTSTART;TZID=America/Los_Angeles:20251014T163000
DTEND;TZID=America/Los_Angeles:20251014T180000
DTSTAMP:20260421T084611
CREATED:20251006T223602Z
LAST-MODIFIED:20251006T223602Z
UID:10026485-1760459400-1760464800@youthwell.org
SUMMARY:4 Week Babysitting 101 Class - Lompoc Public Library
DESCRIPTION:The Lompoc Public Library is offering a new\, FREE program for teens interested in learning about babysitting. “Babysitting 101” is for youth ages 13-18. The course will cover the basics of starting a babysitting business\, tips on interacting with clients\, and activity ideas. \nDATES: TUESDAYS from 4:30-6:00pm — Oct 14\, 21\, 28\, Nov 4\nWHERE:  Lompoc Public Library  – 501 E North Ave\, Lompoc\, CA 93436\nREGISTRATION: Fill out Registration Form using link OR call the Lompoc Public Library: (805)-875-8775\nCOST: FREE 
URL:https://youthwell.org/event/4-week-babysitting-101-class-lompoc-public-library/2025-10-14/
LOCATION:Lompoc Public Library\, 501 E. North Ave\, Lompoc\, 93436\, United States
CATEGORIES:Activities/Classes,Parent Education,Workshops, Trainings, Speakers
ATTACH;FMTTYPE=image/png:https://youthwell.org/wp-content/uploads/2025/10/Calendar-Lompoc-Public-Library.png
END:VEVENT
BEGIN:VEVENT
DTSTART;TZID=America/Los_Angeles:20251015T193000
DTEND;TZID=America/Los_Angeles:20251015T203000
DTSTAMP:20260421T084611
CREATED:20251006T223235Z
LAST-MODIFIED:20251014T173749Z
UID:10026480-1760556600-1760560200@youthwell.org
SUMMARY:VIRTUAL WORKSHOP - Understanding Our Children's Behavior in School
DESCRIPTION:Join Griffin Saxon\, LCSW as he explores how depression\, anxiety\, and ADHD commonly impact youth behavior in the school setting. The presentation will cover these basic diagnoses\, behavior\, and provide recommendations/next steps to support your child. The presentation is for all parents\, although case examples will skew toward 6th-12th grade students. \nWHEN: WEDNESDAY\, October 15th from 7:30-8:30pm\nWHERE: ZOOM using link\nREGISTRATION/COST: FREE just sign in using ZOOM link before joining
URL:https://youthwell.org/event/virtual-workshop-understanding-our-childrens-behavior-in-school/
LOCATION:*VIRTUAL-ZOOM*\, ONLINE\, CA
CATEGORIES:Activities/Classes,Community Events,Parent Education,Workshops, Trainings, Speakers
ATTACH;FMTTYPE=image/png:https://youthwell.org/wp-content/uploads/2025/10/Calendar-Griffin-Saxon-Workshop.png
ORGANIZER;CN="Griffin Saxon":MAILTO:info@griffinsaxontherapy.com
END:VEVENT
END:VCALENDAR