BEGIN:VCALENDAR
VERSION:2.0
PRODID:-//YouthWell - ECPv6.15.20//NONSGML v1.0//EN
CALSCALE:GREGORIAN
METHOD:PUBLISH
X-ORIGINAL-URL:https://youthwell.org
X-WR-CALDESC:Events for YouthWell
REFRESH-INTERVAL;VALUE=DURATION:PT1H
X-Robots-Tag:noindex
X-PUBLISHED-TTL:PT1H
BEGIN:VTIMEZONE
TZID:America/Los_Angeles
BEGIN:DAYLIGHT
TZOFFSETFROM:-0800
TZOFFSETTO:-0700
TZNAME:PDT
DTSTART:20240310T100000
END:DAYLIGHT
BEGIN:STANDARD
TZOFFSETFROM:-0700
TZOFFSETTO:-0800
TZNAME:PST
DTSTART:20241103T090000
END:STANDARD
BEGIN:DAYLIGHT
TZOFFSETFROM:-0800
TZOFFSETTO:-0700
TZNAME:PDT
DTSTART:20250309T100000
END:DAYLIGHT
BEGIN:STANDARD
TZOFFSETFROM:-0700
TZOFFSETTO:-0800
TZNAME:PST
DTSTART:20251102T090000
END:STANDARD
BEGIN:DAYLIGHT
TZOFFSETFROM:-0800
TZOFFSETTO:-0700
TZNAME:PDT
DTSTART:20260308T100000
END:DAYLIGHT
BEGIN:STANDARD
TZOFFSETFROM:-0700
TZOFFSETTO:-0800
TZNAME:PST
DTSTART:20261101T090000
END:STANDARD
END:VTIMEZONE
BEGIN:VEVENT
DTSTART;TZID=America/Los_Angeles:20251007T150000
DTEND;TZID=America/Los_Angeles:20251007T170000
DTSTAMP:20260421T140047
CREATED:20250918T163718Z
LAST-MODIFIED:20250918T163718Z
UID:10026203-1759849200-1759856400@youthwell.org
SUMMARY:WORKSHOP: Work Experience as Part of Recovery  - Santa Barbara
DESCRIPTION:Please join us for our Behavioral Health Services Act (BHSA) Community Workshops! \nOur goal is to provide meaningful information about the status of our local programs\, and create implementation strategies! Refreshments and giftcards for participation will be provided! \n\nWHEN: Tuesday\, October 7th from 3:00-5:00pm\nWHERE: Santa Barbara Public Library\, 40 E Anapamu St\, Santa Barbara\, CA 93101\nREGISTRATION: REQUIRED >>\nTOPIC: Work experience as Part of Recovery\n\nFor any questions\, please contact nrossi@sbcbwell.org \n—–ESPANOL—– \n¡Únase a nosotros en nuestros talleres comunitarios sobre la Ley de Servicios de Salud Conductual! \nNuestro objetivo es brindar información útil sobre el estado de nuestros programas locales y crear estrategias de implementación. ¡Se ofrecerán refrigerios y tarjetas de regalo por participar! \n\nCUÁNDO: Martes 7 de octubre\, de 15:00 a 17:00 h\nDÓNDE: Biblioteca Pública de Santa Bárbara\, 40 E Anapamu St\, Santa Bárbara\, CA 93101\nREGISTRO: REQUERIDO >>\nTEMA: La experiencia laboral como parte de la recuperación\n\nPara cualquier pregunta\, comuníquese con nrossi@sbcbwell.org \n 
URL:https://youthwell.org/event/workshop-work-experience-as-part-of-recovery-santa-barbara/
LOCATION:Santa Barbara Public Library\, 40 E Anapamu St.\, Santa Barbara\, 93101\, United States
CATEGORIES:Workshops, Trainings, Speakers
ATTACH;FMTTYPE=image/jpeg:https://youthwell.org/wp-content/uploads/2025/09/Image-9-17-25-at-3.58-PM.jpeg
END:VEVENT
BEGIN:VEVENT
DTSTART;TZID=America/Los_Angeles:20251012T173000
DTEND;TZID=America/Los_Angeles:20251012T190000
DTSTAMP:20260421T140047
CREATED:20250826T175142Z
LAST-MODIFIED:20250930T175230Z
UID:10026184-1760290200-1760295600@youthwell.org
SUMMARY:Wellness Workshop - Volunteer & Intern Opportunities in SB County
DESCRIPTION:LEARN ABOUT VOLUNTEER & INTERN OPPORTUNITIES in SB COUNTY! \n\nWHEN: SUNDAY\, OCTOBER 12 from 5:30-7:00pm\nWHERE: Virtual via ZOOM [link shared after registration]\nREGISTRATION: REQUIRED >\nFEE: $0\nQUESTIONS: programs@youthwell.org OR 805.770.1239\n\nFree for youth\, ages 10-21\, and parents... Learn about internship & leadership opportunities in Santa Barbara County. We will host a Non-Profit Panel of 20+ SB County organizations who will share about how students can create meaningful ways to volunteer. \nCompleting community service hours is more than checking a box off the to-do list… it’s learning about the joy of volunteering\, learning new skills\, and an opportunity to grow and discover new passions. Find which areas (animals\, arts & culture\, homelessness\, environment & science\, education\, camps\, elderly) are meaningful to you. Volunteering helps people manage stress\, feel connected\, and increase self-confidence.
URL:https://youthwell.org/event/wellness-workshop-volunteer-intern-opportunities-in-sb-county/
LOCATION:*VIRTUAL-ZOOM*\, ONLINE\, CA
CATEGORIES:Workshops, Trainings, Speakers,YouthWell Groups & Workshops
ATTACH;FMTTYPE=image/png:https://youthwell.org/wp-content/uploads/2025/08/Workshop-volunteer-youthwell-e1756227236235.png
ORGANIZER;CN="YouthWell":MAILTO:outreach@youthwell.org
END:VEVENT
END:VCALENDAR