BEGIN:VCALENDAR
VERSION:2.0
PRODID:-//YouthWell - ECPv6.15.20//NONSGML v1.0//EN
CALSCALE:GREGORIAN
METHOD:PUBLISH
X-WR-CALNAME:YouthWell
X-ORIGINAL-URL:https://youthwell.org
X-WR-CALDESC:Events for YouthWell
REFRESH-INTERVAL;VALUE=DURATION:PT1H
X-Robots-Tag:noindex
X-PUBLISHED-TTL:PT1H
BEGIN:VTIMEZONE
TZID:America/Los_Angeles
BEGIN:DAYLIGHT
TZOFFSETFROM:-0800
TZOFFSETTO:-0700
TZNAME:PDT
DTSTART:20240310T100000
END:DAYLIGHT
BEGIN:STANDARD
TZOFFSETFROM:-0700
TZOFFSETTO:-0800
TZNAME:PST
DTSTART:20241103T090000
END:STANDARD
BEGIN:DAYLIGHT
TZOFFSETFROM:-0800
TZOFFSETTO:-0700
TZNAME:PDT
DTSTART:20250309T100000
END:DAYLIGHT
BEGIN:STANDARD
TZOFFSETFROM:-0700
TZOFFSETTO:-0800
TZNAME:PST
DTSTART:20251102T090000
END:STANDARD
BEGIN:DAYLIGHT
TZOFFSETFROM:-0800
TZOFFSETTO:-0700
TZNAME:PDT
DTSTART:20260308T100000
END:DAYLIGHT
BEGIN:STANDARD
TZOFFSETFROM:-0700
TZOFFSETTO:-0800
TZNAME:PST
DTSTART:20261101T090000
END:STANDARD
END:VTIMEZONE
BEGIN:VEVENT
DTSTART;TZID=America/Los_Angeles:20250902T190000
DTEND;TZID=America/Los_Angeles:20250902T203000
DTSTAMP:20260419T174745
CREATED:20250826T171049Z
LAST-MODIFIED:20250826T171049Z
UID:10026185-1756839600-1756845000@youthwell.org
SUMMARY:VIRTUAL - Parent Ed Nights
DESCRIPTION:VIRTUAL WORKSHOPS for parents\, teens\, and teachers\, and community.\n*Spanish interpretation available* \nREGISTRATION REQUIRED >      \n• PARENT EDUCATION NIGHTS SERIES •\nFREE 1.5-hour virtual education nights designed to help parents/caregivers navigate the everyday challenges of raising children from K-12th. Each session explores a topic\, offers practical tools and strategies\, and creates space to learn from other parents. \nWHEN: TUESDAY September 2nd\nTIME: 7:00pm-8:30pm \nAdvocacy: Partnering with Schools for Your Child’s Success\n Learn how to advocate for your child’s learning and emotional needs. We’ll cover how to communicate effectively with teachers and navigate supports like IEPs\, 504 plans\, and mental health accommodations.
URL:https://youthwell.org/event/virtual-parent-ed-nights-10/
LOCATION:*VIRTUAL-ZOOM*\, ONLINE\, CA
CATEGORIES:Workshops, Trainings, Speakers
ORGANIZER;CN="YouthWell":MAILTO:outreach@youthwell.org
END:VEVENT
BEGIN:VEVENT
DTSTART;TZID=America/Los_Angeles:20250904T153000
DTEND;TZID=America/Los_Angeles:20250904T163000
DTSTAMP:20260419T174745
CREATED:20250407T222658Z
LAST-MODIFIED:20250911T183838Z
UID:10026144-1756999800-1757003400@youthwell.org
SUMMARY:TeachWell - Teacher Support Group [virtual]
DESCRIPTION:Peer support group for teachers and staff of tweens & teens to connect\, share challenges\, and learn strategies for building trusting relationships with students and get support. Registration is required >> \nWe know that students learn best in relationship\, and we also know that as they hit the teen years\, they begin to pull away from family in favor of peers. They still need adult role models in their lives\, so how can we as educators build trust with them and create connections that will enhance their learning environment? Join us to explore how to capitalize on the attributes of the adolescent brain to create trusting relationships. \n\nTwice monthly [1st & 3rd Thursdays] VIRTUAL\nPARTICIPANTS: teachers in Santa Barbara County are invited to attend\nLANGUAGE: this is an English speaking group\n\nGroups are FREE. Donations are encouraged and appreciated. \nLOCATION: **zoom link will be emailed to you after you register for the group**
URL:https://youthwell.org/event/teachwell-teacher-support-group-hybrid-2-2/2025-09-04/
LOCATION:*VIRTUAL-ZOOM*\, ONLINE\, CA
CATEGORIES:Support Groups - teachers,Workshops, Trainings, Speakers,YouthWell Groups & Workshops
ORGANIZER;CN="YouthWell":MAILTO:outreach@youthwell.org
END:VEVENT
BEGIN:VEVENT
DTSTART;TZID=America/Los_Angeles:20250906T083000
DTEND;TZID=America/Los_Angeles:20250906T103000
DTSTAMP:20260419T174745
CREATED:20250905T202005Z
LAST-MODIFIED:20250905T202005Z
UID:10026189-1757147400-1757154600@youthwell.org
SUMMARY:FREE QPR Suicide Prevention Training!
DESCRIPTION:QPR stands for Question\, Persuade\, and Refer—three simple steps anyone can learn. Just as people trained in CPR help save thousands of lives each year\, people trained in QPR learn how to recognize the warning signs of a suicide crisis. Participants will learn to recognize the warning signs of suicide\, how to offer hope\, and how to get help and save a life. \nAnyone in the community can take the course\, including parents\, friends\, neighbors\, teachers\, clergy\, medical professionals\, first responders\, caseworkers\, organizations\, schools\, and many others who are strategically positioned to recognize and refer someone at risk of suicide. \nQPR is based on a curriculum provided by the QPR Institute. The course is free\, thanks to funding from the Substance Abuse and Mental Health Services Administration (SAMHSA). \nClick here to Register
URL:https://youthwell.org/event/free-qpr-suicide-prevention-training-2-2-2/
LOCATION:*VIRTUAL-ZOOM*\, ONLINE\, CA
CATEGORIES:Parent Education,QPR & Mental health first aid,Support Groups - teachers,Workshops, Trainings, Speakers
ORGANIZER;CN="YouthWell":MAILTO:outreach@youthwell.org
END:VEVENT
END:VCALENDAR