BEGIN:VCALENDAR
VERSION:2.0
PRODID:-//YouthWell - ECPv6.15.20//NONSGML v1.0//EN
CALSCALE:GREGORIAN
METHOD:PUBLISH
X-WR-CALNAME:YouthWell
X-ORIGINAL-URL:https://youthwell.org
X-WR-CALDESC:Events for YouthWell
REFRESH-INTERVAL;VALUE=DURATION:PT1H
X-Robots-Tag:noindex
X-PUBLISHED-TTL:PT1H
BEGIN:VTIMEZONE
TZID:America/Los_Angeles
BEGIN:DAYLIGHT
TZOFFSETFROM:-0800
TZOFFSETTO:-0700
TZNAME:PDT
DTSTART:20240310T100000
END:DAYLIGHT
BEGIN:STANDARD
TZOFFSETFROM:-0700
TZOFFSETTO:-0800
TZNAME:PST
DTSTART:20241103T090000
END:STANDARD
BEGIN:DAYLIGHT
TZOFFSETFROM:-0800
TZOFFSETTO:-0700
TZNAME:PDT
DTSTART:20250309T100000
END:DAYLIGHT
BEGIN:STANDARD
TZOFFSETFROM:-0700
TZOFFSETTO:-0800
TZNAME:PST
DTSTART:20251102T090000
END:STANDARD
BEGIN:DAYLIGHT
TZOFFSETFROM:-0800
TZOFFSETTO:-0700
TZNAME:PDT
DTSTART:20260308T100000
END:DAYLIGHT
BEGIN:STANDARD
TZOFFSETFROM:-0700
TZOFFSETTO:-0800
TZNAME:PST
DTSTART:20261101T090000
END:STANDARD
END:VTIMEZONE
BEGIN:VEVENT
DTSTART;TZID=America/Los_Angeles:20250826T120000
DTEND;TZID=America/Los_Angeles:20250826T133000
DTSTAMP:20260419T222904
CREATED:20250819T182705Z
LAST-MODIFIED:20250819T183115Z
UID:10026118-1756209600-1756215000@youthwell.org
SUMMARY:WEBINAR: Patient-Centered Approaches to Contraception in Perimenopause
DESCRIPTION:The California Department of Health Care Services is hosting a webinar series focused on patient-centered approaches to contraception in perimenopause.  \nWHEN: TUESDAY August 26th\nWHERE: Zoom/Register here!\nTIME: 12:00pm-1:30pm \nWebinar Description: \nThis webinar is tailored for family planning providers\, offering critical insights and practical knowledge to enhance your practice and support your patients through perimenopause and menopause. As a family planning provider\, you are vital in supporting patients through these significant life stages. This session will equip you with the latest information on the pathophysiology\, symptomatology\, contraception options\, and patient-centered management strategies for perimenopause and menopause. \nLearning Objectives \n\nDefine and understand the pathophysiology of perimenopause and menopause.\nDescribe the most common symptoms of perimenopause and menopause.\nExplain the contraception options in perimenopause.\nSupport a patient-centered approach to the management of perimenopausal and menopausal symptoms.\n\n*1.4 CME credits at no cost\nOnly available to those who attended the LIVE event 
URL:https://youthwell.org/event/the-comprehensive-family-planning-visit-webinar-series/
LOCATION:*VIRTUAL-ZOOM*\, ONLINE\, CA
CATEGORIES:Activities/Classes,Workshops, Trainings, Speakers
ATTACH;FMTTYPE=image/png:https://youthwell.org/wp-content/uploads/2025/03/Screenshot-2025-03-05-at-3.32.33 PM-e1741217617590.png
END:VEVENT
BEGIN:VEVENT
DTSTART;TZID=America/Los_Angeles:20250827T160000
DTEND;TZID=America/Los_Angeles:20250827T170000
DTSTAMP:20260419T222904
CREATED:20250819T183327Z
LAST-MODIFIED:20250821T164932Z
UID:10026120-1756310400-1756314000@youthwell.org
SUMMARY:Free Workshop: Teen Psychiatric Medications - What Parents Need to Know
DESCRIPTION:Evolve Adolescent Behavioral Health is offering a free\, live virtual workshop led by a board-certified child and adolescent psychiatrist. This session will equip parents and providers with clear facts\, address common misconceptions\, and build confidence in navigating treatment options. \nWHEN: WEDNESDAY August 27th\nWHERE: ZOOM/Register here!\nTIME: 4:00pm-5:00pm \nIn this webinar\, attendees will learn: \n\nAn overview of the most common psychiatric medications prescribed to teens\nWhat to expect in terms of effectiveness and side effects\nHow to separate common myths from real-world realities\nAnswers to top questions\, submitted anonymously
URL:https://youthwell.org/event/free-workshop-teen-psychiatric-medications-what-parents-need-to-know/
LOCATION:*VIRTUAL-ZOOM*\, ONLINE\, CA
CATEGORIES:Activities/Classes,Workshops, Trainings, Speakers
ATTACH;FMTTYPE=image/png:https://youthwell.org/wp-content/uploads/2024/02/Calendar-Evolve.png
END:VEVENT
END:VCALENDAR