BEGIN:VCALENDAR
VERSION:2.0
PRODID:-//YouthWell - ECPv6.15.20//NONSGML v1.0//EN
CALSCALE:GREGORIAN
METHOD:PUBLISH
X-WR-CALNAME:YouthWell
X-ORIGINAL-URL:https://youthwell.org
X-WR-CALDESC:Events for YouthWell
REFRESH-INTERVAL;VALUE=DURATION:PT1H
X-Robots-Tag:noindex
X-PUBLISHED-TTL:PT1H
BEGIN:VTIMEZONE
TZID:America/Los_Angeles
BEGIN:DAYLIGHT
TZOFFSETFROM:-0800
TZOFFSETTO:-0700
TZNAME:PDT
DTSTART:20250309T100000
END:DAYLIGHT
BEGIN:STANDARD
TZOFFSETFROM:-0700
TZOFFSETTO:-0800
TZNAME:PST
DTSTART:20251102T090000
END:STANDARD
BEGIN:DAYLIGHT
TZOFFSETFROM:-0800
TZOFFSETTO:-0700
TZNAME:PDT
DTSTART:20260308T100000
END:DAYLIGHT
BEGIN:STANDARD
TZOFFSETFROM:-0700
TZOFFSETTO:-0800
TZNAME:PST
DTSTART:20261101T090000
END:STANDARD
BEGIN:DAYLIGHT
TZOFFSETFROM:-0800
TZOFFSETTO:-0700
TZNAME:PDT
DTSTART:20270314T100000
END:DAYLIGHT
BEGIN:STANDARD
TZOFFSETFROM:-0700
TZOFFSETTO:-0800
TZNAME:PST
DTSTART:20271107T090000
END:STANDARD
END:VTIMEZONE
BEGIN:VEVENT
DTSTART;TZID=America/Los_Angeles:20260502T090000
DTEND;TZID=America/Los_Angeles:20260502T140000
DTSTAMP:20260421T204031
CREATED:20260210T174415Z
LAST-MODIFIED:20260421T212558Z
UID:10027446-1777712400-1777730400@youthwell.org
SUMMARY:Annual Mental Health Fair - Santa Barbara Cottage Hospital
DESCRIPTION:The Psychiatry and Addiction Medicine Department at Santa Barbara Cottage Hospital is holding its annual Mental Health Fair! Featuring information on mental health\, substance use disorders\, community resources\, wellness and recovery. More than 15 local nonprofit agencies will be represented. This event is FREE and open to the public. \n\nWHEN: Saturday\, May 2 from 10:00am-2:00pm\nWHERE: 400 West Pueblo St.\, Santa Barbara Cottage Hospital\nCOST: $0\n\n*Park in the hospital parking structure on the corner of Pueblo and Castillo Street. Validated parking will be offered. Enter the hospital via the main/Pueblo lobby and you will be escorted to the event.
URL:https://youthwell.org/event/annual-mental-health-fair-santa-barbara-cottage-hospital/
LOCATION:Santa Barbara Cottage Hospital\, 400 West Pueblo Street\, Santa Barbara\, CA\, 93105\, United States
CATEGORIES:Activities/Classes,Community Events,Parent Education,Workshops, Trainings, Speakers
ATTACH;FMTTYPE=image/png:https://youthwell.org/wp-content/uploads/2025/10/Calendar-Cottage-Psychiatry-and-Addiction-Medicine.png
ORGANIZER;CN="Cottage Psychiatry and Addiction Medicine":MAILTO:fmckinne@sbch.org
END:VEVENT
BEGIN:VEVENT
DTSTART;TZID=America/Los_Angeles:20260502T090000
DTEND;TZID=America/Los_Angeles:20260502T150000
DTSTAMP:20260421T204031
CREATED:20260225T005955Z
LAST-MODIFIED:20260225T005955Z
UID:10028267-1777712400-1777734000@youthwell.org
SUMMARY:FREE YOUTH LEADERSHIP WORKSHOP - Visión y Compromiso
DESCRIPTION:The Promotores Institute in collaboration with the Network of Promotoras Central Coast Region are providing a free 8-week training that will help youth (ages 16-22) to enhance skills as community leaders interested in working toward a safer\, healthier\, and more equitable future. \n\nWHEN: Saturdays\, February 14th to April 11th from 9:00am-3:00pm\nWHERE: 2050 Alameda Padre Serra\, Suite 203\, Santa Barbara\nREGISTRATION: Register here >>\nCOST: $0\nCONTACT: email andreabarahona@visionycompromiso.org or call 213-522-9147\n\nThrough this training you will: \n\nIdentify and enhance your strengths and leadership skills\nLearn how to develop advocacy skills and create change\nUnderstand the power of media\, outreach\, and policy\nCreate your own community project plan\n\nBy attending all sessions\, you will receive certification as a community promoter/promotora.
URL:https://youthwell.org/event/free-youth-leadership-workshop-vision-y-compromiso/2026-05-02/
LOCATION:2050 Alameda Padre Serra\, Santa Barbara\, 2050 Alameda Padre Serra\, Santa Barbara\, United States
CATEGORIES:Activities/Classes,Workshops, Trainings, Speakers,Youth Classes [10-25]
ATTACH;FMTTYPE=image/png:https://youthwell.org/wp-content/uploads/2025/07/Screenshot-2025-07-29-at-7.36.18 AM.png
ORGANIZER;CN="Vision y Compromiso":MAILTO:claudia@visionycompromiso.org
END:VEVENT
END:VCALENDAR