BEGIN:VCALENDAR
VERSION:2.0
PRODID:-//YouthWell - ECPv6.15.20//NONSGML v1.0//EN
CALSCALE:GREGORIAN
METHOD:PUBLISH
X-WR-CALNAME:YouthWell
X-ORIGINAL-URL:https://youthwell.org
X-WR-CALDESC:Events for YouthWell
REFRESH-INTERVAL;VALUE=DURATION:PT1H
X-Robots-Tag:noindex
X-PUBLISHED-TTL:PT1H
BEGIN:VTIMEZONE
TZID:America/Los_Angeles
BEGIN:DAYLIGHT
TZOFFSETFROM:-0800
TZOFFSETTO:-0700
TZNAME:PDT
DTSTART:20240310T100000
END:DAYLIGHT
BEGIN:STANDARD
TZOFFSETFROM:-0700
TZOFFSETTO:-0800
TZNAME:PST
DTSTART:20241103T090000
END:STANDARD
BEGIN:DAYLIGHT
TZOFFSETFROM:-0800
TZOFFSETTO:-0700
TZNAME:PDT
DTSTART:20250309T100000
END:DAYLIGHT
BEGIN:STANDARD
TZOFFSETFROM:-0700
TZOFFSETTO:-0800
TZNAME:PST
DTSTART:20251102T090000
END:STANDARD
BEGIN:DAYLIGHT
TZOFFSETFROM:-0800
TZOFFSETTO:-0700
TZNAME:PDT
DTSTART:20260308T100000
END:DAYLIGHT
BEGIN:STANDARD
TZOFFSETFROM:-0700
TZOFFSETTO:-0800
TZNAME:PST
DTSTART:20261101T090000
END:STANDARD
END:VTIMEZONE
BEGIN:VEVENT
DTSTART;TZID=America/Los_Angeles:20250919T110000
DTEND;TZID=America/Los_Angeles:20250919T130000
DTSTAMP:20260419T161929
CREATED:20250819T184901Z
LAST-MODIFIED:20250819T184901Z
UID:10026117-1758279600-1758286800@youthwell.org
SUMMARY:CE Event Webinar "Lighting the Way"
DESCRIPTION:Lightfully Behavioral Health is excited to invite you to their upcoming CE Event webinar “Lighting the Way: Interventions for Teens and their families in Navigating Teen Suicide Risk” with Dr. Nicole Siegried. \nWHEN: FRIDAY September 19th\nWHERE: Live Interactive Webinar/Register here!\nTIME: 11:00am-1:00pm \nLearning Objectives: \n\nDescribe the Suicidal Mind\nDemonstrate use of the teen and family safety and stabilization plan\nExplain interventions from the suciide intervention toolbox\n\n*Receive 2 CE Credit Hours at this event \n 
URL:https://youthwell.org/event/ce-event-webinar-lighting-the-way/
LOCATION:*VIRTUAL-ZOOM*\, ONLINE\, CA
CATEGORIES:Activities/Classes,Workshops, Trainings, Speakers
ATTACH;FMTTYPE=image/png:https://youthwell.org/wp-content/uploads/2025/05/Screenshot-2025-05-29-at-3.47.48 PM-e1748558905189.png
END:VEVENT
END:VCALENDAR