BEGIN:VCALENDAR
VERSION:2.0
PRODID:-//YouthWell - ECPv6.15.20//NONSGML v1.0//EN
CALSCALE:GREGORIAN
METHOD:PUBLISH
X-ORIGINAL-URL:https://youthwell.org
X-WR-CALDESC:Events for YouthWell
REFRESH-INTERVAL;VALUE=DURATION:PT1H
X-Robots-Tag:noindex
X-PUBLISHED-TTL:PT1H
BEGIN:VTIMEZONE
TZID:America/Los_Angeles
BEGIN:DAYLIGHT
TZOFFSETFROM:-0800
TZOFFSETTO:-0700
TZNAME:PDT
DTSTART:20250309T100000
END:DAYLIGHT
BEGIN:STANDARD
TZOFFSETFROM:-0700
TZOFFSETTO:-0800
TZNAME:PST
DTSTART:20251102T090000
END:STANDARD
BEGIN:DAYLIGHT
TZOFFSETFROM:-0800
TZOFFSETTO:-0700
TZNAME:PDT
DTSTART:20260308T100000
END:DAYLIGHT
BEGIN:STANDARD
TZOFFSETFROM:-0700
TZOFFSETTO:-0800
TZNAME:PST
DTSTART:20261101T090000
END:STANDARD
BEGIN:DAYLIGHT
TZOFFSETFROM:-0800
TZOFFSETTO:-0700
TZNAME:PDT
DTSTART:20270314T100000
END:DAYLIGHT
BEGIN:STANDARD
TZOFFSETFROM:-0700
TZOFFSETTO:-0800
TZNAME:PST
DTSTART:20271107T090000
END:STANDARD
END:VTIMEZONE
BEGIN:VEVENT
DTSTART;TZID=America/Los_Angeles:20260201T130000
DTEND;TZID=America/Los_Angeles:20260201T183000
DTSTAMP:20260421T055024
CREATED:20250923T170757Z
LAST-MODIFIED:20251231T195238Z
UID:10026474-1769950800-1769970600@youthwell.org
SUMMARY:Free Youth Mental Health First Aid Training
DESCRIPTION:Join our FREE Youth Mental Health First Aid (MHFA) training and gain the skills to recognize early signs of mental health or substance use challenges in youth. This nationally recognized certification course teaches you how to respond with confidence\, connect young people to the right support\, and become a trusted adult in your community. \nTraining Details\n\n\n📅 Saturday\, February 1 | 1:00pm–6:30pm \n\n\n🖥️ Blended format: 2-hour self-paced + 5.5-hour Zoom \n\n\n📝 Registration closes January 18 \n\n\nWhy This Training Matters\nOne in five youth experience a mental health challenge each year. Parents\, educators\, first responders\, and other caring adults play a crucial role in recognizing the warning signs and providing support before a crisis arises. \nResearch shows the #1 protective factor in youth mental health is having at least one trusted adult. This training equips you to be that adult — someone who knows what to say\, how to listen\, and where to connect young people for help. \nYouthWell provides both Mental Health First Aid (MHFA) and QPR Suicide Prevention trainings in Santa Barbara County. Both programs are free to the community\, thanks to local partnerships and funding\, and both offer practical strategies\, as well as certification upon completion. \nWhat You’ll Learn in Youth MHFA\n\n\nHow to identify risk factors and warning signs of mental health and substance use challenges \n\n\nHow to approach and support a young person who may be struggling \n\n\nHow to connect them with appropriate professional and community resources \n\n\nAction steps you can take to reduce stigma and promote mental wellness \n\n\nCertification valid for 3 years \n\n\nOther Training Opportunities\nQPR (Question\, Persuade\, Refer) is a 2-hour training that focuses on suicide prevention. Participants learn how to recognize warning signs\, ask the right questions\, and refer individuals at risk to life-saving resources. Certification is valid for 2 years. \nHow to Register• Email: MHTraining@YouthWell.org• Fill out our registration form• View our full training schedule \nClass Descriptions \n\n\n\n\nYouth MHFA (6.5 hrs): Free certification course (18+) on recognizing\, understanding\, and responding to youth mental health or substance use challenges. 3-year certification. [Register >>] \n\n\nQPR (2 hrs): Free suicide prevention training on how to question\, persuade\, and refer someone at risk. 2-year certification. [Register >>]
URL:https://youthwell.org/event/free-youth-mental-health-first-aid-training-2/
LOCATION:*VIRTUAL-ZOOM*\, ONLINE\, CA
CATEGORIES:QPR & Mental health first aid,Workshops, Trainings, Speakers,youthwell newsletter feature
ATTACH;FMTTYPE=image/png:https://youthwell.org/wp-content/uploads/2023/06/header_MHFA_QPR-e1688526307643.png
ORGANIZER;CN="YouthWell":MAILTO:outreach@youthwell.org
END:VEVENT
BEGIN:VEVENT
DTSTART;TZID=America/Los_Angeles:20260204T183000
DTEND;TZID=America/Los_Angeles:20260204T193000
DTSTAMP:20260421T055024
CREATED:20251212T164430Z
LAST-MODIFIED:20251212T202750Z
UID:10027053-1770229800-1770233400@youthwell.org
SUMMARY:WORKSHOP: Strategies for Families & Providers to Challenge Insurance Denials
DESCRIPTION:Families and providers often face confusing and frustrating obstacles when insurance plans delay\, deny\, or refuse to pay for mental health care. \nJoin us for a workshop where staff from DMHC and the CA Insurance Commissioner’s Office will guide families and providers on how to file complaints effectively\, challenge denials\, and secure reimbursement for mental health care. \n\nDATE #1: Thursday\, January 15 from 9:00-10:00am\nDATE #2: Wednesday\, February 4 from 6:30-7:30pm\nWHERE: Virtual on ZOOM [link shared after registration]\nREGISTRATOIN: REQUIRED…https://wkf.ms/4iRdEmh\nCOST: FREE\nCONTACT: navigator@youthwell.org\n\nParticipants will learn: \n\nKey mental health coverage rights\nEffective strategies for responding to insurance denials\nHow and when to file complaints with DMHC\nHow families can request reimbursement and escalate appeals\nHow providers can strengthen claims\, submit for payment\, and push back when coverage is denied\n\nParticipants will leave with tools\, scripts\, and pathways to navigate barriers and hold insurance plans accountable.
URL:https://youthwell.org/event/workshop-strategies-for-families-providers-to-challenge-insurance-denials/2026-02-04/
LOCATION:*VIRTUAL-ZOOM*\, ONLINE\, CA
CATEGORIES:Activities/Classes,Clases en español,Parent Education,Workshops, Trainings, Speakers,YouthWell Groups & Workshops,youthwell newsletter feature
ATTACH;FMTTYPE=image/jpeg:https://youthwell.org/wp-content/uploads/2025/12/Workshop-insurance-calendar-2026.jpg
ORGANIZER;CN="YouthWell":MAILTO:outreach@youthwell.org
END:VEVENT
BEGIN:VEVENT
DTSTART;TZID=America/Los_Angeles:20260206T120000
DTEND;TZID=America/Los_Angeles:20260206T133000
DTSTAMP:20260421T055024
CREATED:20260116T195535Z
LAST-MODIFIED:20260116T195535Z
UID:10027377-1770379200-1770384600@youthwell.org
SUMMARY:WORKSHOP: What is Brainspotting? - Fusion Academy Santa Barbara
DESCRIPTION:Fusion Academy Santa Barbara is hosting a FREE educational talk that will be led by Yolanda Yturralde\, MFT. Yolanda is a trauma-informed psychotherapist who specializes in supporting neurodiverse students and teens experiencing stress\, anxiety\, performance pressure\, social media overload\, and testing challenges. This talk will share the practical tools to reduce stress\, increase motivation\, and learn how to work with your brain\, not against it. \nRSVP is not required but is recommended. \n\nWHEN: Friday\, February 6 from 12pm-1:30pm\nWHERE: Fusion Santa Barbara – 510 State Street\, Suite 200\nREGISTRATION: RSVP >>\nCONTACT: SantaBarbara@fusionacademy.com or call 805-292-9658\nCOST: $0
URL:https://youthwell.org/event/workshop-what-is-brainspotting-fusion-academy-santa-barbara/
LOCATION:510 State Street\, Santa Barbara\, 510 State Street\, Santa Barbara\, 93101\, United States
CATEGORIES:Activities/Classes,Parent Education,Workshops, Trainings, Speakers
ATTACH;FMTTYPE=image/png:https://youthwell.org/wp-content/uploads/2025/09/Calendar-Fusion-2-2.png
ORGANIZER;CN="Fusion Academy%2C Santa Barbara":MAILTO:jgama@fusionacademy.com
END:VEVENT
BEGIN:VEVENT
DTSTART;TZID=America/Los_Angeles:20260210T174500
DTEND;TZID=America/Los_Angeles:20260210T191500
DTSTAMP:20260421T055024
CREATED:20251219T221251Z
LAST-MODIFIED:20251231T195323Z
UID:10027059-1770745500-1770750900@youthwell.org
SUMMARY:YouthWell's YAB Mentor Sessions:  Teen-Led.  Expert-Supported.
DESCRIPTION:Join Santa Barbara area students now attending colleges across the country as they share real experiences with academic stress\, what helped\, what didn’t\, and what they wish they had known in high school.  \nTherapist Melissa Lowenstein will help students understand the difference between stress and distress\, and share accessible coping tools. \nFree • REGISTRATION REQUIRED >> \nZoom link provided after registration\nQuestions: yab@youthwell.org | 805.770.1239 \nSession Dates:  \nJanuary 13\, 2026 | 5:45–7:15 PM | Virtual • Academic Stress \nFebruary 10\, 2026 | 5:45–7:15 PM | Virtual • Social Connection & Mental Wellness \nMarch 10\, 2026 | 5:45–7:15 PM | Virtual • Peer Support \nApril 28\, 2026 | 5:45–7:15 PM | Virtual • Politics & Mental Health \nYouthWell Mentor Sessions are interactive\, youth-centered conversations focused on real-life challenges that impact mental health and wellbeing. \nEach session explores a timely topic\, such as academic stress\, peer support\, social connection\, or navigating today’s political climate\, through a mix of expert insight and lived experience. Youth hear from mental health professionals\, community leaders\, and near-peer mentors\, including college students and former Youth Advocacy Board members\, who share practical tools\, personal stories\, and strategies for coping\, connection\, and self-care. \nMentor Sessions are designed to help young people feel less alone\, build confidence in supporting themselves and others\, and walk away with skills they can actually use. \nOpen to youth ages 10–25 and parents
URL:https://youthwell.org/event/youthwells-yab-mentor-sessions-teen-led-expert-supported/2026-02-10/
LOCATION:*VIRTUAL-ZOOM*\, ONLINE\, CA
CATEGORIES:Workshops, Trainings, Speakers,Youth Classes [10-25],YouthWell Groups & Workshops,youthwell newsletter feature
ATTACH;FMTTYPE=image/png:https://youthwell.org/wp-content/uploads/2025/12/AKH-Draft-DEC-1-1.png
ORGANIZER;CN="YouthWell":MAILTO:outreach@youthwell.org
END:VEVENT
BEGIN:VEVENT
DTSTART;TZID=America/Los_Angeles:20260210T190000
DTEND;TZID=America/Los_Angeles:20260210T200000
DTSTAMP:20260421T055024
CREATED:20250821T233052Z
LAST-MODIFIED:20260128T011831Z
UID:10026170-1770750000-1770753600@youthwell.org
SUMMARY:VIRTUAL - Parent Ed Nights
DESCRIPTION:VIRTUAL WORKSHOPS for parents\, teens\, and teachers\, and community.\n*Se proporciona interpretación en español* \nREGISTRATION REQUIRED >      \n• PARENT EDUCATION NIGHTS SERIES •\nFREE 1.5-hour virtual education nights designed to help parents/caregivers navigate the everyday challenges of raising children from K-12th. Each session explores a topic\, offers practical tools and strategies\, and creates space to learn from other parents. \nWHEN: TUESDAY February 10th\nTIME: 7:00pm-8:30pm \nBalancing Positivity & Boundaries – Part 1\nExplore how to foster a loving\, respectful family culture with strong yet flexible boundaries. Discover practical ways to build connection\, encourage cooperation\, and create emotional safety.
URL:https://youthwell.org/event/virtual-parent-ed-nights-7/
LOCATION:*VIRTUAL-ZOOM*\, ONLINE\, CA
CATEGORIES:Clases en español,Parent Education,Workshops, Trainings, Speakers,YouthWell Groups & Workshops,youthwell newsletter feature
ORGANIZER;CN="YouthWell":MAILTO:outreach@youthwell.org
END:VEVENT
BEGIN:VEVENT
DTSTART;TZID=America/Los_Angeles:20260211T100000
DTEND;TZID=America/Los_Angeles:20260211T113000
DTSTAMP:20260421T055024
CREATED:20260108T192531Z
LAST-MODIFIED:20260108T192531Z
UID:10027192-1770804000-1770809400@youthwell.org
SUMMARY:FREE WEBINAR - Operation Parent
DESCRIPTION:Operation Parent is providing two free webinar sessions for parents\, caregivers\, and professionals. These webinars combine research\, real-life experience\, and trusted guidance in order to inform and equip you to make a meaningful difference in the lives of youth in your life. Spanish captions will be available live during the webinar and full Spanish translations will be made available later that day. \nJanuary 13 – Growing Minds and Modern Highs – THC\, Hemp\, & Kratom: Explore the latest youth substances and their effects on developing brains and mental health. Julie Dreifaldt from One Chance to Grow Up will share her first-hand experience in youth substance use and explain practical ways to guide young people safely. \nFebruary 11 – The Mind-Risk Connection – How Mental Health can Influence Substance Use: Dr. Linda Richter from Partnership to End Addiction will discuss how mental health and substance use in youth are often connected. She will be joined by Stephanie Marquesano\, founder of The Harris Project\, who will share her personal experiences\, how to spot warning signs\, reduce risk\, and intervene before small problems become bigger ones. \n\nWHEN: Tuesday\, January 13 and Wednesday\, February 11\nWHERE: Zoom (link provided after registration)\nREGISTRATION: REQUIRED >>\nCOST: $0\nCONTACT: Submit questions >>
URL:https://youthwell.org/event/free-webinar-operation-parent/2026-02-11/
LOCATION:*VIRTUAL-ZOOM*\, ONLINE\, CA
CATEGORIES:Activities/Classes,Parent Education,Workshops, Trainings, Speakers
ATTACH;FMTTYPE=image/png:https://youthwell.org/wp-content/uploads/2026/01/Calendar-Operation-Parent.png
ORGANIZER;CN="Operation Parent":MAILTO:info@operationparent.org
END:VEVENT
BEGIN:VEVENT
DTSTART;TZID=America/Los_Angeles:20260214T090000
DTEND;TZID=America/Los_Angeles:20260214T150000
DTSTAMP:20260421T055024
CREATED:20260225T005955Z
LAST-MODIFIED:20260225T005955Z
UID:10028256-1771059600-1771081200@youthwell.org
SUMMARY:FREE YOUTH LEADERSHIP WORKSHOP - Visión y Compromiso
DESCRIPTION:The Promotores Institute in collaboration with the Network of Promotoras Central Coast Region are providing a free 8-week training that will help youth (ages 16-22) to enhance skills as community leaders interested in working toward a safer\, healthier\, and more equitable future. \n\nWHEN: Saturdays\, February 14th to April 11th from 9:00am-3:00pm\nWHERE: 2050 Alameda Padre Serra\, Suite 203\, Santa Barbara\nREGISTRATION: Register here >>\nCOST: $0\nCONTACT: email andreabarahona@visionycompromiso.org or call 213-522-9147\n\nThrough this training you will: \n\nIdentify and enhance your strengths and leadership skills\nLearn how to develop advocacy skills and create change\nUnderstand the power of media\, outreach\, and policy\nCreate your own community project plan\n\nBy attending all sessions\, you will receive certification as a community promoter/promotora.
URL:https://youthwell.org/event/free-youth-leadership-workshop-vision-y-compromiso/2026-02-14/
LOCATION:2050 Alameda Padre Serra\, Santa Barbara\, 2050 Alameda Padre Serra\, Santa Barbara\, United States
CATEGORIES:Activities/Classes,Workshops, Trainings, Speakers,Youth Classes [10-25]
ATTACH;FMTTYPE=image/png:https://youthwell.org/wp-content/uploads/2025/07/Screenshot-2025-07-29-at-7.36.18 AM.png
ORGANIZER;CN="Vision y Compromiso":MAILTO:claudia@visionycompromiso.org
END:VEVENT
BEGIN:VEVENT
DTSTART;TZID=America/Los_Angeles:20260220T113000
DTEND;TZID=America/Los_Angeles:20260220T130000
DTSTAMP:20260421T055024
CREATED:20260114T224426Z
LAST-MODIFIED:20260114T224426Z
UID:10027315-1771587000-1771592400@youthwell.org
SUMMARY:WEBINAR: Predictors of Independence in Autism - Fusion Academy Palos Verdes
DESCRIPTION:Fusion Academy Palos Verdes is hosting a FREE educational webinar and workshop to explore the skills that help children with autism move toward greater independence\, confidence\, and long-term autonomy. The event will be led by Dr. Catherine Lord\, who has done considerable observational research in autism across life-span from toddler to adulthood. \nGuests may expect to learn the strategies and tools to strengthen the fundamental skills in order to help children on the autism spectrum lead independent\, connected\, and fulfilling lives.  \nGuests may attend either virtually over Zoom or in-person. RSVP is not required but is recommended. \n\nWHEN: Friday\, February 20 from 11:30am-1:00pm\nWHERE: Zoom OR In-Person/Fusion Palos Verdes – 550 Deep Valley Drive\, Suite 250\, Rolling Hills Estates\, CA\nRSVP Virtually >>\nRSVP In-person >>\nCONTACT: palosverdes@fusionacademy.com or call 310-651-8284\nCOST: $0
URL:https://youthwell.org/event/webinar-predictors-of-independence-in-autism-fusion-academy-palos-verdes/
LOCATION:*VIRTUAL-ZOOM*\, ONLINE\, CA
CATEGORIES:Activities/Classes,Community Events,Parent Education,Workshops, Trainings, Speakers
ATTACH;FMTTYPE=image/png:https://youthwell.org/wp-content/uploads/2025/09/Calendar-Fusion-2-2.png
END:VEVENT
BEGIN:VEVENT
DTSTART;TZID=America/Los_Angeles:20260221T090000
DTEND;TZID=America/Los_Angeles:20260221T150000
DTSTAMP:20260421T055024
CREATED:20260225T005955Z
LAST-MODIFIED:20260225T005955Z
UID:10028257-1771664400-1771686000@youthwell.org
SUMMARY:FREE YOUTH LEADERSHIP WORKSHOP - Visión y Compromiso
DESCRIPTION:The Promotores Institute in collaboration with the Network of Promotoras Central Coast Region are providing a free 8-week training that will help youth (ages 16-22) to enhance skills as community leaders interested in working toward a safer\, healthier\, and more equitable future. \n\nWHEN: Saturdays\, February 14th to April 11th from 9:00am-3:00pm\nWHERE: 2050 Alameda Padre Serra\, Suite 203\, Santa Barbara\nREGISTRATION: Register here >>\nCOST: $0\nCONTACT: email andreabarahona@visionycompromiso.org or call 213-522-9147\n\nThrough this training you will: \n\nIdentify and enhance your strengths and leadership skills\nLearn how to develop advocacy skills and create change\nUnderstand the power of media\, outreach\, and policy\nCreate your own community project plan\n\nBy attending all sessions\, you will receive certification as a community promoter/promotora.
URL:https://youthwell.org/event/free-youth-leadership-workshop-vision-y-compromiso/2026-02-21/
LOCATION:2050 Alameda Padre Serra\, Santa Barbara\, 2050 Alameda Padre Serra\, Santa Barbara\, United States
CATEGORIES:Activities/Classes,Workshops, Trainings, Speakers,Youth Classes [10-25]
ATTACH;FMTTYPE=image/png:https://youthwell.org/wp-content/uploads/2025/07/Screenshot-2025-07-29-at-7.36.18 AM.png
ORGANIZER;CN="Vision y Compromiso":MAILTO:claudia@visionycompromiso.org
END:VEVENT
BEGIN:VEVENT
DTSTART;TZID=America/Los_Angeles:20260222T170000
DTEND;TZID=America/Los_Angeles:20260222T180000
DTSTAMP:20260421T055024
CREATED:20260212T181839Z
LAST-MODIFIED:20260212T183206Z
UID:10027447-1771779600-1771783200@youthwell.org
SUMMARY:VIRTUAL WORKSHOP - Neurodiversity 101: A Parent's Guide to Affirming Support
DESCRIPTION:Parenting a neurodivergent child can raise questions about language\, labels\, strengths\, and challenges. This talk offers an introduction to neurodiversity\, explaining how it contrasts with the medical model and why this shift matters. We’ll explore different types of neurodivergence and discuss how to speak about differences in ways that are honest\, affirming\, and developmentally supportive—without minimizing real struggles. Parents will leave with tools to foster confidence\, understanding\, and connection. \n\nWHEN: Sunday\, February 22 from 5:00pm-6:00pm\nWHERE: Zoom (link shared after registration)\nREGISTRATION: REQUIRED >>\nCOST: FREE\nCONTACT: Email navigator@youthwell.org
URL:https://youthwell.org/event/virtual-workshop-neurodiversity-101-a-parents-guide-to-affirming-support/
LOCATION:*VIRTUAL-ZOOM*\, ONLINE\, CA
CATEGORIES:Activities/Classes,Clases en español,Parent Education,Workshops, Trainings, Speakers,YouthWell Groups & Workshops
ORGANIZER;CN="YouthWell":MAILTO:outreach@youthwell.org
END:VEVENT
BEGIN:VEVENT
DTSTART;TZID=America/Los_Angeles:20260228T090000
DTEND;TZID=America/Los_Angeles:20260228T150000
DTSTAMP:20260421T055024
CREATED:20260225T005955Z
LAST-MODIFIED:20260225T005955Z
UID:10028258-1772269200-1772290800@youthwell.org
SUMMARY:FREE YOUTH LEADERSHIP WORKSHOP - Visión y Compromiso
DESCRIPTION:The Promotores Institute in collaboration with the Network of Promotoras Central Coast Region are providing a free 8-week training that will help youth (ages 16-22) to enhance skills as community leaders interested in working toward a safer\, healthier\, and more equitable future. \n\nWHEN: Saturdays\, February 14th to April 11th from 9:00am-3:00pm\nWHERE: 2050 Alameda Padre Serra\, Suite 203\, Santa Barbara\nREGISTRATION: Register here >>\nCOST: $0\nCONTACT: email andreabarahona@visionycompromiso.org or call 213-522-9147\n\nThrough this training you will: \n\nIdentify and enhance your strengths and leadership skills\nLearn how to develop advocacy skills and create change\nUnderstand the power of media\, outreach\, and policy\nCreate your own community project plan\n\nBy attending all sessions\, you will receive certification as a community promoter/promotora.
URL:https://youthwell.org/event/free-youth-leadership-workshop-vision-y-compromiso/2026-02-28/
LOCATION:2050 Alameda Padre Serra\, Santa Barbara\, 2050 Alameda Padre Serra\, Santa Barbara\, United States
CATEGORIES:Activities/Classes,Workshops, Trainings, Speakers,Youth Classes [10-25]
ATTACH;FMTTYPE=image/png:https://youthwell.org/wp-content/uploads/2025/07/Screenshot-2025-07-29-at-7.36.18 AM.png
ORGANIZER;CN="Vision y Compromiso":MAILTO:claudia@visionycompromiso.org
END:VEVENT
END:VCALENDAR