BEGIN:VCALENDAR
VERSION:2.0
PRODID:-//YouthWell - ECPv6.15.20//NONSGML v1.0//EN
CALSCALE:GREGORIAN
METHOD:PUBLISH
X-WR-CALNAME:YouthWell
X-ORIGINAL-URL:https://youthwell.org
X-WR-CALDESC:Events for YouthWell
REFRESH-INTERVAL;VALUE=DURATION:PT1H
X-Robots-Tag:noindex
X-PUBLISHED-TTL:PT1H
BEGIN:VTIMEZONE
TZID:America/Los_Angeles
BEGIN:DAYLIGHT
TZOFFSETFROM:-0800
TZOFFSETTO:-0700
TZNAME:PDT
DTSTART:20250309T100000
END:DAYLIGHT
BEGIN:STANDARD
TZOFFSETFROM:-0700
TZOFFSETTO:-0800
TZNAME:PST
DTSTART:20251102T090000
END:STANDARD
BEGIN:DAYLIGHT
TZOFFSETFROM:-0800
TZOFFSETTO:-0700
TZNAME:PDT
DTSTART:20260308T100000
END:DAYLIGHT
BEGIN:STANDARD
TZOFFSETFROM:-0700
TZOFFSETTO:-0800
TZNAME:PST
DTSTART:20261101T090000
END:STANDARD
BEGIN:DAYLIGHT
TZOFFSETFROM:-0800
TZOFFSETTO:-0700
TZNAME:PDT
DTSTART:20270314T100000
END:DAYLIGHT
BEGIN:STANDARD
TZOFFSETFROM:-0700
TZOFFSETTO:-0800
TZNAME:PST
DTSTART:20271107T090000
END:STANDARD
END:VTIMEZONE
BEGIN:VEVENT
DTSTART;TZID=America/Los_Angeles:20260110T100000
DTEND;TZID=America/Los_Angeles:20260110T143000
DTSTAMP:20260421T101128
CREATED:20260108T200719Z
LAST-MODIFIED:20260108T200759Z
UID:10027313-1768039200-1768055400@youthwell.org
SUMMARY:Heroic Activation Workshop - Make 2026 the Greatest Year of Your Life
DESCRIPTION:This workshop aims to help you make 2026 your greatest year yet. This 4-hour experience helps people reclaim their energy\, sharpen their focus\, clarify what matters most\, build confidence through meaningful action\, and identify 3-5 tiny habits you can start in order to achieve your goals for this year. \nThe workshop is normally $250\, but for a limited time use the coupon code: “Activation101” to register FOR FREE. This code is only good until Friday January 9\, at 9:00pm. \n\nWHEN: Saturday\, January 10\nWHERE: 1528 Chapala Street\, Suite 305\, Santa Barbara\, CA\nREGISTRATION: REQUIRED >>\nCOST: $0 (this workshop is normally $250 but is being offered for FREE with the coupon code “Activation101”)\nHOST: Steve Caputo\nCONTACT: For questions and support email support@heroic.us
URL:https://youthwell.org/event/heroic-activation-workshop-make-2026-the-greatest-year-of-your-life/
LOCATION:1528 Chapala Street\, Santa Barbara\, 1528 Chapala Street\, Suite 305\, Santa Barbara\, 93101\, United States
CATEGORIES:Activities/Classes,Workshops, Trainings, Speakers
ATTACH;FMTTYPE=image/png:https://youthwell.org/wp-content/uploads/2026/01/Calendar-Heroic-Activation-Workshop.png
END:VEVENT
BEGIN:VEVENT
DTSTART;TZID=America/Los_Angeles:20260113T100000
DTEND;TZID=America/Los_Angeles:20260113T113000
DTSTAMP:20260421T101128
CREATED:20260108T192531Z
LAST-MODIFIED:20260108T192531Z
UID:10027191-1768298400-1768303800@youthwell.org
SUMMARY:FREE WEBINAR - Operation Parent
DESCRIPTION:Operation Parent is providing two free webinar sessions for parents\, caregivers\, and professionals. These webinars combine research\, real-life experience\, and trusted guidance in order to inform and equip you to make a meaningful difference in the lives of youth in your life. Spanish captions will be available live during the webinar and full Spanish translations will be made available later that day. \nJanuary 13 – Growing Minds and Modern Highs – THC\, Hemp\, & Kratom: Explore the latest youth substances and their effects on developing brains and mental health. Julie Dreifaldt from One Chance to Grow Up will share her first-hand experience in youth substance use and explain practical ways to guide young people safely. \nFebruary 11 – The Mind-Risk Connection – How Mental Health can Influence Substance Use: Dr. Linda Richter from Partnership to End Addiction will discuss how mental health and substance use in youth are often connected. She will be joined by Stephanie Marquesano\, founder of The Harris Project\, who will share her personal experiences\, how to spot warning signs\, reduce risk\, and intervene before small problems become bigger ones. \n\nWHEN: Tuesday\, January 13 and Wednesday\, February 11\nWHERE: Zoom (link provided after registration)\nREGISTRATION: REQUIRED >>\nCOST: $0\nCONTACT: Submit questions >>
URL:https://youthwell.org/event/free-webinar-operation-parent/2026-01-13/
LOCATION:*VIRTUAL-ZOOM*\, ONLINE\, CA
CATEGORIES:Activities/Classes,Parent Education,Workshops, Trainings, Speakers
ATTACH;FMTTYPE=image/png:https://youthwell.org/wp-content/uploads/2026/01/Calendar-Operation-Parent.png
ORGANIZER;CN="Operation Parent":MAILTO:info@operationparent.org
END:VEVENT
BEGIN:VEVENT
DTSTART;TZID=America/Los_Angeles:20260113T174500
DTEND;TZID=America/Los_Angeles:20260113T191500
DTSTAMP:20260421T101128
CREATED:20251219T221251Z
LAST-MODIFIED:20251231T195323Z
UID:10027058-1768326300-1768331700@youthwell.org
SUMMARY:YouthWell's YAB Mentor Sessions:  Teen-Led.  Expert-Supported.
DESCRIPTION:Join Santa Barbara area students now attending colleges across the country as they share real experiences with academic stress\, what helped\, what didn’t\, and what they wish they had known in high school.  \nTherapist Melissa Lowenstein will help students understand the difference between stress and distress\, and share accessible coping tools. \nFree • REGISTRATION REQUIRED >> \nZoom link provided after registration\nQuestions: yab@youthwell.org | 805.770.1239 \nSession Dates:  \nJanuary 13\, 2026 | 5:45–7:15 PM | Virtual • Academic Stress \nFebruary 10\, 2026 | 5:45–7:15 PM | Virtual • Social Connection & Mental Wellness \nMarch 10\, 2026 | 5:45–7:15 PM | Virtual • Peer Support \nApril 28\, 2026 | 5:45–7:15 PM | Virtual • Politics & Mental Health \nYouthWell Mentor Sessions are interactive\, youth-centered conversations focused on real-life challenges that impact mental health and wellbeing. \nEach session explores a timely topic\, such as academic stress\, peer support\, social connection\, or navigating today’s political climate\, through a mix of expert insight and lived experience. Youth hear from mental health professionals\, community leaders\, and near-peer mentors\, including college students and former Youth Advocacy Board members\, who share practical tools\, personal stories\, and strategies for coping\, connection\, and self-care. \nMentor Sessions are designed to help young people feel less alone\, build confidence in supporting themselves and others\, and walk away with skills they can actually use. \nOpen to youth ages 10–25 and parents
URL:https://youthwell.org/event/youthwells-yab-mentor-sessions-teen-led-expert-supported/2026-01-13/
LOCATION:*VIRTUAL-ZOOM*\, ONLINE\, CA
CATEGORIES:Workshops, Trainings, Speakers,Youth Classes [10-25],YouthWell Groups & Workshops,youthwell newsletter feature
ATTACH;FMTTYPE=image/png:https://youthwell.org/wp-content/uploads/2025/12/AKH-Draft-DEC-1-1.png
ORGANIZER;CN="YouthWell":MAILTO:outreach@youthwell.org
END:VEVENT
BEGIN:VEVENT
DTSTART;TZID=America/Los_Angeles:20260115T090000
DTEND;TZID=America/Los_Angeles:20260115T100000
DTSTAMP:20260421T101128
CREATED:20251212T164430Z
LAST-MODIFIED:20251212T202750Z
UID:10027052-1768467600-1768471200@youthwell.org
SUMMARY:WORKSHOP: Strategies for Families & Providers to Challenge Insurance Denials
DESCRIPTION:Families and providers often face confusing and frustrating obstacles when insurance plans delay\, deny\, or refuse to pay for mental health care. \nJoin us for a workshop where staff from DMHC and the CA Insurance Commissioner’s Office will guide families and providers on how to file complaints effectively\, challenge denials\, and secure reimbursement for mental health care. \n\nDATE #1: Thursday\, January 15 from 9:00-10:00am\nDATE #2: Wednesday\, February 4 from 6:30-7:30pm\nWHERE: Virtual on ZOOM [link shared after registration]\nREGISTRATOIN: REQUIRED…https://wkf.ms/4iRdEmh\nCOST: FREE\nCONTACT: navigator@youthwell.org\n\nParticipants will learn: \n\nKey mental health coverage rights\nEffective strategies for responding to insurance denials\nHow and when to file complaints with DMHC\nHow families can request reimbursement and escalate appeals\nHow providers can strengthen claims\, submit for payment\, and push back when coverage is denied\n\nParticipants will leave with tools\, scripts\, and pathways to navigate barriers and hold insurance plans accountable.
URL:https://youthwell.org/event/workshop-strategies-for-families-providers-to-challenge-insurance-denials/2026-01-15/
LOCATION:*VIRTUAL-ZOOM*\, ONLINE\, CA
CATEGORIES:Activities/Classes,Clases en español,Parent Education,Workshops, Trainings, Speakers,YouthWell Groups & Workshops,youthwell newsletter feature
ATTACH;FMTTYPE=image/jpeg:https://youthwell.org/wp-content/uploads/2025/12/Workshop-insurance-calendar-2026.jpg
ORGANIZER;CN="YouthWell":MAILTO:outreach@youthwell.org
END:VEVENT
BEGIN:VEVENT
DTSTART;TZID=America/Los_Angeles:20260119T190000
DTEND;TZID=America/Los_Angeles:20260119T203000
DTSTAMP:20260421T101128
CREATED:20260114T224551Z
LAST-MODIFIED:20260114T224551Z
UID:10027314-1768849200-1768854600@youthwell.org
SUMMARY:PFLAG Santa Barbara January Zoom Meeting
DESCRIPTION:Please join us for our January meeting where we will be discussing and learning about “Trans Athletes in Youth and Pro Sports”.  For some people the first time they hear about trans people is in the context of “fairness” in sports.  This topic is often the gateway to harmful\, hateful beliefs and actions.  Come learn how we can lead with love and learn together.  There is always time for discussion and support.  This is a Zoom meeting and pre-registration is required by emailing pflagsantabarbara@gmail.com
URL:https://youthwell.org/event/pflag-santa-barbara-january-zoom-meeting/
CATEGORIES:Community Events,LGBTQ+ Support,Parent Education,Workshops, Trainings, Speakers
ATTACH;FMTTYPE=image/png:https://youthwell.org/wp-content/uploads/2026/01/January-19th-meeting-website.png
ORGANIZER;CN="PFlag":MAILTO:pflagsantabarbara@gmail.com
END:VEVENT
BEGIN:VEVENT
DTSTART;TZID=America/Los_Angeles:20260122T090000
DTEND;TZID=America/Los_Angeles:20260122T140000
DTSTAMP:20260421T101128
CREATED:20260108T182001Z
LAST-MODIFIED:20260108T182001Z
UID:10027189-1769072400-1769090400@youthwell.org
SUMMARY:VIRTUAL SUMMIT: Life After Loss
DESCRIPTION:A no-cost two-day virtual summit exploring grief aftermath for educators\, mental health providers\, school leaders\, and child advocates hosted by the Center for Applied Research Solutions team. This event is an opportunity to engage in a rich learning experience through workshops\, panels\, keynotes\, and discussion forums focused on grief work and aftermath. \nDay One – January 22 – Main Summit: Topics will focus on grief aftermath. The summit is open to the public but recommended for educators\, school leaders\, afterschool and extended learning staff\, bereavement specialists\, community leaders\, behavioral health providers\, and anyone navigating grief aftermath. \nDay Two – January 23 – Special Space for Providers’ Grief Processing: Topics will focus on providers processing grief while supporting youth in need. This summit is designed specifically for behavioral health providers both school and non-school based. \n\nWHEN: Thursday\, January 22 and Friday\, January 23\nWHERE: Zoom (link provided after registering)\nREGISTRATION: REQUIRED >> \nCOST: $0\nCONTACT: Email any questions to pacificsouthwest@mhttcnetwork.org
URL:https://youthwell.org/event/virtual-summit-life-after-loss/2026-01-22/
LOCATION:*VIRTUAL-ZOOM*\, ONLINE\, CA
CATEGORIES:Activities/Classes,Parent Education,Workshops, Trainings, Speakers
ATTACH;FMTTYPE=image/png:https://youthwell.org/wp-content/uploads/2026/01/Calendar-Center-for-Applied-Research-Solutions.png
END:VEVENT
BEGIN:VEVENT
DTSTART;TZID=America/Los_Angeles:20260122T180000
DTEND;TZID=America/Los_Angeles:20260122T190000
DTSTAMP:20260421T101128
CREATED:20260108T160957Z
LAST-MODIFIED:20260108T160957Z
UID:10027188-1769104800-1769108400@youthwell.org
SUMMARY:Calm the Storm: Helping Anxious Kids Through Parent Support
DESCRIPTION:Calm the Storm: Helping Anxious Kids Through Parent Support (Virtual Community Education Event) \nJoin us on Thursday\, January 2 from 6:00 to 7:00 PM PST on Zoom for a practical\, hope-filled training on supporting kids and teens with anxiety\, OCD\, and related challenges. Dr. Katrina Rydzewski\, PsyD will introduce SPACE (Supportive Parenting for Anxious Childhood Emotions)\, an evidence-based approach that helps caregivers reduce unhelpful “accommodations” and strengthen supportive responses that can decrease anxiety over time. \nRSVP required\, RSVP here. Zoom link provided upon registration).
URL:https://youthwell.org/event/calm-the-storm-helping-anxious-kids-through-parent-support/
LOCATION:*VIRTUAL-ZOOM*\, ONLINE\, CA
CATEGORIES:Activities/Classes,Community Events,Parent Education,Workshops, Trainings, Speakers
ATTACH;FMTTYPE=image/png:https://youthwell.org/wp-content/uploads/2025/09/Calendar-Fusion-2-2.png
END:VEVENT
BEGIN:VEVENT
DTSTART;TZID=America/Los_Angeles:20260122T180000
DTEND;TZID=America/Los_Angeles:20260122T190000
DTSTAMP:20260421T101128
CREATED:20260116T193008Z
LAST-MODIFIED:20260116T193358Z
UID:10027382-1769104800-1769108400@youthwell.org
SUMMARY:WEBINAR: Calm the Storm - Helping Anxious Kids Through Parent Support - Fusion Academy
DESCRIPTION:Fusion Academy is hosting a FREE virtual community education event. This webinar will provide an overview of SPACE treatment\, deepen parents’ understanding of childhood anxiety and accommodation\, and offer practical tools to reduce their child’s anxiety. SPACE (Supportive Parenting for Anxious Childhood Emotions) is an evidence-based program that helps children and teens overcome anxiety and related challenges by working directly with the parents – not the child. Research shows that when parents change their patterns\, kids’ anxiety can decrease significantly without the intervention of therapy. \nThe webinar will be led by Dr. Katrina Rydzewski\, Psy.D\, a clinical psychologist specializing in anxiety-related disorders in children and adolescents. \n\nWHEN: Thursday\, January 22 from 6:00pm-7:00pm\nWHERE: Zoom (link will be provided upon RSVP)\nREGISTRATION: RSVP Here >> **REQUIRED\nCONTACT: Email at losangeles@fusionacademy.com or call 310-445-2516\nCOST: $0
URL:https://youthwell.org/event/webinar-calm-the-storm-helping-anxious-kids-through-parent-support-fusion-academy/
LOCATION:*VIRTUAL-ZOOM*\, ONLINE\, CA
CATEGORIES:Activities/Classes,Community Events,Parent Education,Workshops, Trainings, Speakers
ATTACH;FMTTYPE=image/png:https://youthwell.org/wp-content/uploads/2025/09/Calendar-Fusion-2-2.png
END:VEVENT
BEGIN:VEVENT
DTSTART;TZID=America/Los_Angeles:20260123T090000
DTEND;TZID=America/Los_Angeles:20260123T120000
DTSTAMP:20260421T101128
CREATED:20260108T182001Z
LAST-MODIFIED:20260108T182001Z
UID:10027190-1769158800-1769169600@youthwell.org
SUMMARY:VIRTUAL SUMMIT: Life After Loss
DESCRIPTION:A no-cost two-day virtual summit exploring grief aftermath for educators\, mental health providers\, school leaders\, and child advocates hosted by the Center for Applied Research Solutions team. This event is an opportunity to engage in a rich learning experience through workshops\, panels\, keynotes\, and discussion forums focused on grief work and aftermath. \nDay One – January 22 – Main Summit: Topics will focus on grief aftermath. The summit is open to the public but recommended for educators\, school leaders\, afterschool and extended learning staff\, bereavement specialists\, community leaders\, behavioral health providers\, and anyone navigating grief aftermath. \nDay Two – January 23 – Special Space for Providers’ Grief Processing: Topics will focus on providers processing grief while supporting youth in need. This summit is designed specifically for behavioral health providers both school and non-school based. \n\nWHEN: Thursday\, January 22 and Friday\, January 23\nWHERE: Zoom (link provided after registering)\nREGISTRATION: REQUIRED >> \nCOST: $0\nCONTACT: Email any questions to pacificsouthwest@mhttcnetwork.org
URL:https://youthwell.org/event/virtual-summit-life-after-loss/2026-01-23/
LOCATION:*VIRTUAL-ZOOM*\, ONLINE\, CA
CATEGORIES:Activities/Classes,Parent Education,Workshops, Trainings, Speakers
ATTACH;FMTTYPE=image/png:https://youthwell.org/wp-content/uploads/2026/01/Calendar-Center-for-Applied-Research-Solutions.png
END:VEVENT
BEGIN:VEVENT
DTSTART;TZID=America/Los_Angeles:20260123T160000
DTEND;TZID=America/Los_Angeles:20260123T193000
DTSTAMP:20260421T101128
CREATED:20260116T195347Z
LAST-MODIFIED:20260116T195347Z
UID:10027378-1769184000-1769196600@youthwell.org
SUMMARY:IN-PERSON Know Your Rights Trainings (Santa Maria\, Lompoc\, Carp) - 805 UndocuFund
DESCRIPTION:Rapid Response and Know Your Rights trainings are taking place across the Central Coast to equip our communities with the knowledge and tools to respond to ICE. Anyone can play a role in defending their community. Find a training date and location near you – exact locations will be provided after registration. Please RSVP as soon as possible. \nSanta Maria: \n\nWHEN: Friday\, January 23 from 4:00pm-7:30pm\nREGISTER HERE >\n\nLompoc: \n\nWHEN: Friday\, January 30 from 6:00pm-8:30pm\nREGISTER HERE >\n\nCarpinteria: \n\nWHEN: Saturday\, January 31 at 4:00pm\nREGISTER HERE >\n\nFor more information\, email info@805undocufund.org or call (805) 200-8471. Future training dates can be found at 805undocufund.org/trainings.
URL:https://youthwell.org/event/in-person-know-your-rights-trainings-santa-maria-lompoc-carp-805-undocufund/2026-01-23/
CATEGORIES:Activities/Classes,Community Events,Parent Education,Workshops, Trainings, Speakers
ATTACH;FMTTYPE=image/png:https://youthwell.org/wp-content/uploads/2026/01/Calendar-HEADINGS-1.png
END:VEVENT
BEGIN:VEVENT
DTSTART;TZID=America/Los_Angeles:20260127T093000
DTEND;TZID=America/Los_Angeles:20260127T110000
DTSTAMP:20260421T101128
CREATED:20251231T021709Z
LAST-MODIFIED:20251231T195304Z
UID:10027056-1769506200-1769511600@youthwell.org
SUMMARY:Asking the Right Questions
DESCRIPTION:Do you ever feel you are not receiving the information you are\nseeking when communicating with your child’s school team?\nCome join the Alpha FEC and learn effective strategies when it\ncomes to asking the right questions and communicate in a\nproductive manner. \nFor more information contact: Gema Herrera\, gherrera@alphasb.org\, 805-452-8789. \nJoin via zoom: Meeting Identification: 832 7768 9421
URL:https://youthwell.org/event/asking-the-right-questions/
LOCATION:*VIRTUAL-ZOOM*\, ONLINE\, CA
CATEGORIES:Parent Education,Workshops, Trainings, Speakers,youthwell newsletter feature
ATTACH;FMTTYPE=image/png:https://youthwell.org/wp-content/uploads/2023/05/Screen-Shot-2023-05-28-at-4.55.12-PM-e1686188577533.png
END:VEVENT
BEGIN:VEVENT
DTSTART;TZID=America/Los_Angeles:20260127T120000
DTEND;TZID=America/Los_Angeles:20260127T133000
DTSTAMP:20260421T101128
CREATED:20260116T193748Z
LAST-MODIFIED:20260116T193748Z
UID:10027381-1769515200-1769520600@youthwell.org
SUMMARY:WEBINAR: Virtual Psychiatric Grand Rounds - Sleep Health Principles and Advances
DESCRIPTION:Cottage Health Psychiatry and Addiction Medicine is hosting a FREE community education event providing an overview of advances in sleep and circadian regulation\, principles of sleep health\, and strategies for the diagnosis and treatment of sleep disorders. Registration is required to attend and a Zoom link will be provided after registering. \nThe event will be led by speaker Daniel Lewin\, PhD. Dr. Lewin is a licensed clinical psychologist\, sleep medicine researcher\, sleep clinician and pediatric psychologist who is passionated about educating providers and the public about sleep health. \nBRN and CAMFT continuing education credit are available only to Cottage Health Employees. \n\nWHEN: Tuesday\, January 27 from 12pm-1:30pm\nWHERE: Zoom (link provided after registration)\nREGISTRATION: Register here >> **REQUIRED\nCOST: $0
URL:https://youthwell.org/event/webinar-virtual-psychiatric-grand-rounds-sleep-health-principles-and-advances/
LOCATION:*VIRTUAL-ZOOM*\, ONLINE\, CA
CATEGORIES:Activities/Classes,Community Events,Workshops, Trainings, Speakers
ORGANIZER;CN="Cottage Psychiatry and Addiction Medicine":MAILTO:fmckinne@sbch.org
END:VEVENT
BEGIN:VEVENT
DTSTART;TZID=America/Los_Angeles:20260130T090000
DTEND;TZID=America/Los_Angeles:20260130T150000
DTSTAMP:20260421T101128
CREATED:20260106T202530Z
LAST-MODIFIED:20260106T202530Z
UID:10027187-1769763600-1769785200@youthwell.org
SUMMARY:Clear Is Kind - Youth Linkages Network In-Person Retreat\, Lompoc
DESCRIPTION:In mental health work\, clarity is a form of kindness. This session introduces the Clear Is Kind framework – a practical\, compassionate approach to communication that helps working professionals protect their capacity\, set healthy boundaries\, and build trust in their work with clients\, colleagues\, and systems. \n\nWHEN: FRIDAY\, JANUARY 30th from 9:00-3:00pm\nWHERE: Dick DeWees Community Center\, 1120 W Ocean Ave\, Lompoc\, CA 93436\nREGISTRATION: REQUIRED > by Jan 22nd\nCOST: $20 (includes lunch\, materials\, speakers — pay using reg form)\nQUESTIONS: <programs@youthwell.org> OR 805.770.1239\nHOST: YouthWell\, SBC Behavioral Wellness\, SBC Education Office\n\nThis one-day\, in-person Youth Linkages Network Retreat will explore tools for navigating tough conversations\, listening in ways that build trust\, and using productivity strategies that help busy teams stay focused on what matters.
URL:https://youthwell.org/event/clear-is-kind-youth-linkages-network-in-person-retreat-lompoc/
LOCATION:Dick DeWees Center\, 1120 W Ocean Ave\, Lompoc\, 93436\, United States
CATEGORIES:Workshops, Trainings, Speakers,youthwell newsletter feature
ATTACH;FMTTYPE=image/png:https://youthwell.org/wp-content/uploads/2022/10/Logo_YouthWell.png
ORGANIZER;CN="YouthWell":MAILTO:outreach@youthwell.org
END:VEVENT
BEGIN:VEVENT
DTSTART;TZID=America/Los_Angeles:20260130T180000
DTEND;TZID=America/Los_Angeles:20260130T203000
DTSTAMP:20260421T101128
CREATED:20260116T195347Z
LAST-MODIFIED:20260116T195347Z
UID:10027379-1769796000-1769805000@youthwell.org
SUMMARY:IN-PERSON Know Your Rights Trainings (Santa Maria\, Lompoc\, Carp) - 805 UndocuFund
DESCRIPTION:Rapid Response and Know Your Rights trainings are taking place across the Central Coast to equip our communities with the knowledge and tools to respond to ICE. Anyone can play a role in defending their community. Find a training date and location near you – exact locations will be provided after registration. Please RSVP as soon as possible. \nSanta Maria: \n\nWHEN: Friday\, January 23 from 4:00pm-7:30pm\nREGISTER HERE >\n\nLompoc: \n\nWHEN: Friday\, January 30 from 6:00pm-8:30pm\nREGISTER HERE >\n\nCarpinteria: \n\nWHEN: Saturday\, January 31 at 4:00pm\nREGISTER HERE >\n\nFor more information\, email info@805undocufund.org or call (805) 200-8471. Future training dates can be found at 805undocufund.org/trainings.
URL:https://youthwell.org/event/in-person-know-your-rights-trainings-santa-maria-lompoc-carp-805-undocufund/2026-01-30/
CATEGORIES:Activities/Classes,Community Events,Parent Education,Workshops, Trainings, Speakers
ATTACH;FMTTYPE=image/png:https://youthwell.org/wp-content/uploads/2026/01/Calendar-HEADINGS-1.png
END:VEVENT
BEGIN:VEVENT
DTSTART;TZID=America/Los_Angeles:20260131T160000
DTEND;TZID=America/Los_Angeles:20260131T183000
DTSTAMP:20260421T101128
CREATED:20260116T195347Z
LAST-MODIFIED:20260116T195347Z
UID:10027380-1769875200-1769884200@youthwell.org
SUMMARY:IN-PERSON Know Your Rights Trainings (Santa Maria\, Lompoc\, Carp) - 805 UndocuFund
DESCRIPTION:Rapid Response and Know Your Rights trainings are taking place across the Central Coast to equip our communities with the knowledge and tools to respond to ICE. Anyone can play a role in defending their community. Find a training date and location near you – exact locations will be provided after registration. Please RSVP as soon as possible. \nSanta Maria: \n\nWHEN: Friday\, January 23 from 4:00pm-7:30pm\nREGISTER HERE >\n\nLompoc: \n\nWHEN: Friday\, January 30 from 6:00pm-8:30pm\nREGISTER HERE >\n\nCarpinteria: \n\nWHEN: Saturday\, January 31 at 4:00pm\nREGISTER HERE >\n\nFor more information\, email info@805undocufund.org or call (805) 200-8471. Future training dates can be found at 805undocufund.org/trainings.
URL:https://youthwell.org/event/in-person-know-your-rights-trainings-santa-maria-lompoc-carp-805-undocufund/2026-01-31/
CATEGORIES:Activities/Classes,Community Events,Parent Education,Workshops, Trainings, Speakers
ATTACH;FMTTYPE=image/png:https://youthwell.org/wp-content/uploads/2026/01/Calendar-HEADINGS-1.png
END:VEVENT
END:VCALENDAR