BEGIN:VCALENDAR
VERSION:2.0
PRODID:-//YouthWell - ECPv6.15.20//NONSGML v1.0//EN
CALSCALE:GREGORIAN
METHOD:PUBLISH
X-WR-CALNAME:YouthWell
X-ORIGINAL-URL:https://youthwell.org
X-WR-CALDESC:Events for YouthWell
REFRESH-INTERVAL;VALUE=DURATION:PT1H
X-Robots-Tag:noindex
X-PUBLISHED-TTL:PT1H
BEGIN:VTIMEZONE
TZID:America/Los_Angeles
BEGIN:DAYLIGHT
TZOFFSETFROM:-0800
TZOFFSETTO:-0700
TZNAME:PDT
DTSTART:20240310T100000
END:DAYLIGHT
BEGIN:STANDARD
TZOFFSETFROM:-0700
TZOFFSETTO:-0800
TZNAME:PST
DTSTART:20241103T090000
END:STANDARD
BEGIN:DAYLIGHT
TZOFFSETFROM:-0800
TZOFFSETTO:-0700
TZNAME:PDT
DTSTART:20250309T100000
END:DAYLIGHT
BEGIN:STANDARD
TZOFFSETFROM:-0700
TZOFFSETTO:-0800
TZNAME:PST
DTSTART:20251102T090000
END:STANDARD
BEGIN:DAYLIGHT
TZOFFSETFROM:-0800
TZOFFSETTO:-0700
TZNAME:PDT
DTSTART:20260308T100000
END:DAYLIGHT
BEGIN:STANDARD
TZOFFSETFROM:-0700
TZOFFSETTO:-0800
TZNAME:PST
DTSTART:20261101T090000
END:STANDARD
END:VTIMEZONE
BEGIN:VEVENT
DTSTART;TZID=America/Los_Angeles:20251210T190000
DTEND;TZID=America/Los_Angeles:20251210T200000
DTSTAMP:20260420T220921
CREATED:20251208T200913Z
LAST-MODIFIED:20251208T201013Z
UID:10027043-1765393200-1765396800@youthwell.org
SUMMARY:Healing Through the Holidays (Parent Workshop)
DESCRIPTION:The holidays can be a tough time of year\, but can also be a great moment to stop\, reflect\, and set goals. That’s what this workshop is about! \nJoin me\, Griffin Saxon (LCSW) on Wednesday\, December 10th at 7:00 PM for a free Zoom presentation for parents and guardians\, exploring strategies to help you and your child cope\, relax\, and grow into the new year.
URL:https://youthwell.org/event/healing-through-the-holidays-parent-workshop/
LOCATION:*VIRTUAL-ZOOM*\, ONLINE\, CA
CATEGORIES:Parent Education,Workshops, Trainings, Speakers
ATTACH;FMTTYPE=image/png:https://youthwell.org/wp-content/uploads/2025/12/Copy-of-Blue-Holiday-Winter-Wonderland-Festival-Flyer-1920-x-1080-px-e1765224605182.png
ORGANIZER;CN="Griffin Saxon":MAILTO:info@griffinsaxontherapy.com
END:VEVENT
END:VCALENDAR