BEGIN:VCALENDAR
VERSION:2.0
PRODID:-//YouthWell - ECPv6.15.20//NONSGML v1.0//EN
CALSCALE:GREGORIAN
METHOD:PUBLISH
X-WR-CALNAME:YouthWell
X-ORIGINAL-URL:https://youthwell.org
X-WR-CALDESC:Events for YouthWell
REFRESH-INTERVAL;VALUE=DURATION:PT1H
X-Robots-Tag:noindex
X-PUBLISHED-TTL:PT1H
BEGIN:VTIMEZONE
TZID:America/Los_Angeles
BEGIN:DAYLIGHT
TZOFFSETFROM:-0800
TZOFFSETTO:-0700
TZNAME:PDT
DTSTART:20240310T100000
END:DAYLIGHT
BEGIN:STANDARD
TZOFFSETFROM:-0700
TZOFFSETTO:-0800
TZNAME:PST
DTSTART:20241103T090000
END:STANDARD
BEGIN:DAYLIGHT
TZOFFSETFROM:-0800
TZOFFSETTO:-0700
TZNAME:PDT
DTSTART:20250309T100000
END:DAYLIGHT
BEGIN:STANDARD
TZOFFSETFROM:-0700
TZOFFSETTO:-0800
TZNAME:PST
DTSTART:20251102T090000
END:STANDARD
BEGIN:DAYLIGHT
TZOFFSETFROM:-0800
TZOFFSETTO:-0700
TZNAME:PDT
DTSTART:20260308T100000
END:DAYLIGHT
BEGIN:STANDARD
TZOFFSETFROM:-0700
TZOFFSETTO:-0800
TZNAME:PST
DTSTART:20261101T090000
END:STANDARD
END:VTIMEZONE
BEGIN:VEVENT
DTSTART;TZID=America/Los_Angeles:20251103T150000
DTEND;TZID=America/Los_Angeles:20251103T170000
DTSTAMP:20260420T122456
CREATED:20250918T163621Z
LAST-MODIFIED:20250918T163621Z
UID:10026205-1762182000-1762189200@youthwell.org
SUMMARY:WORKSHOP: Youth System of Care  - Lompoc
DESCRIPTION:Please join us for our Behavioral Health Services Act (BHSA) Community Workshops! \nOur goal is to provide meaningful information about the status of our local programs\, and create implementation strategies! Refreshments and giftcards for participation will be provided! \n\nWHEN: Monday\, November 3rd from 3:00-5:00pm\nWHERE: Lompoc Public Library\, 501 E North Ave\, Lompoc\, CA 93436\nREGISTRATION: REQUIRED >>\nTOPIC: Youth System of Care\n\nFor any questions\, please contact nrossi@sbcbwell.org \n—–ESPANOL—– \n¡Únase a nosotros en nuestros talleres comunitarios sobre la Ley de Servicios de Salud Conductual! \nNuestro objetivo es brindar información útil sobre el estado de nuestros programas locales y crear estrategias de implementación. ¡Se ofrecerán refrigerios y tarjetas de regalo por participar! \n\nCUÁNDO: Lunes 3 de noviembre de 15:00 a 17:00 horas\nDÓNDE: Biblioteca Pública de Lompoc\, 501 E North Ave\, Lompoc\, CA 93436\nREGISTRO: REQUERIDO >>\nTEMA: Sistema de atención a la juventud\n\nPara cualquier pregunta\, comuníquese con nrossi@sbcbwell.org
URL:https://youthwell.org/event/workshop-youth-system-of-care-lompoc/
LOCATION:Lompoc Public Library\, 501 E. North Ave\, Lompoc\, 93436\, United States
CATEGORIES:Workshops, Trainings, Speakers
ATTACH;FMTTYPE=image/jpeg:https://youthwell.org/wp-content/uploads/2025/09/Image-9-17-25-at-3.58-PM.jpeg
END:VEVENT
BEGIN:VEVENT
DTSTART;TZID=America/Los_Angeles:20251104T100000
DTEND;TZID=America/Los_Angeles:20251104T110000
DTSTAMP:20260420T122456
CREATED:20251016T141730Z
LAST-MODIFIED:20251016T141730Z
UID:10026510-1762250400-1762254000@youthwell.org
SUMMARY:Mind of Media: Supporting Kids' Mental Health & Behavior Online
DESCRIPTION:Kids face constant screen time and social media pressures\, shaping emotions\, behavior\, and mental health. Join Dr. Dave Anderson of the Child Mind Institute for a practical talk on guiding kids in the digital world. Learn how screen use affects youth\, how to set limits\, and strategies to build resilience for healthier\, more balanced lives online and off. \nAll webinars are free. LINK to Register>> \nPreview of Webinar \n 
URL:https://youthwell.org/event/mind-of-media-supporting-kids-mental-health-behavior-online/
LOCATION:*VIRTUAL-ZOOM*\, ONLINE\, CA
CATEGORIES:Workshops, Trainings, Speakers
ATTACH;FMTTYPE=image/png:https://youthwell.org/wp-content/uploads/2025/08/Screenshot-2025-08-06-at-7.31.44-AM.png
ORGANIZER;CN="Operation Parent":MAILTO:info@operationparent.org
END:VEVENT
BEGIN:VEVENT
DTSTART;TZID=America/Los_Angeles:20251104T163000
DTEND;TZID=America/Los_Angeles:20251104T180000
DTSTAMP:20260420T122456
CREATED:20251006T223602Z
LAST-MODIFIED:20251006T223602Z
UID:10026488-1762273800-1762279200@youthwell.org
SUMMARY:4 Week Babysitting 101 Class - Lompoc Public Library
DESCRIPTION:The Lompoc Public Library is offering a new\, FREE program for teens interested in learning about babysitting. “Babysitting 101” is for youth ages 13-18. The course will cover the basics of starting a babysitting business\, tips on interacting with clients\, and activity ideas. \nDATES: TUESDAYS from 4:30-6:00pm — Oct 14\, 21\, 28\, Nov 4\nWHERE:  Lompoc Public Library  – 501 E North Ave\, Lompoc\, CA 93436\nREGISTRATION: Fill out Registration Form using link OR call the Lompoc Public Library: (805)-875-8775\nCOST: FREE 
URL:https://youthwell.org/event/4-week-babysitting-101-class-lompoc-public-library/2025-11-04/
LOCATION:Lompoc Public Library\, 501 E. North Ave\, Lompoc\, 93436\, United States
CATEGORIES:Activities/Classes,Parent Education,Workshops, Trainings, Speakers
ATTACH;FMTTYPE=image/png:https://youthwell.org/wp-content/uploads/2025/10/Calendar-Lompoc-Public-Library.png
END:VEVENT
BEGIN:VEVENT
DTSTART;TZID=America/Los_Angeles:20251105T093000
DTEND;TZID=America/Los_Angeles:20251105T110000
DTSTAMP:20260420T122456
CREATED:20251104T193911Z
LAST-MODIFIED:20251104T194632Z
UID:10026876-1762335000-1762340400@youthwell.org
SUMMARY:Taller virtual: Que hacer cuando no esta de acuerdo: Introduccion to ADR
DESCRIPTION:Los desacuerdos ocurren. Venga a aprender sobre un proceso que puede ayudarle a superar estos desacuerdos y trabaje en conversaciones colaborativas para que su estudiante obtenga lo que necesita. \n\nCUÁNDO: MIÉRCOLES 5 DE NOVIEMBRE de 9:30-11:00am\nDÓNDE: VIRTUAL vía ZOOM [identificación de la junta: 827 1216 7793]\nPRESENTADORA: en colaboración con Jennifer Connolly de SBCSELPA\nCONTACTO: Gema Herrera (bilingue)\, <gherrera@alphasb.org>\, 805.452.8789
URL:https://youthwell.org/event/que-hacer-cuando-no-esta-de-acuerdo-introduccion-to-adr/
LOCATION:*VIRTUAL-ZOOM*\, ONLINE\, CA
CATEGORIES:Workshops, Trainings, Speakers
ATTACH;FMTTYPE=image/png:https://youthwell.org/wp-content/uploads/2023/05/Screen-Shot-2023-05-28-at-4.55.12-PM-e1686188577533.png
END:VEVENT
BEGIN:VEVENT
DTSTART;TZID=America/Los_Angeles:20251107T120000
DTEND;TZID=America/Los_Angeles:20251107T130000
DTSTAMP:20260420T122456
CREATED:20250929T222927Z
LAST-MODIFIED:20250929T222927Z
UID:10026478-1762516800-1762520400@youthwell.org
SUMMARY:PRESENTATION: Autism Assessment & Neurodivergent Support Skills — Fusion Academy
DESCRIPTION:Join Fusion Academy for the two more speakers of their Fall Speaker Series\, Rebekah Lovejoy\, LMFT\, and Anna Krasno\, Ph.D. \nAs a therapist in private practice and core staff at Santa Barbara City College’s counseling department\, Rebekah Lovejoy will provide an overview of common challenges faced by neurodivergent teens and offer somatic tools to support grounding and regulation. \nDr. Krasno will explore the value of neurodiversity-affirming assessment for autism\, highlight the critical role of accurate diagnosis\, as well as offer a framework for how to build more inclusive environments for neurodivergent individuals. \nWHEN: FRIDAY\, November 7th from 12:00-1:00pm\nWHERE: Fusion Academy – 510 State St Suite 200\, Santa Barbara\, CA 93101\nREGISTER: RSVP using link
URL:https://youthwell.org/event/presentation-autism-assessment-neurodivergent-support-skills-fusion-academy/
LOCATION:Fusion Academy\, 510 State Street suite 200\, Santa Barbara\, CA\, 93101\, United States
CATEGORIES:Parent Education,Workshops, Trainings, Speakers
ATTACH;FMTTYPE=image/png:https://youthwell.org/wp-content/uploads/2025/09/Calendar-Fusion-2-2.png
END:VEVENT
BEGIN:VEVENT
DTSTART;TZID=America/Los_Angeles:20251115T100000
DTEND;TZID=America/Los_Angeles:20251115T160000
DTSTAMP:20260420T122456
CREATED:20250909T210846Z
LAST-MODIFIED:20250909T210846Z
UID:10026197-1763200800-1763222400@youthwell.org
SUMMARY:Career & College Fair - Lompoc Teen Center
DESCRIPTION:Come join us at Lompoc Teen Center PATHWAYS\, a career conference for teens. This FREE event for 7th-12th grade students offers interactive workshops\, a career and college fair\, internship opportunities\, poster presentations\, and more. \n\nWHEN: Saturday\, November 15th from 10:00AM – 4:00PM\nWHERE: Lompoc High School (LHS) Gym\, 515 W College Ave\, Lompoc\, CA 93436\nREGISTRATION: Fill out GOOGLE FORM [limited to the first 250 selected students]\nCONTACT: If the form is unavailable\, contact victor@lompocteencenter.org or (805) 741-7904
URL:https://youthwell.org/event/career-college-fair-lompoc-teen-center/
LOCATION:Lompoc High School\, 515 W College Ave\, Lompoc\, 93436\, United States
CATEGORIES:Workshops, Trainings, Speakers
ATTACH;FMTTYPE=image/png:https://youthwell.org/wp-content/uploads/2025/09/Lompoc-Teen-Center.png
ORGANIZER;CN="Lompoc Teen Center":MAILTO:victor@lompocteencenter.org
END:VEVENT
BEGIN:VEVENT
DTSTART;TZID=America/Los_Angeles:20251117T090000
DTEND;TZID=America/Los_Angeles:20251117T143000
DTSTAMP:20260420T122456
CREATED:20250826T173619Z
LAST-MODIFIED:20250826T173813Z
UID:10026186-1763370000-1763389800@youthwell.org
SUMMARY:Community Neurodiversity Conference - Youth Linkages Network Retreat
DESCRIPTION:Building inclusive schools and communities through family-educator collaboration. \n\nWHEN: MONDAY\, NOVEMBER 17th from 9:00-2:30pm\nWHERE: Santa Barbara Zoo\, \nREGISTRATION: REQUIRED > by Nov 10th\nCOST: $20 (includes lunch\, materials\, speakers — pay using reg form)\nQUESTIONS: <programs@youthwell.org> OR 805.770.1239\nHOST: YouthWell\, SBC Behavioral Wellness\, SBC Education Office\n\nThis one-day\, in-person Neurodiverse Conference brings together parents\, teachers\, school administrators\, and community members to explore how we can better support neurodiverse students and their families. Rooted in the values of Education = CCC² (Educating\, Collaboration\, Caring\, Cognition\, and Creativity)\, this event will focus on fostering connection\, communication\, and confidence among all stakeholders in a student’s educational journey.
URL:https://youthwell.org/event/stronger-together-for-neurodiverse-youth/
LOCATION:Santa Barbara Zoo\, CA\, United States
CATEGORIES:Community Events,Workshops, Trainings, Speakers,youthwell newsletter feature
ORGANIZER;CN="YouthWell":MAILTO:outreach@youthwell.org
END:VEVENT
BEGIN:VEVENT
DTSTART;TZID=America/Los_Angeles:20251118T150000
DTEND;TZID=America/Los_Angeles:20251118T170000
DTSTAMP:20260420T122456
CREATED:20250918T163523Z
LAST-MODIFIED:20250918T163523Z
UID:10026206-1763478000-1763485200@youthwell.org
SUMMARY:WORKSHOP: Housing Interventions  - Santa Maria
DESCRIPTION:Please join us for our Behavioral Health Services Act (BHSA) Community Workshops! \nOur goal is to provide meaningful information about the status of our local programs\, and create implementation strategies! Refreshments and giftcards for participation will be provided! \n\nWHEN: Tuesday\, November 18th from 3:00-5:00pm\nWHERE: Santa Maria Public Library\, 421 S McClelland St\, Santa Maria\, CA 93454\nREGISTRATION: REQUIRED >>\nTOPIC: Housing Interventions\n\nFor any questions\, please contact nrossi@sbcbwell.org \n—–ESPANOL—– \n¡Únase a nosotros en nuestros talleres comunitarios sobre la Ley de Servicios de Salud Conductual! \nNuestro objetivo es brindar información útil sobre el estado de nuestros programas locales y crear estrategias de implementación. ¡Se ofrecerán refrigerios y tarjetas de regalo por participar! \n\nCUÁNDO: Martes 18 de noviembre de 15:00 a 17:00 horas\nDÓNDE: Biblioteca Pública de Santa María\, 421 S McClelland St\, Santa María\, CA 93454\nREGISTRO: REQUERIDO >>\nTEMA: Intervenciones en Vivienda\n\nPara cualquier pregunta\, comuníquese con nrossi@sbcbwell.org
URL:https://youthwell.org/event/workshop-housing-interventions-santa-maria/
LOCATION:Santa Maria Public Library\, 421 S McClelland St\, Santa Maria\, CA\, 93454
CATEGORIES:Workshops, Trainings, Speakers
ATTACH;FMTTYPE=image/jpeg:https://youthwell.org/wp-content/uploads/2025/09/Image-9-17-25-at-3.58-PM.jpeg
END:VEVENT
END:VCALENDAR