BEGIN:VCALENDAR
VERSION:2.0
PRODID:-//YouthWell - ECPv6.15.20//NONSGML v1.0//EN
CALSCALE:GREGORIAN
METHOD:PUBLISH
X-ORIGINAL-URL:https://youthwell.org
X-WR-CALDESC:Events for YouthWell
REFRESH-INTERVAL;VALUE=DURATION:PT1H
X-Robots-Tag:noindex
X-PUBLISHED-TTL:PT1H
BEGIN:VTIMEZONE
TZID:America/Los_Angeles
BEGIN:DAYLIGHT
TZOFFSETFROM:-0800
TZOFFSETTO:-0700
TZNAME:PDT
DTSTART:20240310T100000
END:DAYLIGHT
BEGIN:STANDARD
TZOFFSETFROM:-0700
TZOFFSETTO:-0800
TZNAME:PST
DTSTART:20241103T090000
END:STANDARD
BEGIN:DAYLIGHT
TZOFFSETFROM:-0800
TZOFFSETTO:-0700
TZNAME:PDT
DTSTART:20250309T100000
END:DAYLIGHT
BEGIN:STANDARD
TZOFFSETFROM:-0700
TZOFFSETTO:-0800
TZNAME:PST
DTSTART:20251102T090000
END:STANDARD
BEGIN:DAYLIGHT
TZOFFSETFROM:-0800
TZOFFSETTO:-0700
TZNAME:PDT
DTSTART:20260308T100000
END:DAYLIGHT
BEGIN:STANDARD
TZOFFSETFROM:-0700
TZOFFSETTO:-0800
TZNAME:PST
DTSTART:20261101T090000
END:STANDARD
END:VTIMEZONE
BEGIN:VEVENT
DTSTART;TZID=America/Los_Angeles:20250728T130000
DTEND;TZID=America/Los_Angeles:20250728T160000
DTSTAMP:20260421T060721
CREATED:20250423T222033Z
LAST-MODIFIED:20250423T222033Z
UID:10024336-1753707600-1753718400@youthwell.org
SUMMARY:VOLUNTEERS NEEDED: PeerBuddies Summer Camp
DESCRIPTION:PeerBuddies provides ABA based social skills intervention for individuals with social difficulties by pairing them with same aged Peer Buddy volunteers to create an inclusive space for learning essential social skills. Some examples of social goals and skills are compromising\, asking before doing\, active listening\, sharing\, coping with frustration\, self-advocacy\, and more! \nAt camp\, we will have a wide variety of fun activities\, including: \n\nArts & Crafts\nSlip N Slides and Water Balloons\nFace Painting\nBoard games\nOutdoor activities (obstacle courses & team-building activities)\n\n…all while learning and working collaboratively with other children! \nVolunteers\, aka Peer Buddies\, will get to enjoy fun activities\, learn meaningful skills\, earn up to 60 Community Service Hours\, and make a huge impact in another person’s life! \nInterested in becoming a buddy? Apply here!
URL:https://youthwell.org/event/volunteers-needed-peerbuddies-summer-camp/2025-07-28/
LOCATION:Elings Park\, 1298 Las Positas Rd\, Santa Barbara\, 93105\, United States
CATEGORIES:Camps & Registration,Community Events,Volunteer & Internships
ATTACH;FMTTYPE=image/png:https://youthwell.org/wp-content/uploads/2025/03/Screen-Shot-2025-03-07-at-11.06.53-AM.png
ORGANIZER;CN="PeerBuddies":MAILTO:megan@peerbuddies.com
END:VEVENT
END:VCALENDAR