BEGIN:VCALENDAR
VERSION:2.0
PRODID:-//YouthWell - ECPv6.15.20//NONSGML v1.0//EN
CALSCALE:GREGORIAN
METHOD:PUBLISH
X-WR-CALNAME:YouthWell
X-ORIGINAL-URL:https://youthwell.org
X-WR-CALDESC:Events for YouthWell
REFRESH-INTERVAL;VALUE=DURATION:PT1H
X-Robots-Tag:noindex
X-PUBLISHED-TTL:PT1H
BEGIN:VTIMEZONE
TZID:America/Los_Angeles
BEGIN:DAYLIGHT
TZOFFSETFROM:-0800
TZOFFSETTO:-0700
TZNAME:PDT
DTSTART:20250309T100000
END:DAYLIGHT
BEGIN:STANDARD
TZOFFSETFROM:-0700
TZOFFSETTO:-0800
TZNAME:PST
DTSTART:20251102T090000
END:STANDARD
BEGIN:DAYLIGHT
TZOFFSETFROM:-0800
TZOFFSETTO:-0700
TZNAME:PDT
DTSTART:20260308T100000
END:DAYLIGHT
BEGIN:STANDARD
TZOFFSETFROM:-0700
TZOFFSETTO:-0800
TZNAME:PST
DTSTART:20261101T090000
END:STANDARD
BEGIN:DAYLIGHT
TZOFFSETFROM:-0800
TZOFFSETTO:-0700
TZNAME:PDT
DTSTART:20270314T100000
END:DAYLIGHT
BEGIN:STANDARD
TZOFFSETFROM:-0700
TZOFFSETTO:-0800
TZNAME:PST
DTSTART:20271107T090000
END:STANDARD
END:VTIMEZONE
BEGIN:VEVENT
DTSTART;TZID=America/Los_Angeles:20260204T080000
DTEND;TZID=America/Los_Angeles:20260204T170000
DTSTAMP:20260419T194155
CREATED:20250206T003422Z
LAST-MODIFIED:20250324T201251Z
UID:10023263-1770192000-1770224400@youthwell.org
SUMMARY:LiFT - Connect With Your Teen About Values and Making Decisions
DESCRIPTION:LiFT (Linking Families and Teens) is a FREE 6-hour program that unites adolescents (ages 13-19) and their parental figure* to share family values\, strengthen family ties\, and talk about the difficult things – healthy relationships and sexual health. \n\nConnect with other parents and supportive adults within your community\nParticipants will receive supportive resources and meals!\n\n*You may join the LiFT program with a teenager\, grandchild\, nephew\, niece\, or other important teen in your life* \nLiFT program Overview Video\nInterested? Sign up! \n*Start date and times will be shared after sign up* \nProgramming provided in San Luis Obispo\, Santa Barbara\, and Ventura Counties in both ENGLISH and SPANISH \n  \n  \nLiFT (Linking Families and Teens) es un programa GRATUITO de 6 horas que une a adolescentes (de 13 a 19 años) y a su figura paterna* para compartir valores familiares\, reforzar los lazos familiares y hablar de las cosas difíciles – relaciones sanas y salud sexual. \n\nConéctate con otros padres y adultos de apoyo dentro de tu comunidad\n¡Los participantes recibirán recursos de apoyo y comidas!\n\n*Puedes unirte al programa LiFT con un adolescente\, nieto\, sobrino\, sobrina u otro adolescente importante en tu vida* \nLa fecha y hora de inicio del programa se confirmarán en el momento de la inscripción \nVídeo general del programa LiFT\n¿Interesado? ¡Inscríbase! \n*La fecha y el horario de inicio se comunicarán tras la inscripción* \nEl programa se ofrece en los condados de San Luis Obispo\, Santa Bárbara y Ventura\, tanto en ESPAÑOL como en INGLÉS.
URL:https://youthwell.org/event/lift-connect-with-your-teen-about-values-and-making-decisions/2026-02-04/
CATEGORIES:Activities/Classes,Parent Education,Support Groups - parents,Support Groups - youth [10-18],Support Groups - youth [18-25],Youth Classes [10-25],youthwell newsletter feature
END:VEVENT
BEGIN:VEVENT
DTSTART;TZID=America/Los_Angeles:20260204T183000
DTEND;TZID=America/Los_Angeles:20260204T193000
DTSTAMP:20260419T194155
CREATED:20251212T164430Z
LAST-MODIFIED:20251212T202750Z
UID:10027053-1770229800-1770233400@youthwell.org
SUMMARY:WORKSHOP: Strategies for Families & Providers to Challenge Insurance Denials
DESCRIPTION:Families and providers often face confusing and frustrating obstacles when insurance plans delay\, deny\, or refuse to pay for mental health care. \nJoin us for a workshop where staff from DMHC and the CA Insurance Commissioner’s Office will guide families and providers on how to file complaints effectively\, challenge denials\, and secure reimbursement for mental health care. \n\nDATE #1: Thursday\, January 15 from 9:00-10:00am\nDATE #2: Wednesday\, February 4 from 6:30-7:30pm\nWHERE: Virtual on ZOOM [link shared after registration]\nREGISTRATOIN: REQUIRED…https://wkf.ms/4iRdEmh\nCOST: FREE\nCONTACT: navigator@youthwell.org\n\nParticipants will learn: \n\nKey mental health coverage rights\nEffective strategies for responding to insurance denials\nHow and when to file complaints with DMHC\nHow families can request reimbursement and escalate appeals\nHow providers can strengthen claims\, submit for payment\, and push back when coverage is denied\n\nParticipants will leave with tools\, scripts\, and pathways to navigate barriers and hold insurance plans accountable.
URL:https://youthwell.org/event/workshop-strategies-for-families-providers-to-challenge-insurance-denials/2026-02-04/
LOCATION:*VIRTUAL-ZOOM*\, ONLINE\, CA
CATEGORIES:Activities/Classes,Clases en español,Parent Education,Workshops, Trainings, Speakers,YouthWell Groups & Workshops,youthwell newsletter feature
ATTACH;FMTTYPE=image/jpeg:https://youthwell.org/wp-content/uploads/2025/12/Workshop-insurance-calendar-2026.jpg
ORGANIZER;CN="YouthWell":MAILTO:outreach@youthwell.org
END:VEVENT
END:VCALENDAR