BEGIN:VCALENDAR
VERSION:2.0
PRODID:-//YouthWell - ECPv6.15.20//NONSGML v1.0//EN
CALSCALE:GREGORIAN
METHOD:PUBLISH
X-WR-CALNAME:YouthWell
X-ORIGINAL-URL:https://youthwell.org
X-WR-CALDESC:Events for YouthWell
REFRESH-INTERVAL;VALUE=DURATION:PT1H
X-Robots-Tag:noindex
X-PUBLISHED-TTL:PT1H
BEGIN:VTIMEZONE
TZID:America/Los_Angeles
BEGIN:DAYLIGHT
TZOFFSETFROM:-0800
TZOFFSETTO:-0700
TZNAME:PDT
DTSTART:20240310T100000
END:DAYLIGHT
BEGIN:STANDARD
TZOFFSETFROM:-0700
TZOFFSETTO:-0800
TZNAME:PST
DTSTART:20241103T090000
END:STANDARD
BEGIN:DAYLIGHT
TZOFFSETFROM:-0800
TZOFFSETTO:-0700
TZNAME:PDT
DTSTART:20250309T100000
END:DAYLIGHT
BEGIN:STANDARD
TZOFFSETFROM:-0700
TZOFFSETTO:-0800
TZNAME:PST
DTSTART:20251102T090000
END:STANDARD
BEGIN:DAYLIGHT
TZOFFSETFROM:-0800
TZOFFSETTO:-0700
TZNAME:PDT
DTSTART:20260308T100000
END:DAYLIGHT
BEGIN:STANDARD
TZOFFSETFROM:-0700
TZOFFSETTO:-0800
TZNAME:PST
DTSTART:20261101T090000
END:STANDARD
END:VTIMEZONE
BEGIN:VEVENT
DTSTART;TZID=America/Los_Angeles:20251114T110000
DTEND;TZID=America/Los_Angeles:20251114T120000
DTSTAMP:20260419T083859
CREATED:20251111T181304Z
LAST-MODIFIED:20251111T181304Z
UID:10027038-1763118000-1763121600@youthwell.org
SUMMARY:Recognizing Youth Emotional Distress & Supportive Solutions [hybrid]
DESCRIPTION:At this event\, Dr. Lisa Hancock will emphasize the importance of recognizing early signs that may indicate a young person is experiencing emotional distress or mental health challenges\, such as declining academic performance\, changes in habits\, and increased isolation. Identifying indicators early can facilitate supportive interventions and access to appropriate resources. She will discuss how various levels of evaluation and testing can guide tailored interventions to address individual needs and promote well-being. \nWHEN: Friday\, Nov 14\, 11:00am-12:00pm\nWHERE: IN-PERSON: Fusion Palos Verdes\, 550 Deep Valley Drive\, suite 250\, Rolling Hills Estates\, CA 90274\nREGISTRATION: Click HERE>> for zoom registration – Click HERE>> for in-person RSVP
URL:https://youthwell.org/event/recognizing-youth-emotional-distress-supportive-solutions-hybrid/
LOCATION:Fusion Academy Palos Verdes\, 550 Deep Valley Drive\, Suite 250\, Rolling Hills Estates\, 90274\, United States
CATEGORIES:Community Events,Parent Education
ATTACH;FMTTYPE=image/png:https://youthwell.org/wp-content/uploads/2025/09/Calendar-Fusion-2-2.png
END:VEVENT
BEGIN:VEVENT
DTSTART;TZID=America/Los_Angeles:20251114T180000
DTEND;TZID=America/Los_Angeles:20251114T210000
DTSTAMP:20260419T083859
CREATED:20250220T002254Z
LAST-MODIFIED:20250402T235041Z
UID:10023365-1763143200-1763154000@youthwell.org
SUMMARY:TBRI Caregiver Package Training
DESCRIPTION:Join Pathway Family Services for Truth Relational Intervention Caregiver package training. TBRI is a powerful evidence based trauma intervention. This comprehensive training will go in depth to the three principles of TBRI: empowering\, connecting\, and correcting. \nGain valuable insight into brain development\, proven techniques for healing children of trauma while exploring and addressing our own attachment styles. \n\nJoin us for 8 weekly online sessions\nApril 25th – June 13th\, 2025\nRegister here! [Exact days and times can be selected after registration!]\n\nCall 877-550-KIDS with any questions! \n 
URL:https://youthwell.org/event/tbri-caregiver-package-training/2025-11-14/
LOCATION:Virtual\, CA\, United States
CATEGORIES:Activities/Classes,Parent Education,Support Groups - parents,Support Groups - teachers
ATTACH;FMTTYPE=image/png:https://youthwell.org/wp-content/uploads/2025/02/Screenshot-2025-02-19-at-3.24.10 PM-e1740007513564.png
ORGANIZER;CN="Pathway Family Services":MAILTO:info@pfsffa.org
END:VEVENT
END:VCALENDAR