BEGIN:VCALENDAR
VERSION:2.0
PRODID:-//YouthWell - ECPv6.15.20//NONSGML v1.0//EN
CALSCALE:GREGORIAN
METHOD:PUBLISH
X-ORIGINAL-URL:https://youthwell.org
X-WR-CALDESC:Events for YouthWell
REFRESH-INTERVAL;VALUE=DURATION:PT1H
X-Robots-Tag:noindex
X-PUBLISHED-TTL:PT1H
BEGIN:VTIMEZONE
TZID:America/Los_Angeles
BEGIN:DAYLIGHT
TZOFFSETFROM:-0800
TZOFFSETTO:-0700
TZNAME:PDT
DTSTART:20240310T100000
END:DAYLIGHT
BEGIN:STANDARD
TZOFFSETFROM:-0700
TZOFFSETTO:-0800
TZNAME:PST
DTSTART:20241103T090000
END:STANDARD
BEGIN:DAYLIGHT
TZOFFSETFROM:-0800
TZOFFSETTO:-0700
TZNAME:PDT
DTSTART:20250309T100000
END:DAYLIGHT
BEGIN:STANDARD
TZOFFSETFROM:-0700
TZOFFSETTO:-0800
TZNAME:PST
DTSTART:20251102T090000
END:STANDARD
BEGIN:DAYLIGHT
TZOFFSETFROM:-0800
TZOFFSETTO:-0700
TZNAME:PDT
DTSTART:20260308T100000
END:DAYLIGHT
BEGIN:STANDARD
TZOFFSETFROM:-0700
TZOFFSETTO:-0800
TZNAME:PST
DTSTART:20261101T090000
END:STANDARD
END:VTIMEZONE
BEGIN:VEVENT
DTSTART;TZID=America/Los_Angeles:20250923T080000
DTEND;TZID=America/Los_Angeles:20250923T090000
DTSTAMP:20260420T125535
CREATED:20250918T150117Z
LAST-MODIFIED:20250918T150117Z
UID:10026207-1758614400-1758618000@youthwell.org
SUMMARY:FREE ZOOM • Emotion Regulation 101: Science-Backed Skills for Everyday Life
DESCRIPTION:Join Marc Brackett\, Ph.D.\, founder of the Yale Center for Emotional Intelligence and author of the best-selling book Permission to Feel and the new book\, Dealing with Feelings\, for an insightful and practical session on emotion regulation with The Mental Health Coalition. \nIn this webinar\, Marc will break down what emotion regulation is (and is not) and why it is an essential skill for everyone. \nYou’ll learn how to recognize and respond to emotions in ways that strengthen your wellbeing\, improve your relationships\, and help you navigate daily challenges. \nIn this session\, you’ll discover how to pause\, reflect\, and choose how you respond to even the most difficult emotions. While we can’t always control our environment\, we can manage our reactions. Developing that skill can transform how we show up as parents\, teachers\, managers\, partners\, and friends. \nYou’ll leave with actionable\, science-backed tools you can use every day to better manage your emotions and create a more balanced\, connected\, and intentional life. \n📅 September 23 | 🕚 11:00–12:00 PM ET\n✨ Free to join — register now: https://lnkd.in/ecT6VrKx
URL:https://youthwell.org/event/free-zoom-emotion-regulation-101-science-backed-skills-for-everyday-life/
LOCATION:*VIRTUAL-ZOOM*\, ONLINE\, CA
CATEGORIES:Community Events,Parent Education,Workshops, Trainings, Speakers
ATTACH;FMTTYPE=image/png:https://youthwell.org/wp-content/uploads/2025/09/Screenshot-2025-09-18-at-8.00.43-AM.png
END:VEVENT
BEGIN:VEVENT
DTSTART;TZID=America/Los_Angeles:20250923T090000
DTEND;TZID=America/Los_Angeles:20250923T100000
DTSTAMP:20260420T125535
CREATED:20240711T234638Z
LAST-MODIFIED:20241218T195220Z
UID:10022500-1758618000-1758621600@youthwell.org
SUMMARY:Family Advocate Services in Carpinteria
DESCRIPTION:Carp Connect’s Family Advocate Services Program: \nAll services are located at the CARP Connect Office: 941 Walnut Avenue on the ground floor of the Carp Veteran’s Building. Register at Carpinteria Health Clinic: 931 Walnut Avenue \nServices are walk-in or on demand within the hours of 9:00AM-10:00AM every Tuesday. \nFor more information\, contact 805-884-8440 or 805-262-7795
URL:https://youthwell.org/event/family-advocate-services-2/2025-09-23/
LOCATION:Carp Connect\, 941 Walnut Avenue\, Carpinteria\, 93103
CATEGORIES:Parent Education
END:VEVENT
BEGIN:VEVENT
DTSTART;TZID=America/Los_Angeles:20250923T173000
DTEND;TZID=America/Los_Angeles:20250923T190000
DTSTAMP:20260420T125535
CREATED:20241217T214325Z
LAST-MODIFIED:20250128T221741Z
UID:10022436-1758648600-1758654000@youthwell.org
SUMMARY:Parenting Together - Hybrid Support Group
DESCRIPTION:Weekly group classes are designed to help parents navigate the challenges of raising adolescents. \nParticipants can join a group at any time and will receive support from the class facilitator and other parents facing similar challenges. Will cover a broad range of parenting topics\, including the philosophy of nurturing parenting\, teens and alcohol\, brain development and substance abuse\, discipline\, building empathy and self-worth\, and positive ways to deal with stress and anger. \nTuesdays in English\, offered [hybrid] in person AND on Zoom\, from 5:30 – 7:00pm \nTo enroll or for more information\, call (805) 456-1234\nOr e-mail: ParentingTogether@cadasb.org
URL:https://youthwell.org/event/parenting-together-support-group-2-2/2025-09-23/
LOCATION:Daniel Bryant Treatment Center\, 1111 Garden Street (1st Floor)\, Santa Barbara\, CA\, 93102\, United States
CATEGORIES:Parent Education,Support Groups - parents,youthwell newsletter feature
END:VEVENT
END:VCALENDAR