BEGIN:VCALENDAR
VERSION:2.0
PRODID:-//YouthWell - ECPv6.15.20//NONSGML v1.0//EN
CALSCALE:GREGORIAN
METHOD:PUBLISH
X-ORIGINAL-URL:https://youthwell.org
X-WR-CALDESC:Events for YouthWell
REFRESH-INTERVAL;VALUE=DURATION:PT1H
X-Robots-Tag:noindex
X-PUBLISHED-TTL:PT1H
BEGIN:VTIMEZONE
TZID:America/Los_Angeles
BEGIN:DAYLIGHT
TZOFFSETFROM:-0800
TZOFFSETTO:-0700
TZNAME:PDT
DTSTART:20240310T100000
END:DAYLIGHT
BEGIN:STANDARD
TZOFFSETFROM:-0700
TZOFFSETTO:-0800
TZNAME:PST
DTSTART:20241103T090000
END:STANDARD
BEGIN:DAYLIGHT
TZOFFSETFROM:-0800
TZOFFSETTO:-0700
TZNAME:PDT
DTSTART:20250309T100000
END:DAYLIGHT
BEGIN:STANDARD
TZOFFSETFROM:-0700
TZOFFSETTO:-0800
TZNAME:PST
DTSTART:20251102T090000
END:STANDARD
BEGIN:DAYLIGHT
TZOFFSETFROM:-0800
TZOFFSETTO:-0700
TZNAME:PDT
DTSTART:20260308T100000
END:DAYLIGHT
BEGIN:STANDARD
TZOFFSETFROM:-0700
TZOFFSETTO:-0800
TZNAME:PST
DTSTART:20261101T090000
END:STANDARD
END:VTIMEZONE
BEGIN:VEVENT
DTSTART;TZID=America/Los_Angeles:20250909T090000
DTEND;TZID=America/Los_Angeles:20250909T100000
DTSTAMP:20260420T092430
CREATED:20240711T234638Z
LAST-MODIFIED:20241218T195220Z
UID:10022498-1757408400-1757412000@youthwell.org
SUMMARY:Family Advocate Services in Carpinteria
DESCRIPTION:Carp Connect’s Family Advocate Services Program: \nAll services are located at the CARP Connect Office: 941 Walnut Avenue on the ground floor of the Carp Veteran’s Building. Register at Carpinteria Health Clinic: 931 Walnut Avenue \nServices are walk-in or on demand within the hours of 9:00AM-10:00AM every Tuesday. \nFor more information\, contact 805-884-8440 or 805-262-7795
URL:https://youthwell.org/event/family-advocate-services-2/2025-09-09/
LOCATION:Carp Connect\, 941 Walnut Avenue\, Carpinteria\, 93103
CATEGORIES:Parent Education
END:VEVENT
BEGIN:VEVENT
DTSTART;TZID=America/Los_Angeles:20250909T100000
DTEND;TZID=America/Los_Angeles:20250909T110000
DTSTAMP:20260420T092430
CREATED:20250806T143624Z
LAST-MODIFIED:20250806T143624Z
UID:10025999-1757412000-1757415600@youthwell.org
SUMMARY:Breaking the Silence: Talking Mental Health with Your Kids and Teens - Free Webinar
DESCRIPTION:Minding Your Mind\n\nIn partnership with Minding Your Mind\, this webinar offers a powerful combination of clinical expertise and lived experience to help adults better understand youth mental health. A licensed therapist and a young adult speaker will share real-life insights into how anxiety\, depression\, trauma\, self-harm\, and suicidal thoughts often show up in kids and teens. You’ll learn how to recognize early warning signs\, respond with empathy\, and start honest\, stigma-free conversations that build trust. Grounded in trauma-informed care\, this session offers practical tools to support emotional regulation\, coping\, and connection—at home\, in school\, and beyond.\n\n\nAll registrants will receive a recording! All live attendees will receive a certificate of attendance! \nOperation Parent is a nonprofit whose mission is to love and support parents by providing real-world information\, connection\, and hope.
URL:https://youthwell.org/event/breaking-the-silence-talking-mental-health-with-your-kids-and-teens-free-webinar/
LOCATION:*VIRTUAL-ZOOM*\, ONLINE\, CA
CATEGORIES:Parent Education
ATTACH;FMTTYPE=image/png:https://youthwell.org/wp-content/uploads/2025/08/Screenshot-2025-08-06-at-7.31.44-AM.png
ORGANIZER;CN="Operation Parent":MAILTO:info@operationparent.org
END:VEVENT
BEGIN:VEVENT
DTSTART;TZID=America/Los_Angeles:20250909T173000
DTEND;TZID=America/Los_Angeles:20250909T190000
DTSTAMP:20260420T092430
CREATED:20241217T214325Z
LAST-MODIFIED:20250128T221741Z
UID:10022434-1757439000-1757444400@youthwell.org
SUMMARY:Parenting Together - Hybrid Support Group
DESCRIPTION:Weekly group classes are designed to help parents navigate the challenges of raising adolescents. \nParticipants can join a group at any time and will receive support from the class facilitator and other parents facing similar challenges. Will cover a broad range of parenting topics\, including the philosophy of nurturing parenting\, teens and alcohol\, brain development and substance abuse\, discipline\, building empathy and self-worth\, and positive ways to deal with stress and anger. \nTuesdays in English\, offered [hybrid] in person AND on Zoom\, from 5:30 – 7:00pm \nTo enroll or for more information\, call (805) 456-1234\nOr e-mail: ParentingTogether@cadasb.org
URL:https://youthwell.org/event/parenting-together-support-group-2-2/2025-09-09/
LOCATION:Daniel Bryant Treatment Center\, 1111 Garden Street (1st Floor)\, Santa Barbara\, CA\, 93102\, United States
CATEGORIES:Parent Education,Support Groups - parents,youthwell newsletter feature
END:VEVENT
END:VCALENDAR