BEGIN:VCALENDAR
VERSION:2.0
PRODID:-//YouthWell - ECPv6.15.20//NONSGML v1.0//EN
CALSCALE:GREGORIAN
METHOD:PUBLISH
X-ORIGINAL-URL:https://youthwell.org
X-WR-CALDESC:Events for YouthWell
REFRESH-INTERVAL;VALUE=DURATION:PT1H
X-Robots-Tag:noindex
X-PUBLISHED-TTL:PT1H
BEGIN:VTIMEZONE
TZID:America/Los_Angeles
BEGIN:DAYLIGHT
TZOFFSETFROM:-0800
TZOFFSETTO:-0700
TZNAME:PDT
DTSTART:20240310T100000
END:DAYLIGHT
BEGIN:STANDARD
TZOFFSETFROM:-0700
TZOFFSETTO:-0800
TZNAME:PST
DTSTART:20241103T090000
END:STANDARD
BEGIN:DAYLIGHT
TZOFFSETFROM:-0800
TZOFFSETTO:-0700
TZNAME:PDT
DTSTART:20250309T100000
END:DAYLIGHT
BEGIN:STANDARD
TZOFFSETFROM:-0700
TZOFFSETTO:-0800
TZNAME:PST
DTSTART:20251102T090000
END:STANDARD
BEGIN:DAYLIGHT
TZOFFSETFROM:-0800
TZOFFSETTO:-0700
TZNAME:PDT
DTSTART:20260308T100000
END:DAYLIGHT
BEGIN:STANDARD
TZOFFSETFROM:-0700
TZOFFSETTO:-0800
TZNAME:PST
DTSTART:20261101T090000
END:STANDARD
END:VTIMEZONE
BEGIN:VEVENT
DTSTART;TZID=America/Los_Angeles:20250826T090000
DTEND;TZID=America/Los_Angeles:20250826T100000
DTSTAMP:20260420T065422
CREATED:20240711T234638Z
LAST-MODIFIED:20241218T195220Z
UID:10022496-1756198800-1756202400@youthwell.org
SUMMARY:Family Advocate Services in Carpinteria
DESCRIPTION:Carp Connect’s Family Advocate Services Program: \nAll services are located at the CARP Connect Office: 941 Walnut Avenue on the ground floor of the Carp Veteran’s Building. Register at Carpinteria Health Clinic: 931 Walnut Avenue \nServices are walk-in or on demand within the hours of 9:00AM-10:00AM every Tuesday. \nFor more information\, contact 805-884-8440 or 805-262-7795
URL:https://youthwell.org/event/family-advocate-services-2/2025-08-26/
LOCATION:Carp Connect\, 941 Walnut Avenue\, Carpinteria\, 93103
CATEGORIES:Parent Education
END:VEVENT
BEGIN:VEVENT
DTSTART;TZID=America/Los_Angeles:20250826T100000
DTEND;TZID=America/Los_Angeles:20250826T110000
DTSTAMP:20260420T065422
CREATED:20250806T143233Z
LAST-MODIFIED:20250806T143233Z
UID:10025998-1756202400-1756206000@youthwell.org
SUMMARY:Talk Early\, Talk Often: Prevent Underage Substance Use - Free Webinar
DESCRIPTION:You can be the reason a child never rides with an impaired driver or never drives impaired after they turn 21. Underage drinking and cannabis use are among the most preventable — yet dangerous — risks facing youth today. In this webinar\, Dr. Robert Turrisi from the Pennsylvania State University will share evidence-based strategies from decades of research\, including insights from MADD’s Power of Parents Handbook. You’ll learn how alcohol and cannabis affect the developing brain\, how parenting must evolve as kids grow\, and what truly works to reduce risky behaviors. \nAll registrants will receive a recording! All live attendees will receive a certificate of attendance! \nOperation Parent is a nonprofit whose mission is to love and support parents by providing real-world information\, connection\, and hope.
URL:https://youthwell.org/event/talk-early-talk-often-prevent-underage-substance-use-free-webinar/
LOCATION:*VIRTUAL-ZOOM*\, ONLINE\, CA
CATEGORIES:Parent Education
ATTACH;FMTTYPE=image/png:https://youthwell.org/wp-content/uploads/2025/08/Screenshot-2025-08-06-at-7.31.44-AM.png
ORGANIZER;CN="Operation Parent":MAILTO:info@operationparent.org
END:VEVENT
BEGIN:VEVENT
DTSTART;TZID=America/Los_Angeles:20250826T173000
DTEND;TZID=America/Los_Angeles:20250826T190000
DTSTAMP:20260420T065422
CREATED:20241217T214325Z
LAST-MODIFIED:20250128T221741Z
UID:10022432-1756229400-1756234800@youthwell.org
SUMMARY:Parenting Together - Hybrid Support Group
DESCRIPTION:Weekly group classes are designed to help parents navigate the challenges of raising adolescents. \nParticipants can join a group at any time and will receive support from the class facilitator and other parents facing similar challenges. Will cover a broad range of parenting topics\, including the philosophy of nurturing parenting\, teens and alcohol\, brain development and substance abuse\, discipline\, building empathy and self-worth\, and positive ways to deal with stress and anger. \nTuesdays in English\, offered [hybrid] in person AND on Zoom\, from 5:30 – 7:00pm \nTo enroll or for more information\, call (805) 456-1234\nOr e-mail: ParentingTogether@cadasb.org
URL:https://youthwell.org/event/parenting-together-support-group-2-2/2025-08-26/
LOCATION:Daniel Bryant Treatment Center\, 1111 Garden Street (1st Floor)\, Santa Barbara\, CA\, 93102\, United States
CATEGORIES:Parent Education,Support Groups - parents,youthwell newsletter feature
END:VEVENT
END:VCALENDAR