BEGIN:VCALENDAR
VERSION:2.0
PRODID:-//YouthWell - ECPv6.15.20//NONSGML v1.0//EN
CALSCALE:GREGORIAN
METHOD:PUBLISH
X-WR-CALNAME:YouthWell
X-ORIGINAL-URL:https://youthwell.org
X-WR-CALDESC:Events for YouthWell
REFRESH-INTERVAL;VALUE=DURATION:PT1H
X-Robots-Tag:noindex
X-PUBLISHED-TTL:PT1H
BEGIN:VTIMEZONE
TZID:America/Los_Angeles
BEGIN:DAYLIGHT
TZOFFSETFROM:-0800
TZOFFSETTO:-0700
TZNAME:PDT
DTSTART:20240310T100000
END:DAYLIGHT
BEGIN:STANDARD
TZOFFSETFROM:-0700
TZOFFSETTO:-0800
TZNAME:PST
DTSTART:20241103T090000
END:STANDARD
BEGIN:DAYLIGHT
TZOFFSETFROM:-0800
TZOFFSETTO:-0700
TZNAME:PDT
DTSTART:20250309T100000
END:DAYLIGHT
BEGIN:STANDARD
TZOFFSETFROM:-0700
TZOFFSETTO:-0800
TZNAME:PST
DTSTART:20251102T090000
END:STANDARD
BEGIN:DAYLIGHT
TZOFFSETFROM:-0800
TZOFFSETTO:-0700
TZNAME:PDT
DTSTART:20260308T100000
END:DAYLIGHT
BEGIN:STANDARD
TZOFFSETFROM:-0700
TZOFFSETTO:-0800
TZNAME:PST
DTSTART:20261101T090000
END:STANDARD
END:VTIMEZONE
BEGIN:VEVENT
DTSTART;TZID=America/Los_Angeles:20250410T100000
DTEND;TZID=America/Los_Angeles:20250410T110000
DTSTAMP:20260419T140634
CREATED:20240212T234847Z
LAST-MODIFIED:20250821T164854Z
UID:10016696-1744279200-1744282800@youthwell.org
SUMMARY:Evolve Community Parent Support Group
DESCRIPTION:About Evolve Treatment: Evolve offers the highest caliber of evidence-based treatment for teens\, 12 to 17 years old\, who struggle with mental health\, substance abuse\, and/or behavioral issues. Evolve offers a full continuum of care\, including Intensive Outpatient (IOP)\, Partial Hospitalization (PHP)\, and Residential Treatment Centers (RTC). \nHOW TO ATTEND: If you’re interested in joining\, please fill out the registration form. After reviewing your registration we will email you with the consent form via DocuSign. Once this is signed we will grant you access through Zoom. \nIf you have any questions or would like more information about Evolve’s programs\, please contact us at 1-(855)-890-2493. \n 
URL:https://youthwell.org/event/evolve-community-parent-support-group/2025-04-10/
LOCATION:*VIRTUAL-ZOOM*\, ONLINE\, CA
CATEGORIES:Family & Community Groups,Parent Education,Support Groups - parents
ATTACH;FMTTYPE=image/png:https://youthwell.org/wp-content/uploads/2024/02/Calendar-Evolve.png
ORGANIZER;CN="Evolve Treatment Centers":MAILTO:kgross@evolvetreatment.com
END:VEVENT
BEGIN:VEVENT
DTSTART;TZID=America/Los_Angeles:20250410T180000
DTEND;TZID=America/Los_Angeles:20250410T200000
DTSTAMP:20260419T140634
CREATED:20250219T234108Z
LAST-MODIFIED:20250219T234108Z
UID:10023430-1744308000-1744315200@youthwell.org
SUMMARY:Dedicated Dads | Virtual in English
DESCRIPTION:Dedicated Dads is a FREE 12-session fatherhood education program that helps dads strengthen positive relationships with their children and their children’s partners\, promote economic stability and increase family well-being. This course will be held in English on Tuesday’s and Thursday’s\, March 11th – April 17th.  \nThroughout the program\, men examine their own fatherhood history\, learn five characteristics of fatherhood and other important skills to create an exciting father-child engagement and manage their family’s economic growth. \nFathers participate in online workshops from their own home and have the opportunity to meet other fathers. \nThis program includes: \n\nOne-on-one support\nWeekly raffles\nThere will be dinner at all workshops for in-person workshops or dinner gift cards will be provided during the program for virtual workshops\n\nWHEN: Tuesday and Thursday\nWHERE: Virtual via Zoom\n*Zoom link will be provided after registration*\nTIME: 6:00PM – 8:00PM \nREGISTRATION IS REQUIRED: Call (805) 403-0704 to register.
URL:https://youthwell.org/event/dedicated-dads-virtual-in-english-2/2025-04-10/
LOCATION:*VIRTUAL-ZOOM*\, ONLINE\, CA
CATEGORIES:Activities/Classes,Parent Education,Support Groups - parents,youthwell newsletter feature
ATTACH;FMTTYPE=image/png:https://youthwell.org/wp-content/uploads/2025/01/Screenshot-2025-01-09-at-3.32.59 PM-e1736465597905.png
END:VEVENT
BEGIN:VEVENT
DTSTART;TZID=America/Los_Angeles:20250410T180000
DTEND;TZID=America/Los_Angeles:20250410T200000
DTSTAMP:20260419T140634
CREATED:20250401T224939Z
LAST-MODIFIED:20250401T224940Z
UID:10023418-1744308000-1744315200@youthwell.org
SUMMARY:Dedicated Dads | En personsa Santa Maria en Español
DESCRIPTION:Papás Dedicados es un programa GRATUITO de educación para la paternidad de 12 sesiones que ayuda a los papás a fortalecer las relaciones positivas con sus hijos y pareja o mamás de sus hijos\, promover la estabilidad económica y aumentar el bienestar familiar. Este curso será en Español\, los martes y jueves\, 11 de marzo – 17 de abril.  \nA lo largo del programa\, los hombres examinan su propia historia de paternidad\, aprenden cinco características de la paternidad y otras habilidades importantes para crear un compromiso emocionante entre padre e hijo y administrar el crecimiento económico de su familia. \nLos padres participan en talleres en línea desde su propia casa y tienen la oportunidad de conocer a otros padres. \nEste programa incluye: \n\nApoyo individualizado\nRifas semanales\nHabrá cena en todos los talleres para los talleres en persona o se entregarán tarjetas de regalo para la cena durante el programa para los talleres virtuales\n\nCUANDO: Martes y jueves\nDONDE: Santa Maria – 105 N Lincoln St. Santa Maria\, CA 93458\nHORA: 6:00PM – 8:00PM \nSe REQUIERE registro: Llame al (805) 403-0704 para registrarse.
URL:https://youthwell.org/event/dedicated-dads-en-personsa-santa-maria-en-espanol-2-2/2025-04-10/
LOCATION:Santa Maria Youth and Family Center\, 105 N Lincoln St\, Santa Maria\, 93458\, United States
CATEGORIES:Activities/Classes,Clases en español,Parent Education,Support Groups - parents
ATTACH;FMTTYPE=image/png:https://youthwell.org/wp-content/uploads/2025/01/Screenshot-2025-01-09-at-3.32.59 PM-e1736465597905.png
END:VEVENT
BEGIN:VEVENT
DTSTART;TZID=America/Los_Angeles:20250410T180000
DTEND;TZID=America/Los_Angeles:20250410T203000
DTSTAMP:20260419T140634
CREATED:20240912T171901Z
LAST-MODIFIED:20240912T171901Z
UID:10021062-1744308000-1744317000@youthwell.org
SUMMARY:Family-to-Family NAMI Santa Maria
DESCRIPTION:If you have a loved one with a mental health disorder YOU need this course! \nFamily-to-Family is a FREE 8-session education program for family members of adults living with a mental health disorder. It will help them understand and support their loved one while maintaining their own wellbeing. \nThis class is in person in SANTA MARIA AREA Call the Bilingual Family Advocate\, at 805-450-0846\, visit namisantabarbara.org\,
URL:https://youthwell.org/event/family-to-family-nami-santa-maria/2025-04-10/
LOCATION:Santa Maria
CATEGORIES:Family & Community Groups,Parent Education,youthwell newsletter feature
ORGANIZER;CN="NAMI":MAILTO:RWINNER@mentalwellnesscenter.org
END:VEVENT
END:VCALENDAR