BEGIN:VCALENDAR
VERSION:2.0
PRODID:-//YouthWell - ECPv6.15.20//NONSGML v1.0//EN
CALSCALE:GREGORIAN
METHOD:PUBLISH
X-ORIGINAL-URL:https://youthwell.org
X-WR-CALDESC:Events for YouthWell
REFRESH-INTERVAL;VALUE=DURATION:PT1H
X-Robots-Tag:noindex
X-PUBLISHED-TTL:PT1H
BEGIN:VTIMEZONE
TZID:America/Los_Angeles
BEGIN:DAYLIGHT
TZOFFSETFROM:-0800
TZOFFSETTO:-0700
TZNAME:PDT
DTSTART:20240310T100000
END:DAYLIGHT
BEGIN:STANDARD
TZOFFSETFROM:-0700
TZOFFSETTO:-0800
TZNAME:PST
DTSTART:20241103T090000
END:STANDARD
BEGIN:DAYLIGHT
TZOFFSETFROM:-0800
TZOFFSETTO:-0700
TZNAME:PDT
DTSTART:20250309T100000
END:DAYLIGHT
BEGIN:STANDARD
TZOFFSETFROM:-0700
TZOFFSETTO:-0800
TZNAME:PST
DTSTART:20251102T090000
END:STANDARD
BEGIN:DAYLIGHT
TZOFFSETFROM:-0800
TZOFFSETTO:-0700
TZNAME:PDT
DTSTART:20260308T100000
END:DAYLIGHT
BEGIN:STANDARD
TZOFFSETFROM:-0700
TZOFFSETTO:-0800
TZNAME:PST
DTSTART:20261101T090000
END:STANDARD
END:VTIMEZONE
BEGIN:VEVENT
DTSTART;TZID=America/Los_Angeles:20251117T190000
DTEND;TZID=America/Los_Angeles:20251117T203000
DTSTAMP:20260419T141604
CREATED:20250909T190411Z
LAST-MODIFIED:20250909T190411Z
UID:10026193-1763406000-1763411400@youthwell.org
SUMMARY:PFLAG Monthly Support Meeting
DESCRIPTION:Come to a VIRTUAL meeting hosted by PFLAG for education\, sharing\, and support! \n\nWHEN: 7:00-8:30PM every 3rd Monday of the Month\nWHERE: ZOOM [link provided after registration]\nREGISTRATION: Pre-registration required EACH MONTH [must be done before 6PM on the day of the meeting]\n\nREGISTERATION LINK\n\n\n\n 
URL:https://youthwell.org/event/pflag-monthly-support-meeting/2025-11-17/
LOCATION:*VIRTUAL-ZOOM*\, ONLINE\, CA
CATEGORIES:LGBTQ+ Support
ATTACH;FMTTYPE=image/png:https://youthwell.org/wp-content/uploads/2025/09/Calendar-PFLAG.png
ORGANIZER;CN="PFlag":MAILTO:pflagsantabarbara@gmail.com
END:VEVENT
BEGIN:VEVENT
DTSTART;TZID=America/Los_Angeles:20251117T190000
DTEND;TZID=America/Los_Angeles:20251117T203000
DTSTAMP:20260419T141604
CREATED:20251111T183200Z
LAST-MODIFIED:20251111T183200Z
UID:10027039-1763406000-1763411400@youthwell.org
SUMMARY:PFLAG LEADING WITH LOVE Support Meeting [VIRTUAL]
DESCRIPTION:Speaking Up in Ally-ship Around Family and Close Acquaintances. This online gathering will be full of learning\, practice and support! How so we speak up in ally-ship around family members and friends who say or do homophobic and transphobic things. More support now than ever especially as we navigate the spread of so much harmful mis-information and head into the end-of-year holiday season. \nWHEN: Monday\, Nov 17\, 7:00-8:30pm\nWHERE: Click HERE>> for REQUIRED zoom registration
URL:https://youthwell.org/event/pflag-leading-with-love-support-meeting-virtual/
LOCATION:*VIRTUAL-ZOOM*\, ONLINE\, CA
CATEGORIES:LGBTQ+ Support
ATTACH;FMTTYPE=image/png:https://youthwell.org/wp-content/uploads/2025/09/Calendar-PFLAG.png
ORGANIZER;CN="PFlag":MAILTO:pflagsantabarbara@gmail.com
END:VEVENT
END:VCALENDAR