BEGIN:VCALENDAR
VERSION:2.0
PRODID:-//YouthWell - ECPv6.15.20//NONSGML v1.0//EN
CALSCALE:GREGORIAN
METHOD:PUBLISH
X-ORIGINAL-URL:https://youthwell.org
X-WR-CALDESC:Events for YouthWell
REFRESH-INTERVAL;VALUE=DURATION:PT1H
X-Robots-Tag:noindex
X-PUBLISHED-TTL:PT1H
BEGIN:VTIMEZONE
TZID:America/Los_Angeles
BEGIN:DAYLIGHT
TZOFFSETFROM:-0800
TZOFFSETTO:-0700
TZNAME:PDT
DTSTART:20240310T100000
END:DAYLIGHT
BEGIN:STANDARD
TZOFFSETFROM:-0700
TZOFFSETTO:-0800
TZNAME:PST
DTSTART:20241103T090000
END:STANDARD
BEGIN:DAYLIGHT
TZOFFSETFROM:-0800
TZOFFSETTO:-0700
TZNAME:PDT
DTSTART:20250309T100000
END:DAYLIGHT
BEGIN:STANDARD
TZOFFSETFROM:-0700
TZOFFSETTO:-0800
TZNAME:PST
DTSTART:20251102T090000
END:STANDARD
BEGIN:DAYLIGHT
TZOFFSETFROM:-0800
TZOFFSETTO:-0700
TZNAME:PDT
DTSTART:20260308T100000
END:DAYLIGHT
BEGIN:STANDARD
TZOFFSETFROM:-0700
TZOFFSETTO:-0800
TZNAME:PST
DTSTART:20261101T090000
END:STANDARD
END:VTIMEZONE
BEGIN:VEVENT
DTSTART;TZID=America/Los_Angeles:20250721T080000
DTEND;TZID=America/Los_Angeles:20250721T170000
DTSTAMP:20260420T104152
CREATED:20250715T174930Z
LAST-MODIFIED:20250715T191043Z
UID:10025915-1753084800-1753117200@youthwell.org
SUMMARY:Queer Adult Support Group
DESCRIPTION:Join Pacific Pride Foundation in their Queer Adult Support Group – support and explore queer/trans identity and mental health. \nWith MFT trainees: Patric Orr (He/Him) & McKenna Crowley (She/Her)\nSupervised by Bren J Fraser/Licensed Marriage and Family Therapist \nWHO: 18+\nWHEN: Dates TBD/6 Weeks/Possibility of extending ONLINE\nTIME: 7:30-9:00pm\nREGISTER: Email <counseling@pacificpridefoundation.org> or call (805)963-3636 \nFREE to attend!
URL:https://youthwell.org/event/queer-adult-support-group/2025-07-21/
LOCATION:CA
CATEGORIES:LGBTQ+ Support,Support Groups - youth [18-25]
ORGANIZER;CN="Pacific Pride Foundation":MAILTO:hello@pacificpridefoundation.org
END:VEVENT
BEGIN:VEVENT
DTSTART;TZID=America/Los_Angeles:20250721T080000
DTEND;TZID=America/Los_Angeles:20250721T170000
DTSTAMP:20260420T104152
CREATED:20250715T175126Z
LAST-MODIFIED:20250715T191113Z
UID:10025978-1753084800-1753117200@youthwell.org
SUMMARY:Queer Adolescent Support Group
DESCRIPTION:Join Pacific Pride Foundation in their Queer Adolescent Support Group – support\, learn\, and explore queer/trans identity and mental health. \nWith MFT trainees: Graysen Shalhoob (She/They) & McKenna Crowley (She/Her)\nSupervised by Bren J Fraser/Licensed Marriage and Family Therapist \nWHO: Ages 12-17\nWHEN: Dates TBD/6 Weeks/Possibility of extending ONLINE\nTIME: 4:00-5:30pm\nREGISTER: Email <counseling@pacificpridefoundation.org> or call (805)963-3636 \nFREE to attend!
URL:https://youthwell.org/event/queer-adolescent-support-group/2025-07-21/
LOCATION:CA
CATEGORIES:LGBTQ+ Support,Support Groups - youth [10-18]
ORGANIZER;CN="Pacific Pride Foundation":MAILTO:hello@pacificpridefoundation.org
END:VEVENT
BEGIN:VEVENT
DTSTART;TZID=America/Los_Angeles:20250721T190000
DTEND;TZID=America/Los_Angeles:20250721T203000
DTSTAMP:20260420T104153
CREATED:20250703T170333Z
LAST-MODIFIED:20250703T170333Z
UID:10025328-1753124400-1753129800@youthwell.org
SUMMARY:PFLAG Santa Barbara July Meeting
DESCRIPTION:“Gender Queer 101” – please join us for our July PFLAG meeting which will feature a special presenter who will delve into the difference between sex\, gender\, gender expression\, gender roles\, and sexual orientation. There is always time for sharing and support. \nThis is a Zoom meeting and pre-registration is required by emailing <pflagsantabarbara@gmail.com>. \nWHEN: MONDAY July 21st\nWHERE: Virtual Gathering/registration required for Zoom\nTIME: 7:00-8:30pm
URL:https://youthwell.org/event/pflag-santa-barbara-july-meeting/
LOCATION:*VIRTUAL-ZOOM*\, ONLINE\, CA
CATEGORIES:Community Events,LGBTQ+ Support
ATTACH;FMTTYPE=image/png:https://youthwell.org/wp-content/uploads/2025/06/July-21st-support-meeting-website.png
ORGANIZER;CN="PFlag":MAILTO:pflagsantabarbara@gmail.com
END:VEVENT
END:VCALENDAR