BEGIN:VCALENDAR
VERSION:2.0
PRODID:-//YouthWell - ECPv6.15.20//NONSGML v1.0//EN
CALSCALE:GREGORIAN
METHOD:PUBLISH
X-ORIGINAL-URL:https://youthwell.org
X-WR-CALDESC:Events for YouthWell
REFRESH-INTERVAL;VALUE=DURATION:PT1H
X-Robots-Tag:noindex
X-PUBLISHED-TTL:PT1H
BEGIN:VTIMEZONE
TZID:America/Los_Angeles
BEGIN:DAYLIGHT
TZOFFSETFROM:-0800
TZOFFSETTO:-0700
TZNAME:PDT
DTSTART:20250309T100000
END:DAYLIGHT
BEGIN:STANDARD
TZOFFSETFROM:-0700
TZOFFSETTO:-0800
TZNAME:PST
DTSTART:20251102T090000
END:STANDARD
BEGIN:DAYLIGHT
TZOFFSETFROM:-0800
TZOFFSETTO:-0700
TZNAME:PDT
DTSTART:20260308T100000
END:DAYLIGHT
BEGIN:STANDARD
TZOFFSETFROM:-0700
TZOFFSETTO:-0800
TZNAME:PST
DTSTART:20261101T090000
END:STANDARD
BEGIN:DAYLIGHT
TZOFFSETFROM:-0800
TZOFFSETTO:-0700
TZNAME:PDT
DTSTART:20270314T100000
END:DAYLIGHT
BEGIN:STANDARD
TZOFFSETFROM:-0700
TZOFFSETTO:-0800
TZNAME:PST
DTSTART:20271107T090000
END:STANDARD
END:VTIMEZONE
BEGIN:VEVENT
DTSTART;TZID=America/Los_Angeles:20260303T180000
DTEND;TZID=America/Los_Angeles:20260303T193000
DTSTAMP:20260419T084643
CREATED:20260105T203251Z
LAST-MODIFIED:20260105T203251Z
UID:10027139-1772560800-1772566200@youthwell.org
SUMMARY:Grupo de Apoyo para Padres [virtual]
DESCRIPTION:Family Support Group in Spanish: Grupo de apoyo para padres de jóvenes hispanohablantes\, de 10 a 18 años\, que se lleva a cabo semanalmente en persona en Santa Bárbara. \nUn grupo de desarrollo de habilidades para que los padres aborden los desafíos diarios de la crianza de los hijos\, mejoren la comunicación y fortalezcan las relaciones entre padres e hijos. Aprenda a reconocer sus fortalezas\, cómo manejar la crianza de los hijos durante los conflictos y cómo manejar el estrés mientras prioriza su autocuidado. \n\nFECHA/HORA: 1st & 3rd MARTES • 6:00PM-7:30PM • 2x mes • grupo sin cita previa\nUBICACIÓN:  asistir via Zoom\n\n**El enlace de Zoom se le enviará por correo electrónico después de registrarse para el grupo** \nSi tiene preguntas o comentarios\, envíe un correo electrónico GROUPS@youthwell.org o llamar 805.770.1930 ext 103 \n\nFor parents/caregivers of youth ages 10-18\, a support group for Spanish speaking parents of youth\, held weekly in-person in Santa Barbara. \nA skills-building group for caregivers to address the daily challenges of parenting\, improve communication\, and strengthen parent-child relationships. Learn to recognize your strengths\, how to handle parenting during conflict\, and how to manage stress while prioritizing your self-care. \nWHEN: 1st & 3rd TUESDAYS from 6:00-7:30pm\nWHERE: via ZOOM \nREGISTRATION: REQUIRED> [zoom link shared after registration] \n 
URL:https://youthwell.org/event/grupo-de-apoyo-para-padres-virtual/2026-03-03/
LOCATION:YouthWell\, 1528 Chapala Street\, Santa Barbara\, 93101\, United States
CATEGORIES:Clases en español,Family & Community Groups,Parent Education,Support Groups - parents,YouthWell Groups & Workshops
ORGANIZER;CN="YouthWell":MAILTO:outreach@youthwell.org
END:VEVENT
BEGIN:VEVENT
DTSTART;TZID=America/Los_Angeles:20260306T120000
DTEND;TZID=America/Los_Angeles:20260306T133000
DTSTAMP:20260419T084643
CREATED:20260305T175505Z
LAST-MODIFIED:20260305T175505Z
UID:10027448-1772798400-1772803800@youthwell.org
SUMMARY:VIRTUAL WORKSHOP - Neurodiversity 101: Understanding Lived Experiences of Neurodivergent Youth and Families
DESCRIPTION:Join us as we discuss building neuro-affirming systems in schools and communities. This workshop is part of our Neurodiversityt 101 series for our Youth Linkages Network. Anyone is invited to participate! \n\nWHEN: Friday\, March 6 from 12:00pm-1:30pm\nWHERE: Virtual on ZOOM (link shared after registration)\nREGISTRATION: **REQUIRED RSVP here >>\nCOST: FREE\nCONTACT: Email navigator@youthwell.org\n\nYLN aims to: \n\nConvene resource navigators\, family advocates\, probation officers\, local crisis lines\, and school counselors so that they are better equipped to support families\nStay educated about the available resources in SB County\nBuild stronger health linkages in order to foster “warm handoffs” and close the loop when referrals are made to ensure that youth and caregivers are accessing the services they need\nShare referral experiences and learn from each other\nCollect anecdotal data to better understand the barriers and challenges to accessing services
URL:https://youthwell.org/event/virtual-workshop-neurodiversity-101-understanding-lived-experiences-of-neurodivergent-youth-and-families/
LOCATION:*VIRTUAL-ZOOM*\, ONLINE\, CA
CATEGORIES:Activities/Classes,Clases en español,Parent Education,Workshops, Trainings, Speakers,YouthWell Groups & Workshops
ATTACH;FMTTYPE=image/png:https://youthwell.org/wp-content/uploads/2026/01/Youth-Linkages-Network.png
ORGANIZER;CN="YouthWell":MAILTO:outreach@youthwell.org
END:VEVENT
END:VCALENDAR