BEGIN:VCALENDAR
VERSION:2.0
PRODID:-//YouthWell - ECPv6.15.20//NONSGML v1.0//EN
CALSCALE:GREGORIAN
METHOD:PUBLISH
X-WR-CALNAME:YouthWell
X-ORIGINAL-URL:https://youthwell.org
X-WR-CALDESC:Events for YouthWell
REFRESH-INTERVAL;VALUE=DURATION:PT1H
X-Robots-Tag:noindex
X-PUBLISHED-TTL:PT1H
BEGIN:VTIMEZONE
TZID:America/Los_Angeles
BEGIN:DAYLIGHT
TZOFFSETFROM:-0800
TZOFFSETTO:-0700
TZNAME:PDT
DTSTART:20240310T100000
END:DAYLIGHT
BEGIN:STANDARD
TZOFFSETFROM:-0700
TZOFFSETTO:-0800
TZNAME:PST
DTSTART:20241103T090000
END:STANDARD
BEGIN:DAYLIGHT
TZOFFSETFROM:-0800
TZOFFSETTO:-0700
TZNAME:PDT
DTSTART:20250309T100000
END:DAYLIGHT
BEGIN:STANDARD
TZOFFSETFROM:-0700
TZOFFSETTO:-0800
TZNAME:PST
DTSTART:20251102T090000
END:STANDARD
BEGIN:DAYLIGHT
TZOFFSETFROM:-0800
TZOFFSETTO:-0700
TZNAME:PDT
DTSTART:20260308T100000
END:DAYLIGHT
BEGIN:STANDARD
TZOFFSETFROM:-0700
TZOFFSETTO:-0800
TZNAME:PST
DTSTART:20261101T090000
END:STANDARD
END:VTIMEZONE
BEGIN:VEVENT
DTSTART;TZID=America/Los_Angeles:20251117T170000
DTEND;TZID=America/Los_Angeles:20251117T180000
DTSTAMP:20260420T125414
CREATED:20240910T190145Z
LAST-MODIFIED:20250128T225204Z
UID:10023196-1763398800-1763402400@youthwell.org
SUMMARY:Support Group for YOUTH of Addicted Family Members
DESCRIPTION:For Youth Ages 12 – 17.\nConducted in English and Spanish \nWhy Participate?\n1) Learn: Youth will receive education around substance use and the disease of addiction.\n2) Feel: Youth will develop positive feelings about themselves and how to cope with problems safely.\n3) Connection: Youth will realize they are not alone and learn about different support systems available. \nFor more information\, please contact: Diversion Programs Coordinator\, Diana Garcia\nPhone: (805)456-1229\nEmail: dgarcia@cadasb.org
URL:https://youthwell.org/event/support-group-supportive-education-for-children-of-addicted-family-members/2025-11-17/
LOCATION:Daniel Bryant Treatment Center\, 1111 Garden Street (1st Floor)\, Santa Barbara\, CA\, 93102\, United States
CATEGORIES:Clases en español,Support Groups - youth [10-18],youthwell newsletter feature
END:VEVENT
BEGIN:VEVENT
DTSTART;TZID=America/Los_Angeles:20251118T180000
DTEND;TZID=America/Los_Angeles:20251118T193000
DTSTAMP:20260420T125414
CREATED:20250819T222230Z
LAST-MODIFIED:20250911T185136Z
UID:10026139-1763488800-1763494200@youthwell.org
SUMMARY:Grupo de Apoyo para Padres [virtual]
DESCRIPTION:Family Support Group in Spanish: Grupo de apoyo para padres de jóvenes hispanohablantes\, de 10 a 18 años\, que se lleva a cabo semanalmente en persona en Santa Bárbara. \nUn grupo de desarrollo de habilidades para que los padres aborden los desafíos diarios de la crianza de los hijos\, mejoren la comunicación y fortalezcan las relaciones entre padres e hijos. Aprenda a reconocer sus fortalezas\, cómo manejar la crianza de los hijos durante los conflictos y cómo manejar el estrés mientras prioriza su autocuidado. \n\nFECHA/HORA: 1st & 3rd MARTES • 6:00PM-7:30PM • 2x mes • grupo sin cita previa\nUBICACIÓN:  asistir via Zoom\n\n**El enlace de Zoom se le enviará por correo electrónico después de registrarse para el grupo** \nSi tiene preguntas o comentarios\, envíe un correo electrónico GROUPS@youthwell.org o llamar 805.770.1930 ext 103 \n\nFor parents/caregivers of youth ages 10-18\, a support group for Spanish speaking parents of youth\, held weekly in-person in Santa Barbara. \nA skills-building group for caregivers to address the daily challenges of parenting\, improve communication\, and strengthen parent-child relationships. Learn to recognize your strengths\, how to handle parenting during conflict\, and how to manage stress while prioritizing your self-care. \nWHEN: 1st & 3rd TUESDAYS from 6:00-7:30pm\nWHERE: via ZOOM \nREGISTRATION: REQUIRED> [zoom link shared after registration] \n 
URL:https://youthwell.org/event/grupo-de-apoyo-para-padres-2/2025-11-18/
LOCATION:YouthWell\, 1528 Chapala Street\, Santa Barbara\, 93101\, United States
CATEGORIES:Clases en español,Family & Community Groups,Parent Education,Support Groups - parents,YouthWell Groups & Workshops
ORGANIZER;CN="YouthWell":MAILTO:outreach@youthwell.org
END:VEVENT
BEGIN:VEVENT
DTSTART;TZID=America/Los_Angeles:20251119T183000
DTEND;TZID=America/Los_Angeles:20251119T193000
DTSTAMP:20260420T125414
CREATED:20251027T205741Z
LAST-MODIFIED:20251027T205755Z
UID:10026795-1763577000-1763580600@youthwell.org
SUMMARY:Parent Education - Cyberbullying
DESCRIPTION:Join Santa Barbara County Department of Behavioral Wellness at Santa Ynez High School in an engaging and informative session designed to help you gain awareness of what’s really happening in your teen’s digital world. Learn how to support them\, set boundaries\, and communicate more effectively to keep them safe in the online scene. Spanish interpretation is available. \nWHEN: WEDNESDAY\, November 19th from 6:30-7:30pm\nWHERE: Santa Ynez High School – 2975 CA-246\, Santa Ynez\, CA 93460
URL:https://youthwell.org/event/parent-education-cyberbullying/
LOCATION:Santa Ynez High School\, 2975 CA-246\, Santa Ynez\, CA\, 93460\, United States
CATEGORIES:Clases en español,Parent Education
ATTACH;FMTTYPE=image/png:https://youthwell.org/wp-content/uploads/2025/10/Calendar-SB-County-BWell.png
END:VEVENT
END:VCALENDAR