BEGIN:VCALENDAR
VERSION:2.0
PRODID:-//YouthWell - ECPv6.15.20//NONSGML v1.0//EN
CALSCALE:GREGORIAN
METHOD:PUBLISH
X-WR-CALNAME:YouthWell
X-ORIGINAL-URL:https://youthwell.org
X-WR-CALDESC:Events for YouthWell
REFRESH-INTERVAL;VALUE=DURATION:PT1H
X-Robots-Tag:noindex
X-PUBLISHED-TTL:PT1H
BEGIN:VTIMEZONE
TZID:America/Los_Angeles
BEGIN:DAYLIGHT
TZOFFSETFROM:-0800
TZOFFSETTO:-0700
TZNAME:PDT
DTSTART:20250309T100000
END:DAYLIGHT
BEGIN:STANDARD
TZOFFSETFROM:-0700
TZOFFSETTO:-0800
TZNAME:PST
DTSTART:20251102T090000
END:STANDARD
BEGIN:DAYLIGHT
TZOFFSETFROM:-0800
TZOFFSETTO:-0700
TZNAME:PDT
DTSTART:20260308T100000
END:DAYLIGHT
BEGIN:STANDARD
TZOFFSETFROM:-0700
TZOFFSETTO:-0800
TZNAME:PST
DTSTART:20261101T090000
END:STANDARD
BEGIN:DAYLIGHT
TZOFFSETFROM:-0800
TZOFFSETTO:-0700
TZNAME:PDT
DTSTART:20270314T100000
END:DAYLIGHT
BEGIN:STANDARD
TZOFFSETFROM:-0700
TZOFFSETTO:-0800
TZNAME:PST
DTSTART:20271107T090000
END:STANDARD
END:VTIMEZONE
BEGIN:VEVENT
DTSTART;TZID=America/Los_Angeles:20260128T093000
DTEND;TZID=America/Los_Angeles:20260128T113000
DTSTAMP:20260419T075029
CREATED:20251230T224743Z
LAST-MODIFIED:20251231T022507Z
UID:10027057-1769592600-1769599800@youthwell.org
SUMMARY:Haciendo las Preguntas Correctas
DESCRIPTION:¿Alguna vez siente que no está recibiendo la información que\nbusca cuando se comunica con el equipo escolar de su hijo?\nÚnase a Alpha FEC y aprenda estrategias efectivas cuando se\ntrata de hacer las preguntas correctas y comunicarse de\nmanera productiva \nPara más información: Gema Herrera\, gherrera@alphasb.org\, 805-452-8789. \nÚnase a la reunión a través de Zoom:\nIdentificación de la junta: 811 2976 9245
URL:https://youthwell.org/event/haciendo-las-preguntas-correctas/
LOCATION:*VIRTUAL-ZOOM*\, ONLINE\, CA
CATEGORIES:Clases en español,Parent Education
ATTACH;FMTTYPE=image/png:https://youthwell.org/wp-content/uploads/2023/05/Screen-Shot-2023-05-28-at-4.55.12-PM-e1686188577533.png
END:VEVENT
END:VCALENDAR