BEGIN:VCALENDAR
VERSION:2.0
PRODID:-//YouthWell - ECPv6.15.20//NONSGML v1.0//EN
CALSCALE:GREGORIAN
METHOD:PUBLISH
X-ORIGINAL-URL:https://youthwell.org
X-WR-CALDESC:Events for YouthWell
REFRESH-INTERVAL;VALUE=DURATION:PT1H
X-Robots-Tag:noindex
X-PUBLISHED-TTL:PT1H
BEGIN:VTIMEZONE
TZID:America/Los_Angeles
BEGIN:DAYLIGHT
TZOFFSETFROM:-0800
TZOFFSETTO:-0700
TZNAME:PDT
DTSTART:20240310T100000
END:DAYLIGHT
BEGIN:STANDARD
TZOFFSETFROM:-0700
TZOFFSETTO:-0800
TZNAME:PST
DTSTART:20241103T090000
END:STANDARD
BEGIN:DAYLIGHT
TZOFFSETFROM:-0800
TZOFFSETTO:-0700
TZNAME:PDT
DTSTART:20250309T100000
END:DAYLIGHT
BEGIN:STANDARD
TZOFFSETFROM:-0700
TZOFFSETTO:-0800
TZNAME:PST
DTSTART:20251102T090000
END:STANDARD
BEGIN:DAYLIGHT
TZOFFSETFROM:-0800
TZOFFSETTO:-0700
TZNAME:PDT
DTSTART:20260308T100000
END:DAYLIGHT
BEGIN:STANDARD
TZOFFSETFROM:-0700
TZOFFSETTO:-0800
TZNAME:PST
DTSTART:20261101T090000
END:STANDARD
END:VTIMEZONE
BEGIN:VEVENT
DTSTART;TZID=America/Los_Angeles:20250906T150000
DTEND;TZID=America/Los_Angeles:20250906T170000
DTSTAMP:20260421T121709
CREATED:20250730T004421Z
LAST-MODIFIED:20250730T004421Z
UID:10025995-1757170800-1757178000@youthwell.org
SUMMARY:Voces Que Sanan Community Theater Performance
DESCRIPTION:🎭✨ You’re invited to a very special event in Lompoc! ✨🎭 \nVoces Que Sanan warmly invites you to join us for the presentation of results from our community theater pilot project. This will be a powerful space for healing and collective storytelling\, where Latina women will share their journeys through theater and participatory photography. \n🗓️ Saturday\, September 6\, 2025\n⏰ 3:00 – 5:00 PM\n📍 100 E Locust Ave.\, Lompoc\, CA \nThis event is for individuals and organizations dedicated to emotional wellness\, social justice\, community arts\, and working with Latinx communities. 🌈❤️ \n🔗 Register by scanning the QR code or emailing info@vocesquesanan.org\n🎟️ Free admission – Limited spots available. \nYour presence is a meaningful way to support healing\, creativity\, and community transformation. 💜
URL:https://youthwell.org/event/voces-que-sanan-community-theater-performance/
LOCATION:Lompoc Veterans Memorial Building\, 100 E Locust Avenue\, Lompoc\, 93436\, United States
CATEGORIES:Clases en español,Community Events
ATTACH;FMTTYPE=image/png:https://youthwell.org/wp-content/uploads/2025/07/Screenshot-2025-07-29-at-5.43.55 PM.png
ORGANIZER;CN="Voces Que Sanan":MAILTO:info@vocesquesanan.org
END:VEVENT
END:VCALENDAR