BEGIN:VCALENDAR
VERSION:2.0
PRODID:-//YouthWell - ECPv6.15.20//NONSGML v1.0//EN
CALSCALE:GREGORIAN
METHOD:PUBLISH
X-WR-CALNAME:YouthWell
X-ORIGINAL-URL:https://youthwell.org
X-WR-CALDESC:Events for YouthWell
REFRESH-INTERVAL;VALUE=DURATION:PT1H
X-Robots-Tag:noindex
X-PUBLISHED-TTL:PT1H
BEGIN:VTIMEZONE
TZID:America/Los_Angeles
BEGIN:DAYLIGHT
TZOFFSETFROM:-0800
TZOFFSETTO:-0700
TZNAME:PDT
DTSTART:20260308T100000
END:DAYLIGHT
BEGIN:STANDARD
TZOFFSETFROM:-0700
TZOFFSETTO:-0800
TZNAME:PST
DTSTART:20261101T090000
END:STANDARD
BEGIN:DAYLIGHT
TZOFFSETFROM:-0800
TZOFFSETTO:-0700
TZNAME:PDT
DTSTART:20270314T100000
END:DAYLIGHT
BEGIN:STANDARD
TZOFFSETFROM:-0700
TZOFFSETTO:-0800
TZNAME:PST
DTSTART:20271107T090000
END:STANDARD
BEGIN:DAYLIGHT
TZOFFSETFROM:-0800
TZOFFSETTO:-0700
TZNAME:PDT
DTSTART:20280312T100000
END:DAYLIGHT
BEGIN:STANDARD
TZOFFSETFROM:-0700
TZOFFSETTO:-0800
TZNAME:PST
DTSTART:20281105T090000
END:STANDARD
END:VTIMEZONE
BEGIN:VEVENT
DTSTART;TZID=America/Los_Angeles:20270514T180000
DTEND;TZID=America/Los_Angeles:20270514T200000
DTSTAMP:20260419T230411
CREATED:20260304T013220Z
LAST-MODIFIED:20260304T013220Z
UID:10028397-1810317600-1810324800@youthwell.org
SUMMARY:Friday Night Frisbee at West Beach - SB Youth Ultimate
DESCRIPTION:Start your weekends this spring with Friday Night Frisbee! We welcome all 10-14 year old boys & girls that are enrolled in grades 6-8 to sign up for 8 weeks of frisbee fun! No experience is necessary. This is more than just a league\, it’s a community event. We’ll have a free “Frisbee Fun Zone” with games set up for siblings\, parents and onlookers to enjoy. \n\nWHEN: Fridays (starting March 27th to May 15th) from 6:00pm-8:00pm\nWHERE: West Beach\nREGISTRATION: RSVP required >>\nCOST: $200 **financial assistance available\nCONTACT: Email friday-night-frisbee-admins@sbyu.ultimatecentral.com\n\nFriday Night Frisbee starts on Friday March 27th from 6-8pm at West Beach and continues until May 15th.
URL:https://youthwell.org/event/friday-night-frisbee-at-west-beach-sb-youth-ultimate/2027-05-14/
LOCATION:West Beach
CATEGORIES:Activities/Classes,Community Events
ATTACH;FMTTYPE=image/png:https://youthwell.org/wp-content/uploads/2026/03/Calendar-HEADINGS-7.png
END:VEVENT
END:VCALENDAR